BEGIN:VCALENDAR
VERSION:2.0
PRODID:icalendar-ruby
CALSCALE:GREGORIAN
BEGIN:VTIMEZONE
TZID:America/New_York
BEGIN:DAYLIGHT
DTSTART:20260308T030000
TZOFFSETFROM:-0500
TZOFFSETTO:-0400
RRULE:FREQ=YEARLY;BYDAY=2SU;BYMONTH=3
TZNAME:EDT
END:DAYLIGHT
BEGIN:STANDARD
DTSTART:20261101T010000
TZOFFSETFROM:-0400
TZOFFSETTO:-0500
RRULE:FREQ=YEARLY;BYDAY=1SU;BYMONTH=11
TZNAME:EST
END:STANDARD
END:VTIMEZONE
BEGIN:VEVENT
DTSTAMP:20260421T162921Z
UID:e7b1d316-23ea-4980-8964-35a60025418c
DTSTART:20260421T153000
DTEND:20260421T163000
DESCRIPTION:
LOCATION:
SUMMARY:Grades Due
END:VEVENT
BEGIN:VEVENT
DTSTAMP:20260421T162921Z
UID:bdd90c3a-897b-4e05-bf74-e935a21079aa
DTSTART;VALUE=DATE:20260424
DTEND;VALUE=DATE:20260425
DESCRIPTION:
LOCATION:
SUMMARY:Report Cards Mailed/Sent Home
END:VEVENT
BEGIN:VEVENT
DTSTAMP:20260421T162921Z
UID:adeea717-a891-47a3-98e7-53b95e72139c
DTSTART:20260505T180000
DTEND:20260505T190000
DESCRIPTION:
LOCATION:
SUMMARY:Board of Education Budget Meeting
END:VEVENT
BEGIN:VEVENT
DTSTAMP:20260421T162921Z
UID:8610a818-bdd5-47d1-9954-697f9f332ce2
DTSTART;VALUE=DATE:20260509
DTEND;VALUE=DATE:20260510
DESCRIPTION:
LOCATION:
SUMMARY:Junior Prom
END:VEVENT
BEGIN:VEVENT
DTSTAMP:20260421T162921Z
UID:409d979a-b5fd-4fb5-b68b-8e03f638f9ba
DTSTART:20260512T180000
DTEND:20260512T193000
DESCRIPTION:Grades 7-12 & Chamber
LOCATION:
SUMMARY:Spring Concert
END:VEVENT
BEGIN:VEVENT
DTSTAMP:20260421T162921Z
UID:bc30a45d-0413-4b91-8459-fcd91dd613bd
DTSTART:20260519T120000
DTEND:20260519T200000
DESCRIPTION:
LOCATION:
SUMMARY:Board of Education Budget Vote
END:VEVENT
BEGIN:VEVENT
DTSTAMP:20260421T162921Z
UID:ea1c9632-00e3-4e47-b5d3-879f6d5a5571
DTSTART:20260519T180000
DTEND:20260519T193000
DESCRIPTION:
LOCATION:
SUMMARY:Academic Awards Ceremony
END:VEVENT
BEGIN:VEVENT
DTSTAMP:20260421T162921Z
UID:97c0f507-5bc9-44e6-aa49-0e1ff18bc98b
DTSTART:20260520T180000
DTEND:20260520T190000
DESCRIPTION:
LOCATION:
SUMMARY:Board of Education Meeting
END:VEVENT
BEGIN:VEVENT
DTSTAMP:20260421T162921Z
UID:736f89ef-cf2f-47bd-a9a4-a5ee6dab04c4
DTSTART;VALUE=DATE:20260522
DTEND;VALUE=DATE:20260523
DESCRIPTION:
LOCATION:
SUMMARY:End of 4th Interim
END:VEVENT
BEGIN:VEVENT
DTSTAMP:20260421T162921Z
UID:8d0a4001-898f-4702-bf7b-b4dc6cdc7fba
DTSTART;VALUE=DATE:20260522
DTEND;VALUE=DATE:20260525
DESCRIPTION:
LOCATION:
SUMMARY:Senior Class Trip
END:VEVENT
BEGIN:VEVENT
DTSTAMP:20260421T162921Z
UID:2ca40a88-8610-4df9-bce1-ebfa8bc3d5dc
DTSTART;VALUE=DATE:20260525
DTEND;VALUE=DATE:20260526
DESCRIPTION:
LOCATION:
SUMMARY:Memorial Day - No School
END:VEVENT
BEGIN:VEVENT
DTSTAMP:20260421T162921Z
UID:69a71d61-c1d3-472a-b8f1-bd693da0c408
DTSTART:20260527T153000
DTEND:20260527T163000
DESCRIPTION:
LOCATION:
SUMMARY:Progress Reports Due
END:VEVENT
BEGIN:VEVENT
DTSTAMP:20260421T162921Z
UID:69a8af1c-1e2d-41d0-acda-02a94dd5f639
DTSTART;VALUE=DATE:20260529
DTEND;VALUE=DATE:20260530
DESCRIPTION:
LOCATION:
SUMMARY:NYSSMA Solo Festival
END:VEVENT
BEGIN:VEVENT
DTSTAMP:20260421T162921Z
UID:01f03993-c5e3-4333-b9ee-aa8ccd0b5737
DTSTART;VALUE=DATE:20260529
DTEND;VALUE=DATE:20260530
DESCRIPTION:
LOCATION:
SUMMARY:Progress Reports Available in Portal
END:VEVENT
BEGIN:VEVENT
DTSTAMP:20260421T162921Z
UID:f659e68b-88a9-4c1d-832a-d38056ea699a
DTSTART;VALUE=DATE:20260530
DTEND;VALUE=DATE:20260531
DESCRIPTION:
LOCATION:
SUMMARY:NYSSMA Solo Festival
END:VEVENT
BEGIN:VEVENT
DTSTAMP:20260421T162921Z
UID:f88e3033-bf25-4d8a-b3dd-fc89890f51cb
DTSTART:20260603T183000
DTEND:20260603T193000
DESCRIPTION:
LOCATION:
SUMMARY:Coffeehouse Concert
END:VEVENT
BEGIN:VEVENT
DTSTAMP:20260421T162921Z
UID:709a253d-1621-4e99-a61d-416817daae5e
DTSTART:20260609T081500
DTEND:20260609T111500
DESCRIPTION:
LOCATION:
SUMMARY:English Language Arts Regents
END:VEVENT
BEGIN:VEVENT
DTSTAMP:20260421T162921Z
UID:343318e6-6058-4976-9b0d-4fe59082508f
DTSTART:20260610T081500
DTEND:20260610T111500
DESCRIPTION:
LOCATION:
SUMMARY:Algebra II Regents
END:VEVENT
BEGIN:VEVENT
DTSTAMP:20260421T162921Z
UID:9e6e0031-17f6-4b26-87fe-2a4e0202e954
DTSTART:20260610T180000
DTEND:20260610T190000
DESCRIPTION:
LOCATION:
SUMMARY:Honor Society Senior Recognition
END:VEVENT
BEGIN:VEVENT
DTSTAMP:20260421T162921Z
UID:7c2a428a-77dd-4603-b7bf-2ab4b555295c
DTSTART;VALUE=DATE:20260615
DTEND;VALUE=DATE:20260616
DESCRIPTION:
LOCATION:
SUMMARY:HS Final Exams
END:VEVENT
BEGIN:VEVENT
DTSTAMP:20260421T162921Z
UID:87b99d58-20e8-4fa1-add1-e1224143871f
DTSTART:20260615T180000
DTEND:20260615T190000
DESCRIPTION:
LOCATION:
SUMMARY:Board of Education Meeting
END:VEVENT
BEGIN:VEVENT
DTSTAMP:20260421T162921Z
UID:c2ca1a05-4157-41d2-b4ad-95d3b3fa94fb
DTSTART;VALUE=DATE:20260616
DTEND;VALUE=DATE:20260617
DESCRIPTION:
LOCATION:
SUMMARY:HS Final Exams
END:VEVENT
BEGIN:VEVENT
DTSTAMP:20260421T162921Z
UID:32aec4de-1ab9-4ed1-8cce-b5061ca051b8
DTSTART;VALUE=DATE:20260616
DTEND;VALUE=DATE:20260617
DESCRIPTION:
LOCATION:
SUMMARY:Last Day of Class for High School
END:VEVENT
BEGIN:VEVENT
DTSTAMP:20260421T162921Z
UID:140bd7d6-ea6d-4e08-a4fa-6f990c329ae7
DTSTART:20260617T081500
DTEND:20260617T111500
DESCRIPTION:
LOCATION:
SUMMARY:Algebra I Regents
END:VEVENT
BEGIN:VEVENT
DTSTAMP:20260421T162921Z
UID:b5a58239-681f-458c-be43-3a4c02399975
DTSTART:20260617T121500
DTEND:20260617T151500
DESCRIPTION:
LOCATION:
SUMMARY:Global History Regents
END:VEVENT
BEGIN:VEVENT
DTSTAMP:20260421T162921Z
UID:ebfc09a9-c915-45f3-bde5-5c8dab08387c
DTSTART:20260618T081500
DTEND:20260618T111500
DESCRIPTION:
LOCATION:
SUMMARY:Life Science: Biology
END:VEVENT
BEGIN:VEVENT
DTSTAMP:20260421T162921Z
UID:53b1acd6-af56-479a-8489-9282b4031e96
DTSTART:20260618T121500
DTEND:20260618T151500
DESCRIPTION:
LOCATION:
SUMMARY:Physical Setting/Earth Science
END:VEVENT
BEGIN:VEVENT
DTSTAMP:20260421T162921Z
UID:9888cbe1-ec50-4543-b7bc-a845d5e8167f
DTSTART;VALUE=DATE:20260619
DTEND;VALUE=DATE:20260620
DESCRIPTION:
LOCATION:
SUMMARY:Baccalaureate
END:VEVENT
BEGIN:VEVENT
DTSTAMP:20260421T162921Z
UID:7a12510f-599a-4196-89a8-0e6e7d8fa98a
DTSTART;VALUE=DATE:20260619
DTEND;VALUE=DATE:20260620
DESCRIPTION:
LOCATION:
SUMMARY:Juneteenth - No School
END:VEVENT
BEGIN:VEVENT
DTSTAMP:20260421T162921Z
UID:16664ff2-9d05-4a40-b493-b4571294f1d9
DTSTART:20260622T153000
DTEND:20260622T163000
DESCRIPTION:
LOCATION:
SUMMARY:Grades Due
END:VEVENT
BEGIN:VEVENT
DTSTAMP:20260421T162921Z
UID:8885f9f8-0f8b-4d7d-8c75-7502f3d4e744
DTSTART:20260623T081500
DTEND:20260623T111500
DESCRIPTION:
LOCATION:
SUMMARY:US History & Government Regents
END:VEVENT
BEGIN:VEVENT
DTSTAMP:20260421T162921Z
UID:7b210966-a816-43b7-ada8-b95fb330babd
DTSTART:20260623T121500
DTEND:20260623T151500
DESCRIPTION:
LOCATION:
SUMMARY:Geometry Regents
END:VEVENT
BEGIN:VEVENT
DTSTAMP:20260421T162921Z
UID:681d3ef7-2021-462f-ba79-dcf9ab99564f
DTSTART:20260624T081500
DTEND:20260624T111500
DESCRIPTION:
LOCATION:
SUMMARY:Physical Setting/Chemistry
END:VEVENT
BEGIN:VEVENT
DTSTAMP:20260421T162921Z
UID:aae888fa-55ae-411e-8803-2e62b05a02ec
DTSTART:20260625T081500
DTEND:20260625T111500
DESCRIPTION:
LOCATION:
SUMMARY:Physical Setting Physics
END:VEVENT
BEGIN:VEVENT
DTSTAMP:20260421T162921Z
UID:4a066583-7c85-4c56-8e08-d3667109f834
DTSTART;VALUE=DATE:20260626
DTEND;VALUE=DATE:20260627
DESCRIPTION:
LOCATION:
SUMMARY:End of 4th Quarter
END:VEVENT
BEGIN:VEVENT
DTSTAMP:20260421T162921Z
UID:b5a98b59-42da-4948-9c23-bf96490c1c96
DTSTART:20260626T180000
DTEND:20260626T193000
DESCRIPTION:
LOCATION:
SUMMARY:Graduation
END:VEVENT
BEGIN:VEVENT
DTSTAMP:20260421T162921Z
UID:acdb926d-49df-49d3-82c4-cd7063ea1110
DTSTART;VALUE=DATE:20260701
DTEND;VALUE=DATE:20260702
DESCRIPTION:
LOCATION:
SUMMARY:Report Cards Mailed/Sent Home
END:VEVENT
END:VCALENDAR
