BEGIN:VCALENDAR
VERSION:2.0
PRODID:icalendar-ruby
CALSCALE:GREGORIAN
BEGIN:VTIMEZONE
TZID:America/Chicago
BEGIN:DAYLIGHT
DTSTART:20260308T030000
TZOFFSETFROM:-0600
TZOFFSETTO:-0500
RRULE:FREQ=YEARLY;BYDAY=2SU;BYMONTH=3
TZNAME:CDT
END:DAYLIGHT
BEGIN:STANDARD
DTSTART:20261101T010000
TZOFFSETFROM:-0500
TZOFFSETTO:-0600
RRULE:FREQ=YEARLY;BYDAY=1SU;BYMONTH=11
TZNAME:CST
END:STANDARD
END:VTIMEZONE
BEGIN:VEVENT
DTSTAMP:20260421T185027Z
UID:9f31b077-58f3-45ef-9360-800068fddc2d
DTSTART;VALUE=DATE:20260501
DTEND;VALUE=DATE:20260502
DESCRIPTION:<p>Grades K-3:  11:40 am</p><p>Grades 4-6:  11:15 am</p><p>Grad
 es 7-8:  11:00 am</p>
LOCATION:
SUMMARY:School Improvement Planning\, K-8 Early Dismissal (No AM PFEC) 
END:VEVENT
BEGIN:VEVENT
DTSTAMP:20260421T185027Z
UID:85f95b88-4910-4143-99b9-891b1937d26a
DTSTART;VALUE=DATE:20260515
DTEND;VALUE=DATE:20260516
DESCRIPTION:<p>Grades K-3:  11:40 am</p><p>Grades 4-6:  11:15 am</p><p>Grad
 es 7-8:  11:00 am</p>
LOCATION:
SUMMARY:School Improvement Planning\, K-8 Early Dismissal (No PM PFEC) 
END:VEVENT
BEGIN:VEVENT
DTSTAMP:20260421T185027Z
UID:c6fe1980-b80d-4ba2-afa7-a2ff4d0c35bd
DTSTART;VALUE=DATE:20260522
DTEND;VALUE=DATE:20260523
DESCRIPTION:
LOCATION:
SUMMARY:FINAL DAY FOR BOTH AM & PM PFEC STUDENTS
END:VEVENT
BEGIN:VEVENT
DTSTAMP:20260421T185027Z
UID:f71ae91e-792f-4b4c-9d81-0efa78514447
DTSTART;VALUE=DATE:20260525
DTEND;VALUE=DATE:20260526
DESCRIPTION:
LOCATION:
SUMMARY:NO SCHOOL - MEMORIAL DAY HOLIDAY
END:VEVENT
BEGIN:VEVENT
DTSTAMP:20260421T185027Z
UID:9af7e520-ea35-4a16-870e-af71eb9e5ff9
DTSTART;VALUE=DATE:20260526
DTEND;VALUE=DATE:20260527
DESCRIPTION:
LOCATION:
SUMMARY:**IF NO EMERGENCY DAYS: Final Day of Classes/Early Dismissal/School
  Improvement Planning
END:VEVENT
BEGIN:VEVENT
DTSTAMP:20260421T185027Z
UID:b94d1bb1-8c5a-440a-a628-b2671f78b406
DTSTART;VALUE=DATE:20260602
DTEND;VALUE=DATE:20260603
DESCRIPTION:
LOCATION:
SUMMARY:** Last Possible Day for staff and students if all 5 emergency days
  are used
END:VEVENT
END:VCALENDAR
