BEGIN:VCALENDAR
VERSION:2.0
PRODID:icalendar-ruby
CALSCALE:GREGORIAN
BEGIN:VTIMEZONE
TZID:America/New_York
BEGIN:DAYLIGHT
DTSTART:20260308T030000
TZOFFSETFROM:-0500
TZOFFSETTO:-0400
RRULE:FREQ=YEARLY;BYDAY=2SU;BYMONTH=3
TZNAME:EDT
END:DAYLIGHT
BEGIN:STANDARD
DTSTART:20261101T010000
TZOFFSETFROM:-0400
TZOFFSETTO:-0500
RRULE:FREQ=YEARLY;BYDAY=1SU;BYMONTH=11
TZNAME:EST
END:STANDARD
END:VTIMEZONE
BEGIN:VEVENT
DTSTAMP:20260421T114230Z
UID:57f5301e-3f58-44e1-affc-1b72ceda314f
DTSTART:20260501T180000
DTEND:20260501T200000
DESCRIPTION:
LOCATION:Champions at G. Harold Antrim Elementary School\, 401 Niblick St\,
  Point Pleasant\, NJ 08742\, USA
SUMMARY:HS Cabaret Night (Singing Showcasr)
END:VEVENT
BEGIN:VEVENT
DTSTAMP:20260421T114230Z
UID:c662f415-5b75-458b-8263-aee3c0b9fdee
DTSTART:20260502T110000
DTEND:20260502T150000
DESCRIPTION:
LOCATION:Point Pleasant Beach High School\, 700 Trenton Ave\, Point Pleasan
 t Beach\, NJ 08742\, USA
SUMMARY:HS MPA Clothing Drive
END:VEVENT
BEGIN:VEVENT
DTSTAMP:20260421T114230Z
UID:4701af11-3c9f-4df4-b92d-59e33025da0b
DTSTART:20260502T140000
DTEND:20260502T150000
DESCRIPTION:Please contact The Little Point Bookshop for more information. 
 917-400-5626
LOCATION:Point Pleasant Beach High School\, 700 Trenton Ave\, Point Pleasan
 t Beach\, NJ 08742\, USA
SUMMARY:Dana Perino Novel Debut
END:VEVENT
BEGIN:VEVENT
DTSTAMP:20260421T114230Z
UID:d4e2e3d1-b69c-442d-bb8a-5046c3ba8e65
DTSTART;VALUE=DATE:20260504
DTEND;VALUE=DATE:20260516
DESCRIPTION:
LOCATION:
SUMMARY:HS AP Testing
END:VEVENT
BEGIN:VEVENT
DTSTAMP:20260421T114230Z
UID:f30b225b-510a-45e2-bb3d-d1be8885e90e
DTSTART:20260504T180000
DTEND:20260504T200000
DESCRIPTION:
LOCATION:Point Pleasant Borough High School\, 830 Laura Herbert Dr\, Point 
 Pleasant\, NJ 08742\, USA
SUMMARY:HS Senior Trip Meeting
END:VEVENT
BEGIN:VEVENT
DTSTAMP:20260421T114230Z
UID:03f0116c-ea35-4635-8248-ed67e02977d8
DTSTART:20260506T180000
DTEND:20260506T200000
DESCRIPTION:
LOCATION:
SUMMARY:HS Spring Concert
END:VEVENT
BEGIN:VEVENT
DTSTAMP:20260421T114230Z
UID:43709bd3-ddaf-489f-bea7-70e240d22589
DTSTART:20260507T130000
DTEND:20260507T160000
DESCRIPTION:
LOCATION:Champions at G. Harold Antrim Elementary School\, Football Field 
SUMMARY:Class of 2027 Spring Plant Pick-up
END:VEVENT
BEGIN:VEVENT
DTSTAMP:20260421T114230Z
UID:aa7b0a4a-d8f8-41d4-9338-08a0bcf03df1
DTSTART:20260514T180000
DTEND:20260514T200000
DESCRIPTION:
LOCATION:Champions at G. Harold Antrim Elementary School\, 401 Niblick St\,
  Point Pleasant\, NJ 08742\, USA
SUMMARY:HS National Honor Society New Member Induction
END:VEVENT
BEGIN:VEVENT
DTSTAMP:20260421T114230Z
UID:79472441-9926-4a5e-a7bb-f4e6572345c0
DTSTART;VALUE=DATE:20260518
DTEND;VALUE=DATE:20260519
DESCRIPTION:
LOCATION:
SUMMARY:HS NJSLA Testing
END:VEVENT
BEGIN:VEVENT
DTSTAMP:20260421T114230Z
UID:7ac2ba52-a030-47ab-9b8d-495f87aaa664
DTSTART:20260520T180000
DTEND:20260520T190000
DESCRIPTION:
LOCATION:
SUMMARY:HS Booster's Meeting
END:VEVENT
BEGIN:VEVENT
DTSTAMP:20260421T114230Z
UID:0a713654-b13d-4919-9199-2664b4cc6fa9
DTSTART:20260520T190000
DTEND:20260520T203000
DESCRIPTION:
LOCATION:Point Pleasant Beach High School\, 700 Trenton Ave\, Point Pleasan
 t Beach\, NJ 08742\, USA
SUMMARY:HS PTO Meeting
END:VEVENT
BEGIN:VEVENT
DTSTAMP:20260421T114230Z
UID:8404ad36-c547-490a-8c8c-7ac8f96e81e6
DTSTART:20260528T123000
DTEND:20260528T150000
DESCRIPTION:
LOCATION:
SUMMARY:HS Gull Buddies TIPS Event
END:VEVENT
BEGIN:VEVENT
DTSTAMP:20260421T114230Z
UID:0fc07005-4d37-4b59-8a29-fdcf7caecbbf
DTSTART:20260530T180000
DTEND:20260530T220000
DESCRIPTION:
LOCATION:Jumping Brook Country Club\, 210 Jumping Brook Rd\, Neptune Townsh
 ip\, NJ 07753\, USA
SUMMARY:HS Junio/Senior Prom
END:VEVENT
BEGIN:VEVENT
DTSTAMP:20260421T114230Z
UID:72883bc8-574a-4aee-b435-96a5321ce2ed
DTSTART:20260602T144500
DTEND:20260602T170000
DESCRIPTION:
LOCATION:
SUMMARY:HS Senior Luggge Check
END:VEVENT
BEGIN:VEVENT
DTSTAMP:20260421T114230Z
UID:8d97bf71-816b-4836-b148-4fb0afc3b8ad
DTSTART;VALUE=DATE:20260603
DTEND;VALUE=DATE:20260606
DESCRIPTION:
LOCATION:
SUMMARY:HS Senior Clss Trip
END:VEVENT
BEGIN:VEVENT
DTSTAMP:20260421T114230Z
UID:46f943ea-13dd-4362-821a-fc513781b50d
DTSTART:20260604T183000
DTEND:20260604T203000
DESCRIPTION:
LOCATION: G. Harold Antrim Elementary School\, 401 Niblick St\, Point Pleas
 ant\, NJ 08742\, USA
SUMMARY:HS Underclassmen Academic Awards
END:VEVENT
BEGIN:VEVENT
DTSTAMP:20260421T114230Z
UID:95ef7a34-4847-4aa6-9184-1e5c37c23cbc
DTSTART:20260608T183000
DTEND:20260608T203000
DESCRIPTION:
LOCATION: G. Harold Antrim Elementary School\, 401 Niblick St\, Point Pleas
 ant\, NJ 08742\, USA
SUMMARY:HS Scholarship Night
END:VEVENT
BEGIN:VEVENT
DTSTAMP:20260421T114230Z
UID:1369690d-3199-48d0-a9c8-84bd2b2636f7
DTSTART:20260610T173000
DTEND:20260610T183000
DESCRIPTION:
LOCATION:Point Pleasant Beach High School\, 700 Trenton Ave\, Point Pleasan
 t Beach\, NJ 08742\, USA
SUMMARY:HS Senior  Awards Night
END:VEVENT
BEGIN:VEVENT
DTSTAMP:20260421T114230Z
UID:94887d05-03e3-4b5e-8388-37a6138edfd1
DTSTART:20260610T180000
DTEND:20260610T190000
DESCRIPTION:
LOCATION:
SUMMARY:HS Booster's Meeting
END:VEVENT
BEGIN:VEVENT
DTSTAMP:20260421T114230Z
UID:43754522-675a-4804-b176-83aed5e31c0e
DTSTART:20260610T190000
DTEND:20260610T203000
DESCRIPTION:
LOCATION:Point Pleasant Beach High School\, 700 Trenton Ave\, Point Pleasan
 t Beach\, NJ 08742\, USA
SUMMARY:HS PTO Meeting
END:VEVENT
BEGIN:VEVENT
DTSTAMP:20260421T114230Z
UID:ae26cd1f-e511-4457-a36f-33d19c126b2a
DTSTART;VALUE=DATE:20260612
DTEND;VALUE=DATE:20260613
DESCRIPTION:
LOCATION:
SUMMARY:HS Final Exams
END:VEVENT
BEGIN:VEVENT
DTSTAMP:20260421T114230Z
UID:debd3339-29f2-448b-9d3e-ae871db67737
DTSTART;VALUE=DATE:20260615
DTEND;VALUE=DATE:20260616
DESCRIPTION:
LOCATION:
SUMMARY:HS Final Exams
END:VEVENT
BEGIN:VEVENT
DTSTAMP:20260421T114230Z
UID:2a7db908-4d54-447c-a8c1-5c57200e6790
DTSTART;VALUE=DATE:20260616
DTEND;VALUE=DATE:20260617
DESCRIPTION:
LOCATION:
SUMMARY:HS Final Exams
END:VEVENT
BEGIN:VEVENT
DTSTAMP:20260421T114230Z
UID:b066f27f-4445-40d8-b639-bfe32a3d15d2
DTSTART;VALUE=DATE:20260617
DTEND;VALUE=DATE:20260618
DESCRIPTION:
LOCATION:
SUMMARY:HS Final Exams
END:VEVENT
BEGIN:VEVENT
DTSTAMP:20260421T114230Z
UID:508cc78b-a56c-4d3a-bcb4-51e7cd6e58ae
DTSTART;VALUE=DATE:20260618
DTEND;VALUE=DATE:20260619
DESCRIPTION:
LOCATION:
SUMMARY:HS Final Exams
END:VEVENT
BEGIN:VEVENT
DTSTAMP:20260421T114230Z
UID:1b97edff-173e-4a6a-b57a-0776f46f4e63
DTSTART:20260711T110000
DTEND:20260711T113000
DESCRIPTION:
LOCATION:Point Pleasant Beach High School\, 700 Trenton Ave\, Point Pleasan
 t Beach\, NJ 08742\, USA
SUMMARY:PPBHS Class of 2001 25 Year Reunion Building Tour
END:VEVENT
BEGIN:VEVENT
DTSTAMP:20260421T114230Z
UID:7052be0c-6293-420a-8e77-a88986b18027
DTSTART:20260817T083000
DTEND:20260817T140000
DESCRIPTION:
LOCATION:
SUMMARY:HS Senior Portraits
END:VEVENT
BEGIN:VEVENT
DTSTAMP:20260421T114230Z
UID:db0184a1-5d0f-4f4b-ac7d-7008d268216d
DTSTART:20260824T083000
DTEND:20260824T140000
DESCRIPTION:
LOCATION:
SUMMARY:HS Senior Portraits
END:VEVENT
BEGIN:VEVENT
DTSTAMP:20260421T114230Z
UID:dc51ecb6-d82d-44ce-bf8e-bf96fd5b7c0a
DTSTART:20260922T083000
DTEND:20260922T140000
DESCRIPTION:
LOCATION:
SUMMARY:HS Underclassmen & Staff Photos
END:VEVENT
BEGIN:VEVENT
DTSTAMP:20260421T114230Z
UID:ccf05a15-c1ac-4782-8d7b-5bb5b9716073
DTSTART:20260923T083000
DTEND:20260923T140000
DESCRIPTION:
LOCATION:
SUMMARY:HS Underclassmen & Staff Photos
END:VEVENT
BEGIN:VEVENT
DTSTAMP:20260421T114230Z
UID:f400c72c-75df-492c-919f-4eea8d8d12ca
DTSTART:20261110T080000
DTEND:20261110T140000
DESCRIPTION:
LOCATION:
SUMMARY:HS Underclassmen & Staff Make-up Photoes
END:VEVENT
BEGIN:VEVENT
DTSTAMP:20260421T114230Z
UID:bbe6c3b5-3267-46fb-a02a-91e41030ba92
DTSTART:20261112T083000
DTEND:20261112T140000
DESCRIPTION:
LOCATION:
SUMMARY:HS Senior Portraits Make-ups
END:VEVENT
BEGIN:VEVENT
DTSTAMP:20260421T114230Z
UID:47b9afa5-afdc-4b5e-9548-c515205dba57
DTSTART:20270320T190000
DTEND:20270320T220000
DESCRIPTION:
LOCATION:Point Pleasant Beach High School\, 700 Trenton Ave\, Point Pleasan
 t Beach\, NJ 08742\, USA
SUMMARY:HS Miss Point High
END:VEVENT
END:VCALENDAR
