BEGIN:VCALENDAR
VERSION:2.0
PRODID:icalendar-ruby
CALSCALE:GREGORIAN
BEGIN:VTIMEZONE
TZID:America/Denver
BEGIN:DAYLIGHT
DTSTART:20260308T030000
TZOFFSETFROM:-0700
TZOFFSETTO:-0600
RRULE:FREQ=YEARLY;BYDAY=2SU;BYMONTH=3
TZNAME:MDT
END:DAYLIGHT
BEGIN:STANDARD
DTSTART:20261101T010000
TZOFFSETFROM:-0600
TZOFFSETTO:-0700
RRULE:FREQ=YEARLY;BYDAY=1SU;BYMONTH=11
TZNAME:MST
END:STANDARD
END:VTIMEZONE
BEGIN:VEVENT
DTSTAMP:20260425T025838Z
UID:49efa520-9d52-4045-af3d-28968257ede9
DTSTART:20260513T183000
DTEND:20260513T220000
DESCRIPTION:
LOCATION:Adele C Young 830 Law Dr\, Brigham City\, UT 84302\, USA
SUMMARY:School Board Meeting
END:VEVENT
BEGIN:VEVENT
DTSTAMP:20260425T025838Z
UID:bbcebf8f-3737-448e-bb88-cbaebf8bf5c4
DTSTART:20260521T080000
DTEND:20260521T140000
DESCRIPTION:
LOCATION:Skyway Golf Course\, 432 Country Club Dr\, Tremonton\, UT 84337\, 
 USA
SUMMARY:BESD Foundation Spring Golf Tournament
END:VEVENT
BEGIN:VEVENT
DTSTAMP:20260425T025838Z
UID:bb1e0123-e099-4e0b-8c14-a73c7d796e05
DTSTART;VALUE=DATE:20260525
DTEND;VALUE=DATE:20260526
DESCRIPTION:<!-- Converted from text/rtf format --><BR>
LOCATION:
SUMMARY:Memorial Day - No School
END:VEVENT
BEGIN:VEVENT
DTSTAMP:20260425T025838Z
UID:67bb661b-12ea-46fc-a710-dd9341b79c9c
DTSTART:20260526T180000
DTEND:20260526T200000
DESCRIPTION:
LOCATION:
SUMMARY:Box Elder High School Graduation @ Weber State
END:VEVENT
BEGIN:VEVENT
DTSTAMP:20260425T025838Z
UID:e103b54a-5900-4fcd-9406-699856e36fd2
DTSTART;VALUE=DATE:20260527
DTEND;VALUE=DATE:20260528
DESCRIPTION:<!-- Converted from text/rtf format --><BR>
LOCATION:
SUMMARY:Early Out
END:VEVENT
BEGIN:VEVENT
DTSTAMP:20260425T025838Z
UID:32e414f7-d3e1-45f9-a83b-f3bbf1f7fead
DTSTART:20260527T200000
DTEND:20260527T210000
DESCRIPTION:
LOCATION:
SUMMARY:Bear River High Graduation @ Bear River
END:VEVENT
BEGIN:VEVENT
DTSTAMP:20260425T025838Z
UID:1407a0ba-89fb-4dca-8830-57cd097591ea
DTSTART;VALUE=DATE:20260528
DTEND;VALUE=DATE:20260529
DESCRIPTION:<!-- Converted from text/rtf format --><BR>
LOCATION:
SUMMARY:Last Day of School/End of 3rd Trimester - Early Out
END:VEVENT
BEGIN:VEVENT
DTSTAMP:20260425T025838Z
UID:1f6f03d0-a092-467e-9547-0f1d1a861c04
DTSTART;VALUE=DATE:20260529
DTEND;VALUE=DATE:20260530
DESCRIPTION:<!-- Converted from text/rtf format --><BR>
LOCATION:
SUMMARY:School PD Day - No School for Students
END:VEVENT
BEGIN:VEVENT
DTSTAMP:20260425T025838Z
UID:6304e27e-0f12-4374-aeb8-db140c425d54
DTSTART:20260610T173000
DTEND:20260610T181500
DESCRIPTION:
LOCATION:Independent Life Skills Center 960 S Main St\, Brigham City\, UT 8
 4302\, USA
SUMMARY:School Board Work Session
END:VEVENT
BEGIN:VEVENT
DTSTAMP:20260425T025838Z
UID:8cf96253-10f0-47aa-b392-0f39552e998b
DTSTART:20260610T183000
DTEND:20260610T220000
DESCRIPTION:
LOCATION:Independent Life Skills Center\, 960 S Main St\, Brigham City\, UT
  84302\, USA
SUMMARY:School Board Meeting
END:VEVENT
BEGIN:VEVENT
DTSTAMP:20260425T025838Z
UID:6c132ff7-d8d6-4c3f-a532-a8daf48bca88
DTSTART;VALUE=DATE:20260619
DTEND;VALUE=DATE:20260620
DESCRIPTION:<!-- Converted from text/rtf format --><BR>
LOCATION:
SUMMARY:Juneteenth - Offices Closed
END:VEVENT
BEGIN:VEVENT
DTSTAMP:20260425T025838Z
UID:740c524c-f395-4fa7-bfbe-089aadfc4902
DTSTART;VALUE=DATE:20260703
DTEND;VALUE=DATE:20260704
DESCRIPTION:<!-- Converted from text/rtf format --><BR>
LOCATION:
SUMMARY:4th of July (Observed) - Offices Closed
END:VEVENT
BEGIN:VEVENT
DTSTAMP:20260425T025838Z
UID:9f7034af-d7a8-48fa-8c2a-414e724ddac2
DTSTART;VALUE=DATE:20260724
DTEND;VALUE=DATE:20260725
DESCRIPTION:<!-- Converted from text/rtf format --><BR>
LOCATION:
SUMMARY:Pioneer Day (Offices Closed)
END:VEVENT
BEGIN:VEVENT
DTSTAMP:20260425T025838Z
UID:13fe6359-b9b0-40e2-a490-79a2e96d6417
DTSTART:20260804T080000
DTEND:20260804T153000
DESCRIPTION:
LOCATION:
SUMMARY:Admin Meetings
END:VEVENT
BEGIN:VEVENT
DTSTAMP:20260425T025838Z
UID:4eb29bdc-607d-4e23-bd88-fe548ed03e24
DTSTART:20260805T080000
DTEND:20260805T153000
DESCRIPTION:
LOCATION:
SUMMARY:Admin Meeting
END:VEVENT
BEGIN:VEVENT
DTSTAMP:20260425T025838Z
UID:fa372e6d-4478-4496-b888-e4c90a5b81b8
DTSTART;VALUE=DATE:20260824
DTEND;VALUE=DATE:20260825
DESCRIPTION:
LOCATION:
SUMMARY:Teacher Prep Day
END:VEVENT
BEGIN:VEVENT
DTSTAMP:20260425T025838Z
UID:4b6beaf3-9af7-4c2b-8d6d-e12c3260e717
DTSTART;VALUE=DATE:20260825
DTEND;VALUE=DATE:20260826
DESCRIPTION:
LOCATION:
SUMMARY:Teacher Prep Day
END:VEVENT
BEGIN:VEVENT
DTSTAMP:20260425T025838Z
UID:7b0467f8-696a-4389-9717-6967616e35cd
DTSTART;VALUE=DATE:20260826
DTEND;VALUE=DATE:20260827
DESCRIPTION:
LOCATION:
SUMMARY:Teacher Prep Day
END:VEVENT
BEGIN:VEVENT
DTSTAMP:20260425T025838Z
UID:602bf91e-c29d-4620-a49d-1acac75be708
DTSTART;VALUE=DATE:20260831
DTEND;VALUE=DATE:20260901
DESCRIPTION:
LOCATION:
SUMMARY:Early Out- Elementary Only
END:VEVENT
BEGIN:VEVENT
DTSTAMP:20260425T025838Z
UID:aeccbfa0-19a5-4318-bcde-f0b5ca05cb43
DTSTART;VALUE=DATE:20260831
DTEND;VALUE=DATE:20260901
DESCRIPTION:
LOCATION:
SUMMARY:First Day of School
END:VEVENT
BEGIN:VEVENT
DTSTAMP:20260425T025838Z
UID:4c92143e-3a32-45c3-a24a-edc7b8b0ff30
DTSTART;VALUE=DATE:20260901
DTEND;VALUE=DATE:20260902
DESCRIPTION:
LOCATION:
SUMMARY:Early Out- Elementary Only
END:VEVENT
BEGIN:VEVENT
DTSTAMP:20260425T025838Z
UID:af1510aa-6242-4a10-b591-293e5156312e
DTSTART;VALUE=DATE:20260902
DTEND;VALUE=DATE:20260903
DESCRIPTION:
LOCATION:
SUMMARY:Early Out- Elementary Only
END:VEVENT
BEGIN:VEVENT
DTSTAMP:20260425T025838Z
UID:3d6c2174-3cac-477f-8b4a-45297703240b
DTSTART;VALUE=DATE:20260903
DTEND;VALUE=DATE:20260904
DESCRIPTION:
LOCATION:
SUMMARY:Early Out- Elementary Only
END:VEVENT
BEGIN:VEVENT
DTSTAMP:20260425T025838Z
UID:6549f6bc-ed33-4178-a80a-ea06ba35269d
DTSTART;VALUE=DATE:20260903
DTEND;VALUE=DATE:20260904
DESCRIPTION:
LOCATION:
SUMMARY:No School for Kindergarten-Testing
END:VEVENT
BEGIN:VEVENT
DTSTAMP:20260425T025838Z
UID:2843db5d-8b89-46c8-97cf-d705fd2c0096
DTSTART;VALUE=DATE:20260904
DTEND;VALUE=DATE:20260905
DESCRIPTION:
LOCATION:
SUMMARY:Early Out- Everyone
END:VEVENT
BEGIN:VEVENT
DTSTAMP:20260425T025838Z
UID:957d62ee-5016-4c41-a5fd-ff54133c751b
DTSTART;VALUE=DATE:20260904
DTEND;VALUE=DATE:20260905
DESCRIPTION:
LOCATION:
SUMMARY:No School for Kindergarten-Testing
END:VEVENT
BEGIN:VEVENT
DTSTAMP:20260425T025838Z
UID:2a6c1ab1-a64e-4c59-a7fa-53f99170864e
DTSTART;VALUE=DATE:20260908
DTEND;VALUE=DATE:20260909
DESCRIPTION:
LOCATION:
SUMMARY:No School for Kindergarten-Testing
END:VEVENT
BEGIN:VEVENT
DTSTAMP:20260425T025838Z
UID:368fd524-85bc-4830-8276-7becac4ba0a3
DTSTART;VALUE=DATE:20260909
DTEND;VALUE=DATE:20260910
DESCRIPTION:
LOCATION:
SUMMARY:No School for Kindergarten-Testing
END:VEVENT
BEGIN:VEVENT
DTSTAMP:20260425T025838Z
UID:9dd54136-1ab4-4f75-be9a-e7004a15b03e
DTSTART:20260917T080000
DTEND:20260917T140000
DESCRIPTION:
LOCATION:Eagle Mountain Golf Course\, 960 E 700 S\, Brigham City\, UT 84302
 \, USA
SUMMARY:BESD Foundation Golf Tournament
END:VEVENT
BEGIN:VEVENT
DTSTAMP:20260425T025838Z
UID:5b2ed2dc-a204-4752-b03d-39808077a3dc
DTSTART;VALUE=DATE:20261005
DTEND;VALUE=DATE:20261006
DESCRIPTION:
LOCATION:
SUMMARY:High School & Intermediate School Parent Teacher Confrences
END:VEVENT
BEGIN:VEVENT
DTSTAMP:20260425T025838Z
UID:45ecfd32-e86c-4cbf-b4a2-3a83ab030816
DTSTART;VALUE=DATE:20261006
DTEND;VALUE=DATE:20261007
DESCRIPTION:
LOCATION:
SUMMARY:Middle School Parent Teacher Conference
END:VEVENT
BEGIN:VEVENT
DTSTAMP:20260425T025838Z
UID:f558f62a-3400-4e5d-94f8-af785f257da9
DTSTART;VALUE=DATE:20261008
DTEND;VALUE=DATE:20261009
DESCRIPTION:
LOCATION:
SUMMARY:Fall Break
END:VEVENT
BEGIN:VEVENT
DTSTAMP:20260425T025838Z
UID:7557b0a2-c43f-4023-a672-244e6b2a962e
DTSTART;VALUE=DATE:20261009
DTEND;VALUE=DATE:20261010
DESCRIPTION:
LOCATION:
SUMMARY:Fall Break
END:VEVENT
BEGIN:VEVENT
DTSTAMP:20260425T025838Z
UID:c02e2474-d6ed-4a2c-a8fb-0608e4e8c09f
DTSTART;VALUE=DATE:20261028
DTEND;VALUE=DATE:20261029
DESCRIPTION:
LOCATION:
SUMMARY:Sunrise Parent Teacher Conference
END:VEVENT
BEGIN:VEVENT
DTSTAMP:20260425T025838Z
UID:c6f48008-128c-4bba-a15f-8b479cb82330
DTSTART:20261105T180000
DTEND:20261105T200000
DESCRIPTION:
LOCATION:Box Elder County Fairgrounds\, 320 N 1000 W\, Tremonton\, UT 84337
 \, USA\, Home Arts Building
SUMMARY:BESD Foundation Jubilee of Trees Gala Dinner
END:VEVENT
BEGIN:VEVENT
DTSTAMP:20260425T025838Z
UID:63592d88-d1a9-48fa-a0df-9f6ffcf2e1cb
DTSTART;VALUE=DATE:20261118
DTEND;VALUE=DATE:20261119
DESCRIPTION:
LOCATION:
SUMMARY:Early Out- Elementary Only
END:VEVENT
BEGIN:VEVENT
DTSTAMP:20260425T025838Z
UID:b125f9ff-3a82-4eb5-ae21-3394ff386fd7
DTSTART;VALUE=DATE:20261118
DTEND;VALUE=DATE:20261119
DESCRIPTION:
LOCATION:
SUMMARY:Elementary Parent Teacher Confrences
END:VEVENT
BEGIN:VEVENT
DTSTAMP:20260425T025838Z
UID:5d0c7a55-6487-40eb-9b13-259be226946f
DTSTART;VALUE=DATE:20261119
DTEND;VALUE=DATE:20261120
DESCRIPTION:
LOCATION:
SUMMARY:Early Out- Elementary Only
END:VEVENT
BEGIN:VEVENT
DTSTAMP:20260425T025838Z
UID:e1c8b749-044e-4611-b18f-e02d05d94670
DTSTART;VALUE=DATE:20261119
DTEND;VALUE=DATE:20261120
DESCRIPTION:
LOCATION:
SUMMARY:Elementary Parent Teacher Confrences
END:VEVENT
BEGIN:VEVENT
DTSTAMP:20260425T025838Z
UID:cbd64700-8c8c-4146-8a5d-71beabcc25af
DTSTART;VALUE=DATE:20261120
DTEND;VALUE=DATE:20261121
DESCRIPTION:
LOCATION:
SUMMARY:DLI Open Enrollment for Kindergarten - link will go out around 8:00
  am
END:VEVENT
BEGIN:VEVENT
DTSTAMP:20260425T025838Z
UID:2f0d8f68-abd3-46f8-ac66-8a3783246cc6
DTSTART;VALUE=DATE:20261120
DTEND;VALUE=DATE:20261121
DESCRIPTION:
LOCATION:
SUMMARY:End of 1st Trimester
END:VEVENT
BEGIN:VEVENT
DTSTAMP:20260425T025838Z
UID:af2c136a-e23b-4c2e-aabf-ffd431fc290d
DTSTART;VALUE=DATE:20261123
DTEND;VALUE=DATE:20261124
DESCRIPTION:
LOCATION:
SUMMARY:2nd Trimester Begins
END:VEVENT
BEGIN:VEVENT
DTSTAMP:20260425T025838Z
UID:7aec436d-1b6a-417c-8596-c48aab04f055
DTSTART;VALUE=DATE:20261125
DTEND;VALUE=DATE:20261126
DESCRIPTION:
LOCATION:
SUMMARY:No School- Parent Teacher Conference Comp Day
END:VEVENT
BEGIN:VEVENT
DTSTAMP:20260425T025838Z
UID:c38b9e64-cf53-45fa-93e3-3204b24268d1
DTSTART;VALUE=DATE:20261126
DTEND;VALUE=DATE:20261127
DESCRIPTION:
LOCATION:
SUMMARY:Thanksgiving Break
END:VEVENT
BEGIN:VEVENT
DTSTAMP:20260425T025838Z
UID:5b077f76-62cb-47b4-b72b-def288dc0f3e
DTSTART;VALUE=DATE:20261127
DTEND;VALUE=DATE:20261128
DESCRIPTION:
LOCATION:
SUMMARY:Thanksgiving Break 
END:VEVENT
BEGIN:VEVENT
DTSTAMP:20260425T025838Z
UID:83153093-c504-4b36-8dae-5172d3234f16
DTSTART;VALUE=DATE:20261221
DTEND;VALUE=DATE:20270102
DESCRIPTION:
LOCATION:
SUMMARY:Winter Break
END:VEVENT
BEGIN:VEVENT
DTSTAMP:20260425T025838Z
UID:c9a830fd-cb2a-4ab1-b0b9-c89d9f5d3b17
DTSTART;VALUE=DATE:20270104
DTEND;VALUE=DATE:20270105
DESCRIPTION:
LOCATION:
SUMMARY:School Resumes
END:VEVENT
BEGIN:VEVENT
DTSTAMP:20260425T025838Z
UID:52c6b6a9-1fa4-462d-9de7-a466e6953571
DTSTART;VALUE=DATE:20270111
DTEND;VALUE=DATE:20270112
DESCRIPTION:
LOCATION:
SUMMARY:High School & Intermediate School Parent Teacher Conferences 
END:VEVENT
BEGIN:VEVENT
DTSTAMP:20260425T025838Z
UID:664c308f-1528-40f6-8ac2-fae1cc88b94e
DTSTART;VALUE=DATE:20270112
DTEND;VALUE=DATE:20270113
DESCRIPTION:
LOCATION:
SUMMARY:Middle School Parent Teacher Conferences 
END:VEVENT
BEGIN:VEVENT
DTSTAMP:20260425T025838Z
UID:e19190ea-63cc-496c-878a-13ddeab0cce2
DTSTART;VALUE=DATE:20270118
DTEND;VALUE=DATE:20270119
DESCRIPTION:
LOCATION:
SUMMARY:No School- Martin Luther King Jr. Day
END:VEVENT
BEGIN:VEVENT
DTSTAMP:20260425T025838Z
UID:ee0c66b0-9876-4cc0-a032-e87c005fe61e
DTSTART;VALUE=DATE:20270210
DTEND;VALUE=DATE:20270211
DESCRIPTION:
LOCATION:
SUMMARY:Sunrise Parent Teacher Conferences 
END:VEVENT
BEGIN:VEVENT
DTSTAMP:20260425T025838Z
UID:adc370a8-25ce-4c84-b17f-cca2d9ca8250
DTSTART;VALUE=DATE:20270215
DTEND;VALUE=DATE:20270216
DESCRIPTION:
LOCATION:
SUMMARY:No School- Presidents Day
END:VEVENT
BEGIN:VEVENT
DTSTAMP:20260425T025838Z
UID:23899e5f-078c-494a-9ffa-622aa39aa2c8
DTSTART;VALUE=DATE:20270303
DTEND;VALUE=DATE:20270304
DESCRIPTION:
LOCATION:
SUMMARY:Early Out- Elementary Only
END:VEVENT
BEGIN:VEVENT
DTSTAMP:20260425T025838Z
UID:50c7557e-8c53-4ddd-8437-db6521bffe40
DTSTART;VALUE=DATE:20270303
DTEND;VALUE=DATE:20270304
DESCRIPTION:
LOCATION:
SUMMARY:Elementary Parent Teacher Conferences 
END:VEVENT
BEGIN:VEVENT
DTSTAMP:20260425T025838Z
UID:cf7c9c48-6e80-46b9-9d0f-380ce68a5590
DTSTART;VALUE=DATE:20270304
DTEND;VALUE=DATE:20270305
DESCRIPTION:
LOCATION:
SUMMARY:Early Out- Elementary Only
END:VEVENT
BEGIN:VEVENT
DTSTAMP:20260425T025838Z
UID:ef193b15-ea98-42af-9135-81b465d1b855
DTSTART;VALUE=DATE:20270304
DTEND;VALUE=DATE:20270305
DESCRIPTION:
LOCATION:
SUMMARY:End of 2nd Trimester
END:VEVENT
BEGIN:VEVENT
DTSTAMP:20260425T025838Z
UID:d46b4f31-950a-4ab5-8395-8cb01f371753
DTSTART;VALUE=DATE:20270305
DTEND;VALUE=DATE:20270306
DESCRIPTION:
LOCATION:
SUMMARY:No School- Teachers PD Day
END:VEVENT
BEGIN:VEVENT
DTSTAMP:20260425T025838Z
UID:4f4ed72a-281e-418b-97ff-78e6c4e280f4
DTSTART;VALUE=DATE:20270308
DTEND;VALUE=DATE:20270309
DESCRIPTION:
LOCATION:
SUMMARY:3rd Trimester Begins
END:VEVENT
BEGIN:VEVENT
DTSTAMP:20260425T025838Z
UID:9d15f44a-fa11-4db9-bbb7-e59f575c71cc
DTSTART;VALUE=DATE:20270329
DTEND;VALUE=DATE:20270330
DESCRIPTION:
LOCATION:
SUMMARY:No School- Parent Teacher Conference Comp Day
END:VEVENT
BEGIN:VEVENT
DTSTAMP:20260425T025838Z
UID:faa21764-cda6-46e7-911a-0e2c34f9afaa
DTSTART;VALUE=DATE:20270330
DTEND;VALUE=DATE:20270403
DESCRIPTION:
LOCATION:
SUMMARY:Spring Break
END:VEVENT
BEGIN:VEVENT
DTSTAMP:20260425T025838Z
UID:7d1796b0-85d1-4508-90bd-65516757c0ce
DTSTART;VALUE=DATE:20270531
DTEND;VALUE=DATE:20270601
DESCRIPTION:
LOCATION:
SUMMARY:No School-Memorial Day
END:VEVENT
BEGIN:VEVENT
DTSTAMP:20260425T025838Z
UID:09430414-ad59-43c4-bf9d-ecfae8eee3d1
DTSTART;VALUE=DATE:20270603
DTEND;VALUE=DATE:20270604
DESCRIPTION:
LOCATION:
SUMMARY:Last Day of School
END:VEVENT
END:VCALENDAR
