BEGIN:VCALENDAR
VERSION:2.0
PRODID:icalendar-ruby
CALSCALE:GREGORIAN
BEGIN:VTIMEZONE
TZID:America/Los_Angeles
BEGIN:DAYLIGHT
DTSTART:20260308T030000
TZOFFSETFROM:-0800
TZOFFSETTO:-0700
RRULE:FREQ=YEARLY;BYDAY=2SU;BYMONTH=3
TZNAME:PDT
END:DAYLIGHT
BEGIN:STANDARD
DTSTART:20261101T010000
TZOFFSETFROM:-0700
TZOFFSETTO:-0800
RRULE:FREQ=YEARLY;BYDAY=1SU;BYMONTH=11
TZNAME:PST
END:STANDARD
END:VTIMEZONE
BEGIN:VEVENT
DTSTAMP:20260425T182119Z
UID:1f018af8-940c-4033-91fc-ae4b9cb4d35d
DTSTART;VALUE=DATE:20260501
DTEND;VALUE=DATE:20260502
DESCRIPTION:
LOCATION:
SUMMARY:Disney Day! 
END:VEVENT
BEGIN:VEVENT
DTSTAMP:20260425T182119Z
UID:0ea85d65-58ad-4af0-909a-c412a909bb23
DTSTART:20260502T080000
DTEND:20260502T160000
DESCRIPTION:
LOCATION:841 Glenwick Ave\, Walnut\, CA 91789\, USA
SUMMARY:Elementary Science Olympiad
END:VEVENT
BEGIN:VEVENT
DTSTAMP:20260425T182119Z
UID:193c6aac-eb45-4322-95c0-658255ae4920
DTSTART;VALUE=DATE:20260525
DTEND;VALUE=DATE:20260526
DESCRIPTION:
LOCATION:
SUMMARY:Memorial Day--No School
END:VEVENT
BEGIN:VEVENT
DTSTAMP:20260425T182119Z
UID:47e73e80-df09-4342-ae9b-4fc3641b81db
DTSTART;VALUE=DATE:20260529
DTEND;VALUE=DATE:20260530
DESCRIPTION:
LOCATION:
SUMMARY:Last Day of School--Minimum Day Schedule
END:VEVENT
END:VCALENDAR
