BEGIN:VCALENDAR
VERSION:2.0
PRODID:icalendar-ruby
CALSCALE:GREGORIAN
BEGIN:VTIMEZONE
TZID:America/New_York
BEGIN:DAYLIGHT
DTSTART:20260308T030000
TZOFFSETFROM:-0500
TZOFFSETTO:-0400
RRULE:FREQ=YEARLY;BYDAY=2SU;BYMONTH=3
TZNAME:EDT
END:DAYLIGHT
BEGIN:STANDARD
DTSTART:20261101T010000
TZOFFSETFROM:-0400
TZOFFSETTO:-0500
RRULE:FREQ=YEARLY;BYDAY=1SU;BYMONTH=11
TZNAME:EST
END:STANDARD
END:VTIMEZONE
BEGIN:VEVENT
DTSTAMP:20260423T211440Z
UID:e2f77b7c-e050-4baa-8f47-75759368211e
DTSTART:20260423T140000
DTEND:20260423T150000
DESCRIPTION:<html><head><meta http-equiv="Content-Type" content="text/html\
 ; charset=utf-8"></head><body><p><span>BHVA K-8 Students are invited to jo
 in Mrs. Greiss as we unleash our inner naturalists with this vibrant Oil P
 astel Nature Study\, where we'll explore the rich textures of the great ou
 tdoors. By focusing on a &quot\;zoomed-in&quot\; perspective of nature\, s
 tudent artists learn the magic of blending and layering&nbsp\;to create de
 pth and movement.&nbsp\;</span><br><br><span>Drop-off and pick-up are at t
 he High School's main office.&nbsp\;</span></p></body></html>
LOCATION:103 Old Topton Rd\, Mertztown\, PA 19539\, USA
SUMMARY:BHVA K-8 Enrichment Lesson - ART with Mrs. Greiss
END:VEVENT
END:VCALENDAR
