BEGIN:VCALENDAR
VERSION:2.0
PRODID:icalendar-ruby
CALSCALE:GREGORIAN
BEGIN:VTIMEZONE
TZID:America/New_York
BEGIN:DAYLIGHT
DTSTART:20260308T030000
TZOFFSETFROM:-0500
TZOFFSETTO:-0400
RRULE:FREQ=YEARLY;BYDAY=2SU;BYMONTH=3
TZNAME:EDT
END:DAYLIGHT
BEGIN:STANDARD
DTSTART:20261101T010000
TZOFFSETFROM:-0400
TZOFFSETTO:-0500
RRULE:FREQ=YEARLY;BYDAY=1SU;BYMONTH=11
TZNAME:EST
END:STANDARD
END:VTIMEZONE
BEGIN:VEVENT
DTSTAMP:20260424T014559Z
UID:3817b778-5fc6-437f-b838-1ba2cecba784
DTSTART:20260424T130000
DTEND:20260424T150000
DESCRIPTION:<html><head><meta http-equiv="Content-Type" content="text/html\
 ; charset=utf-8"></head><body><p>Practice will occur 04/22\, 04/23 during 
 school.</p></body></html>
LOCATION:1 Highlander Dr\, Upperglade\, WV 26266\, USA
SUMMARY:National Honors Society Induction
END:VEVENT
BEGIN:VEVENT
DTSTAMP:20260424T014559Z
UID:83141b81-7a8a-4f27-b669-bd3b6adf1c22
DTSTART:20260427T180000
DTEND:20260427T193000
DESCRIPTION:
LOCATION:315 S Main St\, Webster Springs\, WV 26288\, USA
SUMMARY:BOE Meeting
END:VEVENT
BEGIN:VEVENT
DTSTAMP:20260424T014559Z
UID:407fbd5b-b0be-4c4d-91eb-892e8dfb8740
DTSTART:20260428T080000
DTEND:20260428T150000
DESCRIPTION:
LOCATION:1 Highlander Dr\, Cowen\, WV 26206\, USA
SUMMARY:College Decision Day
END:VEVENT
BEGIN:VEVENT
DTSTAMP:20260424T014559Z
UID:1e9467ba-e34a-415c-bea3-f27f963a5763
DTSTART:20260502T190000
DTEND:20260502T210000
DESCRIPTION:<html><head><meta http-equiv="Content-Type" content="text/html\
 ; charset=utf-8"></head><body><p>Time TBD</p></body></html>
LOCATION:1 Highlander Dr\, Cowen\, WV 26206\, USA
SUMMARY:Prom
END:VEVENT
BEGIN:VEVENT
DTSTAMP:20260424T014559Z
UID:456f87fa-217d-4a40-84ee-ec528f0370f3
DTSTART:20260504T080000
DTEND:20260504T180000
DESCRIPTION:
LOCATION:Washington\, DC\, USA
SUMMARY:8th Grade DC Trip
END:VEVENT
BEGIN:VEVENT
DTSTAMP:20260424T014559Z
UID:32bda353-3b06-4198-838c-4e8f121c889d
DTSTART:20260505T080000
DTEND:20260505T180000
DESCRIPTION:
LOCATION:Washington\, DC\, USA
SUMMARY:8th Grade DC Trip
END:VEVENT
BEGIN:VEVENT
DTSTAMP:20260424T014559Z
UID:616628b1-6601-485d-a3de-1188b4c0717f
DTSTART:20260506T080000
DTEND:20260506T180000
DESCRIPTION:
LOCATION:Washington\, DC\, USA
SUMMARY:8th Grade DC Trip
END:VEVENT
BEGIN:VEVENT
DTSTAMP:20260424T014559Z
UID:502831af-f490-453f-954a-7f07da7b3096
DTSTART:20260507T080000
DTEND:20260507T180000
DESCRIPTION:
LOCATION:Washington\, DC\, USA
SUMMARY:8th Grade DC Trip
END:VEVENT
BEGIN:VEVENT
DTSTAMP:20260424T014559Z
UID:070ed4cc-c5ac-4e02-9254-4ebe8e698f58
DTSTART:20260508T080000
DTEND:20260508T180000
DESCRIPTION:
LOCATION:Washington\, DC\, USA
SUMMARY:8th Grade DC Trip
END:VEVENT
BEGIN:VEVENT
DTSTAMP:20260424T014559Z
UID:fdd52e55-59e3-4c60-a89f-f04b02917a79
DTSTART:20260511T180000
DTEND:20260511T193000
DESCRIPTION:
LOCATION:315 S Main St\, Webster Springs\, WV 26288\, USA
SUMMARY:BOE Meeting
END:VEVENT
BEGIN:VEVENT
DTSTAMP:20260424T014559Z
UID:65bd3a71-0e61-4f12-8a2e-2137eec0c580
DTSTART;VALUE=DATE:20260512
DTEND;VALUE=DATE:20260513
DESCRIPTION:
LOCATION:1 Highlander Dr\, Cowen\, WV 26206\, USA
SUMMARY:Election Day - No School
END:VEVENT
BEGIN:VEVENT
DTSTAMP:20260424T014559Z
UID:331fb09a-be6c-4336-9af7-6803acd1b025
DTSTART:20260514T170000
DTEND:20260517T210000
DESCRIPTION:<html><head><meta http-equiv="Content-Type" content="text/html\
 ; charset=utf-8"></head><body><p>Showtimes to be announced at a later date
 . </p></body></html>
LOCATION:1 Highlander Dr\, Cowen\, WV 26206\, USA
SUMMARY:Follies
END:VEVENT
BEGIN:VEVENT
DTSTAMP:20260424T014559Z
UID:e54690e3-c7dd-41c7-908b-0da5575597b4
DTSTART:20260518T180000
DTEND:20260518T193000
DESCRIPTION:
LOCATION:315 S Main St\, Webster Springs\, WV 26288\, USA
SUMMARY:BOE Meeting
END:VEVENT
BEGIN:VEVENT
DTSTAMP:20260424T014559Z
UID:5824f30d-89a2-4d31-a675-6eae3ed7d703
DTSTART:20260522T133000
DTEND:20260522T153000
DESCRIPTION:
LOCATION:1 Highlander Dr\, Cowen\, WV 26206\, USA
SUMMARY:Faculty Senate - 2 Hour Early Out for Students
END:VEVENT
BEGIN:VEVENT
DTSTAMP:20260424T014559Z
UID:a109f218-7b3d-4977-974e-7fe7b0d73ad3
DTSTART;VALUE=DATE:20260525
DTEND;VALUE=DATE:20260526
DESCRIPTION:
LOCATION:1 Highlander Dr\, Cowen\, WV 26206\, USA
SUMMARY:Holiday - No School
END:VEVENT
BEGIN:VEVENT
DTSTAMP:20260424T014559Z
UID:1f6d2d61-9cce-4708-ab59-7ac0503a0606
DTSTART:20260529T073000
DTEND:20260529T153000
DESCRIPTION:
LOCATION:1 Highlander Dr\, Cowen\, WV 26206\, USA
SUMMARY:Last Day for Students
END:VEVENT
BEGIN:VEVENT
DTSTAMP:20260424T014559Z
UID:e82649ec-b280-4aca-873b-618357dfeb7d
DTSTART:20260529T190000
DTEND:20260529T203000
DESCRIPTION:
LOCATION:1 Highlander Dr\, Cowen\, WV 26206\, USA
SUMMARY:Graduation
END:VEVENT
BEGIN:VEVENT
DTSTAMP:20260424T014559Z
UID:6a24ef73-d69a-42a4-8b63-27bd1526fdc6
DTSTART:20260529T203000
DTEND:20260530T060000
DESCRIPTION:
LOCATION:1 Highlander Dr\, Cowen\, WV 26206\, USA
SUMMARY:Project Graduation
END:VEVENT
BEGIN:VEVENT
DTSTAMP:20260424T014559Z
UID:f400f0ad-f18e-4f49-9f58-dc86c52bc9ec
DTSTART:20260608T180000
DTEND:20260608T193000
DESCRIPTION:
LOCATION:315 S Main St\, Webster Springs\, WV 26288\, USA
SUMMARY:BOE Meeting
END:VEVENT
BEGIN:VEVENT
DTSTAMP:20260424T014559Z
UID:722257c3-a7f0-4192-a006-4723c1b4e18d
DTSTART:20260622T180000
DTEND:20260622T193000
DESCRIPTION:
LOCATION:315 S Main St\, Webster Springs\, WV 26288\, USA
SUMMARY:BOE Meeting
END:VEVENT
END:VCALENDAR
