BEGIN:VCALENDAR
VERSION:2.0
PRODID:icalendar-ruby
CALSCALE:GREGORIAN
BEGIN:VTIMEZONE
TZID:America/New_York
BEGIN:DAYLIGHT
DTSTART:20260308T030000
TZOFFSETFROM:-0500
TZOFFSETTO:-0400
RRULE:FREQ=YEARLY;BYDAY=2SU;BYMONTH=3
TZNAME:EDT
END:DAYLIGHT
BEGIN:STANDARD
DTSTART:20261101T010000
TZOFFSETFROM:-0400
TZOFFSETTO:-0500
RRULE:FREQ=YEARLY;BYDAY=1SU;BYMONTH=11
TZNAME:EST
END:STANDARD
END:VTIMEZONE
BEGIN:VEVENT
DTSTAMP:20260422T085045Z
UID:5c591271-f784-4771-9559-265f22a2d325
DTSTART;VALUE=DATE:20260422
DTEND;VALUE=DATE:20260424
DESCRIPTION:
LOCATION:
SUMMARY:NYS ELA Assessments Grades 5-8
END:VEVENT
BEGIN:VEVENT
DTSTAMP:20260422T085045Z
UID:9d2dbfae-03e6-4322-a9aa-1b697d7bf4af
DTSTART:20260423T180000
DTEND:20260423T190000
DESCRIPTION:
LOCATION:
SUMMARY:Pre-K - Incoming Parent Orientation for 2026-27
END:VEVENT
BEGIN:VEVENT
DTSTAMP:20260422T085045Z
UID:7553a95d-4efd-49be-91ae-13073831c2e6
DTSTART;VALUE=DATE:20260429
DTEND;VALUE=DATE:20260501
DESCRIPTION:
LOCATION:
SUMMARY:NYS ELA Assessments Grades 3-4
END:VEVENT
BEGIN:VEVENT
DTSTAMP:20260422T085045Z
UID:ecaff7fd-12cc-4cea-92c2-ccaab49801ae
DTSTART;VALUE=DATE:20260501
DTEND;VALUE=DATE:20260502
DESCRIPTION:
LOCATION:
SUMMARY:EJA PTO Book Fair (BOGO)
END:VEVENT
BEGIN:VEVENT
DTSTAMP:20260422T085045Z
UID:611b8835-96fc-43f2-b150-7b9ea79a9822
DTSTART;VALUE=DATE:20260501
DTEND;VALUE=DATE:20260518
DESCRIPTION:
LOCATION:
SUMMARY:K-12 District Wide Art Show
END:VEVENT
BEGIN:VEVENT
DTSTAMP:20260422T085045Z
UID:fd24805e-ec0a-430a-af8f-bb0dbf9ff946
DTSTART;VALUE=DATE:20260502
DTEND;VALUE=DATE:20260503
DESCRIPTION:
LOCATION:
SUMMARY:EJA PTO Margaret Schmidt PTO 5K Fun Run
END:VEVENT
BEGIN:VEVENT
DTSTAMP:20260422T085045Z
UID:8f1cd3a1-606e-49ef-ba0f-4a051329f9d0
DTSTART;VALUE=DATE:20260504
DTEND;VALUE=DATE:20260509
DESCRIPTION:
LOCATION:
SUMMARY:EJA PTO Book Fair (BOGO)
END:VEVENT
BEGIN:VEVENT
DTSTAMP:20260422T085045Z
UID:a2606891-cbb0-4e56-88cb-726c1227b97e
DTSTART:20260504T144500
DTEND:20260504T153000
DESCRIPTION:
LOCATION:
SUMMARY:EJA PTO Meeting
END:VEVENT
BEGIN:VEVENT
DTSTAMP:20260422T085045Z
UID:9b170ea5-0e92-47bf-9ee1-34c64ae8a62a
DTSTART;VALUE=DATE:20260505
DTEND;VALUE=DATE:20260506
DESCRIPTION:
LOCATION:
SUMMARY:NYS Science Assessments Grades 5 & 8
END:VEVENT
BEGIN:VEVENT
DTSTAMP:20260422T085045Z
UID:952fecba-6d3d-49b8-bf9b-4aad07fb6a63
DTSTART:20260505T133000
DTEND:20260505T143000
DESCRIPTION:
LOCATION:
SUMMARY:CE 1st Grade Performance
END:VEVENT
BEGIN:VEVENT
DTSTAMP:20260422T085045Z
UID:b7cb8c9b-3714-4ab5-a638-ab3e9ef164be
DTSTART;VALUE=DATE:20260506
DTEND;VALUE=DATE:20260508
DESCRIPTION:
LOCATION:
SUMMARY:NYS Math Assessments Grades 3-4
END:VEVENT
BEGIN:VEVENT
DTSTAMP:20260422T085045Z
UID:1a8e9730-7692-4b0e-ba05-494c9bfe4973
DTSTART:20260507T093000
DTEND:20260507T103000
DESCRIPTION:
LOCATION:
SUMMARY:EJA Pre-K Mother's Day Tea
END:VEVENT
BEGIN:VEVENT
DTSTAMP:20260422T085045Z
UID:aa7cc21e-ceb7-4f6b-8cef-31ea1f0ac317
DTSTART:20260507T180000
DTEND:20260507T190000
DESCRIPTION:
LOCATION:EJA Cafeteria
SUMMARY:Budget Hearing
END:VEVENT
BEGIN:VEVENT
DTSTAMP:20260422T085045Z
UID:ad8c2a96-0a9d-4269-9033-ad7a93f66a65
DTSTART:20260507T190000
DTEND:20260507T200000
DESCRIPTION:
LOCATION:HS Library
SUMMARY:Budget Hearing
END:VEVENT
BEGIN:VEVENT
DTSTAMP:20260422T085045Z
UID:16025e9d-2b62-43ad-a60a-0a2b303bd69a
DTSTART:20260508T083000
DTEND:20260508T110000
DESCRIPTION:
LOCATION:
SUMMARY:EJA Grandparents Day
END:VEVENT
BEGIN:VEVENT
DTSTAMP:20260422T085045Z
UID:ba187dd9-c5c3-4b53-87db-1c362a69c612
DTSTART;VALUE=DATE:20260511
DTEND;VALUE=DATE:20260516
DESCRIPTION:
LOCATION:
SUMMARY:MS Spring Book Fair
END:VEVENT
BEGIN:VEVENT
DTSTAMP:20260422T085045Z
UID:19d1a647-328d-4e84-9fb4-2a05a2d9dd56
DTSTART;VALUE=DATE:20260512
DTEND;VALUE=DATE:20260514
DESCRIPTION:
LOCATION:
SUMMARY:NYS Math Assessments Grades 5-8
END:VEVENT
BEGIN:VEVENT
DTSTAMP:20260422T085045Z
UID:d311db96-22a9-442e-afbc-beecb30a50b8
DTSTART:20260512T133000
DTEND:20260512T141500
DESCRIPTION:
LOCATION:
SUMMARY:EJA 1st Grade Performance (Families)
END:VEVENT
BEGIN:VEVENT
DTSTAMP:20260422T085045Z
UID:884ba78f-16ed-4ee7-a865-e180297429ff
DTSTART;VALUE=DATE:20260513
DTEND;VALUE=DATE:20260514
DESCRIPTION:
LOCATION:
SUMMARY:Art Show Family Reception
END:VEVENT
BEGIN:VEVENT
DTSTAMP:20260422T085045Z
UID:3fa5d44f-2afb-4638-9c4b-d467c5a8dd44
DTSTART:20260519T130000
DTEND:20260519T210000
DESCRIPTION:
LOCATION:
SUMMARY:Annual Budget Vote
END:VEVENT
BEGIN:VEVENT
DTSTAMP:20260422T085045Z
UID:9059b1e7-d07d-4f40-829d-85dca824a91f
DTSTART:20260521T073000
DTEND:20260521T080500
DESCRIPTION:
LOCATION:HS LIBRARY
SUMMARY:LINKS TEAM
END:VEVENT
BEGIN:VEVENT
DTSTAMP:20260422T085045Z
UID:e953d461-8750-4e62-ad90-dac9a3cd7fd6
DTSTART:20260521T183000
DTEND:20260521T193000
DESCRIPTION:
LOCATION:HS Library
SUMMARY:BOE Meeting
END:VEVENT
BEGIN:VEVENT
DTSTAMP:20260422T085045Z
UID:79e54d6e-ab6c-46bb-a11c-968c8e3079a0
DTSTART;VALUE=DATE:20260522
DTEND;VALUE=DATE:20260524
DESCRIPTION:
LOCATION:
SUMMARY:Shavout
END:VEVENT
BEGIN:VEVENT
DTSTAMP:20260422T085045Z
UID:81e09d64-bfe2-48f3-b22d-3517362f23de
DTSTART:20260528T170000
DTEND:20260528T190000
DESCRIPTION:
LOCATION:
SUMMARY:SHOWCASE OF STUDENT SUCCESS
END:VEVENT
BEGIN:VEVENT
DTSTAMP:20260422T085045Z
UID:cc3d1c90-2605-40f9-8780-cfbaaebcbb95
DTSTART:20260601T144500
DTEND:20260601T153000
DESCRIPTION:
LOCATION:
SUMMARY:EJA PTO Meeting
END:VEVENT
BEGIN:VEVENT
DTSTAMP:20260422T085045Z
UID:6a1b2add-c754-4f0b-8aaf-1c7e207c9833
DTSTART:20260601T184500
DTEND:20260602T080000
DESCRIPTION:
LOCATION:
SUMMARY:Baccalaureate
END:VEVENT
BEGIN:VEVENT
DTSTAMP:20260422T085045Z
UID:f8302474-1dc9-493e-9dea-017981c743a7
DTSTART:20260602T190000
DTEND:20260602T200000
DESCRIPTION:
LOCATION:
SUMMARY:HS Spring Concert
END:VEVENT
BEGIN:VEVENT
DTSTAMP:20260422T085045Z
UID:824293d4-4b11-408b-a315-efb16eebf09c
DTSTART;VALUE=DATE:20260603
DTEND;VALUE=DATE:20260604
DESCRIPTION:
LOCATION:
SUMMARY:Elem. Grade 4 Meet and Greet - Track
END:VEVENT
BEGIN:VEVENT
DTSTAMP:20260422T085045Z
UID:851deb6b-2c94-43f4-8484-9f4db1229d6c
DTSTART;VALUE=DATE:20260604
DTEND;VALUE=DATE:20260605
DESCRIPTION:
LOCATION:
SUMMARY:Elem. Grade 4 Meet and Greet Rain Date
END:VEVENT
BEGIN:VEVENT
DTSTAMP:20260422T085045Z
UID:0c063570-a593-4c97-b94c-78ee815ce9ca
DTSTART:20260604T183000
DTEND:20260604T193000
DESCRIPTION:
LOCATION:
SUMMARY:5/6 Grade Spring Concert
END:VEVENT
BEGIN:VEVENT
DTSTAMP:20260422T085045Z
UID:bd4ce441-50cc-4bbd-a93c-3f09c6660b0c
DTSTART:20260604T190000
DTEND:20260604T200000
DESCRIPTION:
LOCATION:
SUMMARY:7/8 Grade Spring Concert
END:VEVENT
BEGIN:VEVENT
DTSTAMP:20260422T085045Z
UID:25c1f425-5846-4f90-9995-1e3d4debf50f
DTSTART;VALUE=DATE:20260605
DTEND;VALUE=DATE:20260606
DESCRIPTION:
LOCATION:
SUMMARY:EJA Sandy Crowley Picnic
END:VEVENT
BEGIN:VEVENT
DTSTAMP:20260422T085045Z
UID:5f7f4165-6699-4690-afdf-1b9fe1d27ecd
DTSTART;VALUE=DATE:20260609
DTEND;VALUE=DATE:20260611
DESCRIPTION:
LOCATION:
SUMMARY:Regents Testing
END:VEVENT
BEGIN:VEVENT
DTSTAMP:20260422T085045Z
UID:c31aac5a-f2c3-451c-b440-560ada109cbf
DTSTART:20260615T073000
DTEND:20260615T080000
DESCRIPTION:
LOCATION:H.S. LIBRARY
SUMMARY:PROBATIONARY TEACHERS
END:VEVENT
BEGIN:VEVENT
DTSTAMP:20260422T085045Z
UID:f4454bf4-4640-4168-91ab-671dfc4ce704
DTSTART:20260616T094500
DTEND:20260616T104500
DESCRIPTION:
LOCATION:
SUMMARY:EJA Grade 4 Moving Up Ceremony
END:VEVENT
BEGIN:VEVENT
DTSTAMP:20260422T085045Z
UID:3438b8e6-f7c6-4a6d-8fa2-b2e691f7def0
DTSTART;VALUE=DATE:20260617
DTEND;VALUE=DATE:20260619
DESCRIPTION:
LOCATION:
SUMMARY:Regents Testing
END:VEVENT
BEGIN:VEVENT
DTSTAMP:20260422T085045Z
UID:bf22b7b5-fc95-46a0-9cae-0a0ba3780fa3
DTSTART:20260618T093000
DTEND:20260618T103000
DESCRIPTION:
LOCATION:
SUMMARY:EJA Pre-K Donuts w. Dad - Cafeteria
END:VEVENT
BEGIN:VEVENT
DTSTAMP:20260422T085045Z
UID:b0713f17-9dfe-4a2f-8986-d5eea853a6fe
DTSTART:20260618T113000
DTEND:20260618T124500
DESCRIPTION:
LOCATION:
SUMMARY:Pre-K 's End of Year Family Picnic (Riverside Park\, Athens)
END:VEVENT
BEGIN:VEVENT
DTSTAMP:20260422T085045Z
UID:c99be3d9-f67c-438c-a078-e4cd9538ed60
DTSTART:20260618T183000
DTEND:20260618T193000
DESCRIPTION:
LOCATION:HS Library
SUMMARY:BOE Meeting
END:VEVENT
BEGIN:VEVENT
DTSTAMP:20260422T085045Z
UID:3ef21778-0693-4fbf-ad38-3dc4d45c82d3
DTSTART;VALUE=DATE:20260623
DTEND;VALUE=DATE:20260627
DESCRIPTION:
LOCATION:
SUMMARY:Regents Testing
END:VEVENT
BEGIN:VEVENT
DTSTAMP:20260422T085045Z
UID:15235ed0-609c-4ddc-a84e-1f82c3746a16
DTSTART;VALUE=DATE:20260626
DTEND;VALUE=DATE:20260627
DESCRIPTION:
LOCATION:
SUMMARY:MS End Quarter 4
END:VEVENT
BEGIN:VEVENT
DTSTAMP:20260422T085045Z
UID:acade5a2-a891-4f0a-8e34-7718847e5f9d
DTSTART:20260702T183000
DTEND:20260702T193000
DESCRIPTION:
LOCATION:HS Library
SUMMARY:BOE Meeting
END:VEVENT
BEGIN:VEVENT
DTSTAMP:20260422T085045Z
UID:1d283317-9c47-4f19-b533-27ad61a86d4d
DTSTART;VALUE=DATE:20260706
DTEND;VALUE=DATE:20260707
DESCRIPTION:
LOCATION:
SUMMARY:SUMMER SCHOOL BEGINS
END:VEVENT
BEGIN:VEVENT
DTSTAMP:20260422T085045Z
UID:762f1a6e-099b-453f-9db9-eab9d6932abd
DTSTART;VALUE=DATE:20260912
DTEND;VALUE=DATE:20260914
DESCRIPTION:
LOCATION:
SUMMARY:Rosh Hashanah
END:VEVENT
BEGIN:VEVENT
DTSTAMP:20260422T085045Z
UID:69d3e8ec-e5e6-412f-b4b7-b5f50e00364f
DTSTART;VALUE=DATE:20260921
DTEND;VALUE=DATE:20260922
DESCRIPTION:
LOCATION:
SUMMARY:Yom Kippur
END:VEVENT
BEGIN:VEVENT
DTSTAMP:20260422T085045Z
UID:16e3900c-4d32-4263-849c-524b13b0b993
DTSTART;VALUE=DATE:20261008
DTEND;VALUE=DATE:20261009
DESCRIPTION:
LOCATION:
SUMMARY:EJA Fire House Day School Presentations
END:VEVENT
BEGIN:VEVENT
DTSTAMP:20260422T085045Z
UID:aad3f430-6f86-44be-8c4c-db2be07a33f0
DTSTART;VALUE=DATE:20261009
DTEND;VALUE=DATE:20261010
DESCRIPTION:
LOCATION:
SUMMARY:EJA Fire House Day Visit
END:VEVENT
BEGIN:VEVENT
DTSTAMP:20260422T085045Z
UID:705b71f7-8b73-4d05-8287-ec3bbcf3daf1
DTSTART:20261023T060000
DTEND:20261023T070000
DESCRIPTION:
LOCATION:
SUMMARY:EJA PTO Harvest Festival
END:VEVENT
BEGIN:VEVENT
DTSTAMP:20260422T085045Z
UID:d946d29a-1a64-4a1d-9efa-4e4b5be6caec
DTSTART;VALUE=DATE:20261130
DTEND;VALUE=DATE:20261206
DESCRIPTION:
LOCATION:
SUMMARY:EJA PTO Book Fair
END:VEVENT
BEGIN:VEVENT
DTSTAMP:20260422T085045Z
UID:86b03e6a-f46d-4250-8421-123ba9930b24
DTSTART:20261205T100000
DTEND:20261205T113000
DESCRIPTION:
LOCATION:
SUMMARY:EJA Cocoa & Cookies with Claus
END:VEVENT
BEGIN:VEVENT
DTSTAMP:20260422T085045Z
UID:af55e9d3-7288-47e6-9bf1-9bd77cca6239
DTSTART;VALUE=DATE:20270422
DTEND;VALUE=DATE:20270430
DESCRIPTION:
LOCATION:
SUMMARY:Passover
END:VEVENT
BEGIN:VEVENT
DTSTAMP:20260422T085045Z
UID:f80db665-4abc-408e-8766-dbe3e8a49405
DTSTART;VALUE=DATE:20270611
DTEND;VALUE=DATE:20270612
DESCRIPTION:
LOCATION:
SUMMARY:Shavout
END:VEVENT
END:VCALENDAR
