BEGIN:VCALENDAR
VERSION:2.0
PRODID:icalendar-ruby
CALSCALE:GREGORIAN
BEGIN:VTIMEZONE
TZID:America/New_York
BEGIN:DAYLIGHT
DTSTART:20260308T030000
TZOFFSETFROM:-0500
TZOFFSETTO:-0400
RRULE:FREQ=YEARLY;BYDAY=2SU;BYMONTH=3
TZNAME:EDT
END:DAYLIGHT
BEGIN:STANDARD
DTSTART:20261101T010000
TZOFFSETFROM:-0400
TZOFFSETTO:-0500
RRULE:FREQ=YEARLY;BYDAY=1SU;BYMONTH=11
TZNAME:EST
END:STANDARD
END:VTIMEZONE
BEGIN:VEVENT
DTSTAMP:20260423T144714Z
UID:18319624-a5ad-4ecf-9901-e9c38843ffc1
DTSTART;VALUE=DATE:20260429
DTEND;VALUE=DATE:20260430
DESCRIPTION:
LOCATION:
SUMMARY:Early Dismissal for Students\; Professional Learning for Staff
END:VEVENT
BEGIN:VEVENT
DTSTAMP:20260423T144714Z
UID:d67aea0a-b2e6-4f5c-927b-3ace6d036507
DTSTART;VALUE=DATE:20260513
DTEND;VALUE=DATE:20260514
DESCRIPTION:
LOCATION:
SUMMARY:Early Dismissal for Students\; Professional Learning for Staff
END:VEVENT
BEGIN:VEVENT
DTSTAMP:20260423T144714Z
UID:fa8405cc-b367-4890-99d4-2dbf17917931
DTSTART;VALUE=DATE:20260525
DTEND;VALUE=DATE:20260526
DESCRIPTION:
LOCATION:
SUMMARY:Memorial Day: Schools/Offices Closed
END:VEVENT
BEGIN:VEVENT
DTSTAMP:20260423T144714Z
UID:da205720-cc32-4d2b-810c-9d9d3bb3af72
DTSTART;VALUE=DATE:20260615
DTEND;VALUE=DATE:20260616
DESCRIPTION:
LOCATION:
SUMMARY:Early Dismissal for Students
END:VEVENT
BEGIN:VEVENT
DTSTAMP:20260423T144714Z
UID:bd775f6d-0a53-4982-b2d2-a748be7a124d
DTSTART;VALUE=DATE:20260616
DTEND;VALUE=DATE:20260617
DESCRIPTION:
LOCATION:
SUMMARY:Early Dismissal for Students
END:VEVENT
BEGIN:VEVENT
DTSTAMP:20260423T144714Z
UID:432339ce-0249-490c-9874-77eafc9287b4
DTSTART;VALUE=DATE:20260617
DTEND;VALUE=DATE:20260618
DESCRIPTION:
LOCATION:
SUMMARY:Last Day of School\, Early Dismissal for Students and Staff
END:VEVENT
END:VCALENDAR
