BEGIN:VCALENDAR
VERSION:2.0
PRODID:icalendar-ruby
CALSCALE:GREGORIAN
BEGIN:VTIMEZONE
TZID:America/Chicago
BEGIN:DAYLIGHT
DTSTART:20260308T030000
TZOFFSETFROM:-0600
TZOFFSETTO:-0500
RRULE:FREQ=YEARLY;BYDAY=2SU;BYMONTH=3
TZNAME:CDT
END:DAYLIGHT
BEGIN:STANDARD
DTSTART:20261101T010000
TZOFFSETFROM:-0500
TZOFFSETTO:-0600
RRULE:FREQ=YEARLY;BYDAY=1SU;BYMONTH=11
TZNAME:CST
END:STANDARD
END:VTIMEZONE
BEGIN:VEVENT
DTSTAMP:20260425T233343Z
UID:49987f4b-fbc4-4616-9405-4b9da37a74bd
DTSTART:20260427T083000
DTEND:20260427T143000
DESCRIPTION:
LOCATION:
SUMMARY:First Grade Field Trip to The Texas Zoo
END:VEVENT
BEGIN:VEVENT
DTSTAMP:20260425T233343Z
UID:e88c199a-b1ed-4d8b-8a04-bf57aa77c6e2
DTSTART;VALUE=DATE:20260428
DTEND;VALUE=DATE:20260429
DESCRIPTION:
LOCATION:
SUMMARY:3rd Grade Math STAAR
END:VEVENT
BEGIN:VEVENT
DTSTAMP:20260425T233343Z
UID:0ccbba7c-f705-4768-993e-8adfe1cef207
DTSTART;VALUE=DATE:20260429
DTEND;VALUE=DATE:20260430
DESCRIPTION:
LOCATION:
SUMMARY:4th Grade Math STAAR
END:VEVENT
BEGIN:VEVENT
DTSTAMP:20260425T233343Z
UID:b93ec9b6-e7e3-4046-9c7d-87a83c161809
DTSTART;VALUE=DATE:20260430
DTEND;VALUE=DATE:20260501
DESCRIPTION:
LOCATION:
SUMMARY:5th Grade Math STAAR
END:VEVENT
BEGIN:VEVENT
DTSTAMP:20260425T233343Z
UID:9baac1da-f6e5-4abd-9e6f-5247fb8c2062
DTSTART:20260506T073000
DTEND:20260506T160000
DESCRIPTION:
LOCATION:
SUMMARY:Fourth Grade Trip to Sea World San Antonio
END:VEVENT
BEGIN:VEVENT
DTSTAMP:20260425T233343Z
UID:9b937e3e-cee1-43bd-ac06-a5b516b3658d
DTSTART;VALUE=DATE:20260507
DTEND;VALUE=DATE:20260508
DESCRIPTION:
LOCATION:
SUMMARY:PreK Field Trip to The Children's Museum
END:VEVENT
BEGIN:VEVENT
DTSTAMP:20260425T233343Z
UID:c85e3900-1990-44a9-8d8d-78c50c0fbd2f
DTSTART:20260507T173000
DTEND:20260507T193000
DESCRIPTION:
LOCATION:
SUMMARY:Mother/Son Skate Night
END:VEVENT
BEGIN:VEVENT
DTSTAMP:20260425T233343Z
UID:7be7541b-05c6-41f9-851a-5acfd3982a83
DTSTART:20260508T080000
DTEND:20260508T173000
DESCRIPTION:
LOCATION:
SUMMARY:Third Grade Trip to The San Antonio Zoo
END:VEVENT
BEGIN:VEVENT
DTSTAMP:20260425T233343Z
UID:e371c21c-d36b-49b2-a1db-e4a90744eed0
DTSTART:20260515T080000
DTEND:20260515T173000
DESCRIPTION:
LOCATION:
SUMMARY:Fifth Grade Field Trip to NASA
END:VEVENT
BEGIN:VEVENT
DTSTAMP:20260425T233343Z
UID:30a245f4-c8ed-4a02-9115-9392e138b2bd
DTSTART:20260515T090000
DTEND:20260515T100000
DESCRIPTION:
LOCATION:
SUMMARY:2nd Grade Career Showcase
END:VEVENT
BEGIN:VEVENT
DTSTAMP:20260425T233343Z
UID:4955b280-9439-41cd-9126-87cbfea5a227
DTSTART:20260522T173000
DTEND:20260522T183000
DESCRIPTION:
LOCATION:
SUMMARY:Kindergarten Graduation
END:VEVENT
BEGIN:VEVENT
DTSTAMP:20260425T233343Z
UID:352b6bfa-d113-411b-9182-08fb86a79660
DTSTART:20260522T183000
DTEND:20260522T193000
DESCRIPTION:
LOCATION:
SUMMARY:5th Grade Graduation
END:VEVENT
BEGIN:VEVENT
DTSTAMP:20260425T233343Z
UID:0a99eaad-e8ff-4f47-a832-cfffc316ebe1
DTSTART;VALUE=DATE:20260525
DTEND;VALUE=DATE:20260526
DESCRIPTION:
LOCATION:
SUMMARY:No School!
END:VEVENT
BEGIN:VEVENT
DTSTAMP:20260425T233343Z
UID:f9f60bd3-0e0b-4fea-8373-396553453cdb
DTSTART:20260526T083000
DTEND:20260526T090000
DESCRIPTION:
LOCATION:
SUMMARY:PreK Awards
END:VEVENT
BEGIN:VEVENT
DTSTAMP:20260425T233343Z
UID:66abd1da-2355-4227-b311-49c1bb6cf123
DTSTART:20260526T091500
DTEND:20260526T094500
DESCRIPTION:
LOCATION:
SUMMARY:1st Grade Awards
END:VEVENT
BEGIN:VEVENT
DTSTAMP:20260425T233343Z
UID:fc8b4148-0d4c-4450-a454-214ccc44a9ed
DTSTART:20260526T100000
DTEND:20260526T103000
DESCRIPTION:
LOCATION:
SUMMARY:2nd Grade Awards
END:VEVENT
BEGIN:VEVENT
DTSTAMP:20260425T233343Z
UID:efb82226-0e2c-4eda-bb8f-0e3d7da3bce8
DTSTART:20260526T130000
DTEND:20260526T133000
DESCRIPTION:
LOCATION:
SUMMARY:3rd Grade Awards
END:VEVENT
BEGIN:VEVENT
DTSTAMP:20260425T233343Z
UID:ee03be4e-2ae1-4991-9aef-2b173545958a
DTSTART:20260526T140000
DTEND:20260526T143000
DESCRIPTION:
LOCATION:
SUMMARY:4th Grade Awards
END:VEVENT
BEGIN:VEVENT
DTSTAMP:20260425T233343Z
UID:6b46a350-2bdf-458f-b4be-7c335a92bdc3
DTSTART;VALUE=DATE:20260528
DTEND;VALUE=DATE:20260529
DESCRIPTION:
LOCATION:
SUMMARY:Last Day! FUN RUN!
END:VEVENT
END:VCALENDAR
