BEGIN:VCALENDAR
VERSION:2.0
PRODID:icalendar-ruby
CALSCALE:GREGORIAN
BEGIN:VTIMEZONE
TZID:America/New_York
BEGIN:DAYLIGHT
DTSTART:20260308T030000
TZOFFSETFROM:-0500
TZOFFSETTO:-0400
RRULE:FREQ=YEARLY;BYDAY=2SU;BYMONTH=3
TZNAME:EDT
END:DAYLIGHT
BEGIN:STANDARD
DTSTART:20261101T010000
TZOFFSETFROM:-0400
TZOFFSETTO:-0500
RRULE:FREQ=YEARLY;BYDAY=1SU;BYMONTH=11
TZNAME:EST
END:STANDARD
END:VTIMEZONE
BEGIN:VEVENT
DTSTAMP:20260425T141114Z
UID:b0062da6-9444-4427-b6bc-e7d99017993f
DTSTART;VALUE=DATE:20260425
DTEND;VALUE=DATE:20260426
DESCRIPTION:Meet Time - 12:00PM\n\nDeparture - 7:00AM
LOCATION:
SUMMARY:Track & Field @ Old Town
END:VEVENT
BEGIN:VEVENT
DTSTAMP:20260425T141114Z
UID:0a696ca8-06ab-49eb-bf05-9069d1511f8d
DTSTART;VALUE=DATE:20260427
DTEND;VALUE=DATE:20260428
DESCRIPTION:Game Times - 4:00\n\nDeparture - 1:00
LOCATION:
SUMMARY:HS Softball/Baseball @ SACS
END:VEVENT
BEGIN:VEVENT
DTSTAMP:20260425T141114Z
UID:606a2283-16db-4886-a50d-ab2196cd7887
DTSTART;VALUE=DATE:20260428
DTEND;VALUE=DATE:20260429
DESCRIPTION:Game Times - 4:00\n\nDeparture - 1:30
LOCATION:
SUMMARY:HS Softball/Baseball @ Hodgdon
END:VEVENT
BEGIN:VEVENT
DTSTAMP:20260425T141114Z
UID:31c8c414-be03-4073-a9ca-f0a322570f77
DTSTART;VALUE=DATE:20260429
DTEND;VALUE=DATE:20260501
DESCRIPTION:
LOCATION:
SUMMARY:Spring Carnival
END:VEVENT
BEGIN:VEVENT
DTSTAMP:20260425T141114Z
UID:35447346-61fe-4236-8aa2-048267cc5a34
DTSTART;VALUE=DATE:20260430
DTEND;VALUE=DATE:20260501
DESCRIPTION:Game Times - 3:00/5:00\n\nDeparture - 1:30
LOCATION:
SUMMARY:MS Baseball/Softball @ Ashland DH
END:VEVENT
BEGIN:VEVENT
DTSTAMP:20260425T141114Z
UID:2371bb09-49ac-4caf-9a68-4b743dd6ae5f
DTSTART;VALUE=DATE:20260501
DTEND;VALUE=DATE:20260502
DESCRIPTION:Meet Time - 3:30PM\n\nDeparture - 2:00PM
LOCATION:
SUMMARY:Track & Field @ Presque Isle
END:VEVENT
BEGIN:VEVENT
DTSTAMP:20260425T141114Z
UID:c5bfb1cd-3be9-4a3b-92b7-12e0ab09a32e
DTSTART;VALUE=DATE:20260504
DTEND;VALUE=DATE:20260505
DESCRIPTION:Game Times - 4:00\n\nDeparture - 2:00
LOCATION:
SUMMARY:HS Softball/Baseball @ Wisdom
END:VEVENT
BEGIN:VEVENT
DTSTAMP:20260425T141114Z
UID:d8288d2c-850a-470f-828e-251d391179e1
DTSTART;VALUE=DATE:20260505
DTEND;VALUE=DATE:20260506
DESCRIPTION:Game Time - 3:30
LOCATION:
SUMMARY:MS Baseball/Softball vs Union 122
END:VEVENT
BEGIN:VEVENT
DTSTAMP:20260425T141114Z
UID:11ee7f38-9220-4344-84f1-5f52c6a1bdac
DTSTART;VALUE=DATE:20260505
DTEND;VALUE=DATE:20260506
DESCRIPTION:
LOCATION:
SUMMARY:WDHS Staff Meeting
END:VEVENT
BEGIN:VEVENT
DTSTAMP:20260425T141114Z
UID:44553070-8b0e-4ccb-80cd-57fd81f7017f
DTSTART;VALUE=DATE:20260506
DTEND;VALUE=DATE:20260507
DESCRIPTION:Game Time:  4:00
LOCATION:
SUMMARY:HS Baseball vs Katahdin 
END:VEVENT
BEGIN:VEVENT
DTSTAMP:20260425T141114Z
UID:fc8299bc-1092-4ff8-aaee-48fc04f4248d
DTSTART;VALUE=DATE:20260507
DTEND;VALUE=DATE:20260508
DESCRIPTION:
LOCATION:
SUMMARY:HS Spring Concert
END:VEVENT
BEGIN:VEVENT
DTSTAMP:20260425T141114Z
UID:77e952da-1130-459d-8d11-f0c030000c7b
DTSTART;VALUE=DATE:20260508
DTEND;VALUE=DATE:20260509
DESCRIPTION:Game Times - 4:00
LOCATION:
SUMMARY:HS Softball/Baseball vs Ashland
END:VEVENT
BEGIN:VEVENT
DTSTAMP:20260425T141114Z
UID:ef9803b3-a3b4-45b3-9d5c-a4263d418443
DTSTART;VALUE=DATE:20260509
DTEND;VALUE=DATE:20260510
DESCRIPTION:
LOCATION:
SUMMARY:Prom
END:VEVENT
BEGIN:VEVENT
DTSTAMP:20260425T141114Z
UID:9381006c-3215-40ae-8aac-47e03922e9f1
DTSTART;VALUE=DATE:20260509
DTEND;VALUE=DATE:20260510
DESCRIPTION:Meet Time - 1:00PM\n\nDeparture - 10:45AM
LOCATION:
SUMMARY:Track & Field @ Caribou
END:VEVENT
BEGIN:VEVENT
DTSTAMP:20260425T141114Z
UID:7ab34d6e-c428-4da3-96b4-62a4ae363c4c
DTSTART;VALUE=DATE:20260511
DTEND;VALUE=DATE:20260512
DESCRIPTION:Game Times - 4:00
LOCATION:
SUMMARY:HS Softball/Baseball vs Hodgdon
END:VEVENT
BEGIN:VEVENT
DTSTAMP:20260425T141114Z
UID:764eab20-778a-4c12-86b2-d2779c3db691
DTSTART;VALUE=DATE:20260512
DTEND;VALUE=DATE:20260513
DESCRIPTION:Game Time - 3:30\n\nDeparture - 2:00
LOCATION:
SUMMARY:MS Baseball/Softball @ Union 122
END:VEVENT
BEGIN:VEVENT
DTSTAMP:20260425T141114Z
UID:e1248031-768b-4157-bb48-6af3115bf737
DTSTART;VALUE=DATE:20260513
DTEND;VALUE=DATE:20260514
DESCRIPTION:
LOCATION:
SUMMARY:Early Release
END:VEVENT
BEGIN:VEVENT
DTSTAMP:20260425T141114Z
UID:eb194909-10e8-4ea2-802f-a24ccdb483ba
DTSTART;VALUE=DATE:20260513
DTEND;VALUE=DATE:20260514
DESCRIPTION:Game Times - 4:00
LOCATION:
SUMMARY:HS Softball/Baseball vs SACS
END:VEVENT
BEGIN:VEVENT
DTSTAMP:20260425T141114Z
UID:15b17fe6-02cd-44c9-a431-9a9333bee86b
DTSTART;VALUE=DATE:20260514
DTEND;VALUE=DATE:20260516
DESCRIPTION:
LOCATION:
SUMMARY:All State Music Festival
END:VEVENT
BEGIN:VEVENT
DTSTAMP:20260425T141114Z
UID:8f447981-507e-40b8-9f90-5e0fb228d2f8
DTSTART;VALUE=DATE:20260514
DTEND;VALUE=DATE:20260515
DESCRIPTION:Game Time - 4:00\n\nDeparture - 2:00
LOCATION:
SUMMARY:MS Baseball/Softball @ Wisdom
END:VEVENT
BEGIN:VEVENT
DTSTAMP:20260425T141114Z
UID:e091c528-840a-4248-8b4f-94be9fe2c646
DTSTART;VALUE=DATE:20260514
DTEND;VALUE=DATE:20260515
DESCRIPTION:Meet Time - 3:30PM\n\nDeparture - 10:30AM
LOCATION:
SUMMARY:Track & Field @ Orono
END:VEVENT
BEGIN:VEVENT
DTSTAMP:20260425T141114Z
UID:bf85458b-0b79-424f-bea3-815b47febe6b
DTSTART;VALUE=DATE:20260515
DTEND;VALUE=DATE:20260516
DESCRIPTION:Game Times - 4:30\n\nDeparture - 2:00
LOCATION:
SUMMARY:HS Softball/Baseball @ Madawaska
END:VEVENT
BEGIN:VEVENT
DTSTAMP:20260425T141114Z
UID:83edeb29-8db6-4a66-8905-270e23c619a4
DTSTART;VALUE=DATE:20260515
DTEND;VALUE=DATE:20260516
DESCRIPTION:
LOCATION:
SUMMARY:Progress Check
END:VEVENT
BEGIN:VEVENT
DTSTAMP:20260425T141114Z
UID:95a221af-57cd-47b6-ae0b-4faf09c2b76f
DTSTART;VALUE=DATE:20260518
DTEND;VALUE=DATE:20260519
DESCRIPTION:Game Times - DH 3:00 & 5:00\n\nDeparture - 1:30
LOCATION:
SUMMARY:HS Softball/Baseball DH @ Fort Fairfield
END:VEVENT
BEGIN:VEVENT
DTSTAMP:20260425T141114Z
UID:32f5b8da-b897-47e8-bc2e-bd0a3c2d129e
DTSTART;VALUE=DATE:20260519
DTEND;VALUE=DATE:20260520
DESCRIPTION:
LOCATION:
SUMMARY:Academic Awards Banquet
END:VEVENT
BEGIN:VEVENT
DTSTAMP:20260425T141114Z
UID:75fa84b2-ee0b-4c70-a71b-bca9796806da
DTSTART;VALUE=DATE:20260520
DTEND;VALUE=DATE:20260521
DESCRIPTION:Game Times - 4:00
LOCATION:
SUMMARY:HS Softball/Baseball vs Wisdom
END:VEVENT
BEGIN:VEVENT
DTSTAMP:20260425T141114Z
UID:ac6645ef-ef2d-4845-8608-66df610a7866
DTSTART;VALUE=DATE:20260521
DTEND;VALUE=DATE:20260522
DESCRIPTION:
LOCATION:
SUMMARY:MS Spring Concert
END:VEVENT
BEGIN:VEVENT
DTSTAMP:20260425T141114Z
UID:f203c189-d7af-42a0-8f78-a3afed1a5ed5
DTSTART;VALUE=DATE:20260521
DTEND;VALUE=DATE:20260522
DESCRIPTION:Meet Time - 3:30PM\n\nDeparture - 1:30PM
LOCATION:
SUMMARY:Track & Field @ Aroostook County Championship - Caribou
END:VEVENT
BEGIN:VEVENT
DTSTAMP:20260425T141114Z
UID:1b93193c-8736-494c-8080-df1a91426542
DTSTART;VALUE=DATE:20260525
DTEND;VALUE=DATE:20260526
DESCRIPTION:
LOCATION:
SUMMARY:Memorial Day
END:VEVENT
BEGIN:VEVENT
DTSTAMP:20260425T141114Z
UID:30c9b88e-063b-4baf-8dc9-f7f4178f0955
DTSTART;VALUE=DATE:20260526
DTEND;VALUE=DATE:20260527
DESCRIPTION:Game Time:  4:00\n\nDeparture:  1:00
LOCATION:
SUMMARY:HS Softball/Baseball @ Katahdin
END:VEVENT
BEGIN:VEVENT
DTSTAMP:20260425T141114Z
UID:40395b37-49af-431f-b06e-6b0fa8103d33
DTSTART;VALUE=DATE:20260527
DTEND;VALUE=DATE:20260528
DESCRIPTION:Game Times - 4:00\n\nDeparture - 2:30
LOCATION:
SUMMARY:HS Softball/Baseball @ Ashland
END:VEVENT
BEGIN:VEVENT
DTSTAMP:20260425T141114Z
UID:dcf5c81c-57d8-413a-8d50-db1a5a5af348
DTSTART;VALUE=DATE:20260531
DTEND;VALUE=DATE:20260601
DESCRIPTION:
LOCATION:
SUMMARY:Baccalaureate 6:00
END:VEVENT
BEGIN:VEVENT
DTSTAMP:20260425T141114Z
UID:5d88c227-91b1-478a-b347-627b3dde0092
DTSTART;VALUE=DATE:20260601
DTEND;VALUE=DATE:20260602
DESCRIPTION:Game Time - 4:00
LOCATION:
SUMMARY:MS Baseball/Softball vs Wisdom
END:VEVENT
BEGIN:VEVENT
DTSTAMP:20260425T141114Z
UID:c0dcbb79-98f4-419a-ae16-5fcc9a87e8f0
DTSTART;VALUE=DATE:20260602
DTEND;VALUE=DATE:20260603
DESCRIPTION:Game Times - 4:00
LOCATION:
SUMMARY:HS Softball/Baseball vs Madawaska
END:VEVENT
BEGIN:VEVENT
DTSTAMP:20260425T141114Z
UID:6380c035-d2a2-47b0-87d4-6429e987ecdc
DTSTART;VALUE=DATE:20260602
DTEND;VALUE=DATE:20260603
DESCRIPTION:
LOCATION:
SUMMARY:WDHS Staff Meeting
END:VEVENT
BEGIN:VEVENT
DTSTAMP:20260425T141114Z
UID:046ae7f3-7f30-4909-b5fe-5e82366839b8
DTSTART;VALUE=DATE:20260605
DTEND;VALUE=DATE:20260606
DESCRIPTION:
LOCATION:
SUMMARY:Graduation 7:00
END:VEVENT
BEGIN:VEVENT
DTSTAMP:20260425T141114Z
UID:a91bbf9c-f621-452a-bef2-60e951c608e6
DTSTART;VALUE=DATE:20260608
DTEND;VALUE=DATE:20260609
DESCRIPTION:
LOCATION:
SUMMARY: Spring Sports Awards
END:VEVENT
BEGIN:VEVENT
DTSTAMP:20260425T141114Z
UID:a01f9aa3-b09c-46bd-9cb9-68b5616c2496
DTSTART;VALUE=DATE:20260612
DTEND;VALUE=DATE:20260613
DESCRIPTION:
LOCATION:
SUMMARY:Last Day
END:VEVENT
BEGIN:VEVENT
DTSTAMP:20260425T141114Z
UID:50e6cd0c-5797-4b43-93e9-6e070cdf36f4
DTSTART;VALUE=DATE:20260619
DTEND;VALUE=DATE:20260620
DESCRIPTION:
LOCATION:
SUMMARY:Juneteenth
END:VEVENT
BEGIN:VEVENT
DTSTAMP:20260425T141114Z
UID:2568d9bb-9db7-4d6e-b470-a7e658883fa7
DTSTART;VALUE=DATE:20260815
DTEND;VALUE=DATE:20260816
DESCRIPTION:
LOCATION:
SUMMARY:Hall of Fame Induction
END:VEVENT
BEGIN:VEVENT
DTSTAMP:20260425T141114Z
UID:0c3b7092-e821-47a0-8eb9-94c6fdfb4c42
DTSTART;VALUE=DATE:20260817
DTEND;VALUE=DATE:20260819
DESCRIPTION:
LOCATION:
SUMMARY:Teacher Workshops
END:VEVENT
BEGIN:VEVENT
DTSTAMP:20260425T141114Z
UID:396c42f6-d0c9-4d0a-ba39-5ff7817c67da
DTSTART;VALUE=DATE:20260819
DTEND;VALUE=DATE:20260820
DESCRIPTION:
LOCATION:
SUMMARY:First Day of School
END:VEVENT
BEGIN:VEVENT
DTSTAMP:20260425T141114Z
UID:ce846cbe-538c-4440-80ea-131d00239b07
DTSTART;VALUE=DATE:20260907
DTEND;VALUE=DATE:20260908
DESCRIPTION:
LOCATION:
SUMMARY:Labor Day
END:VEVENT
BEGIN:VEVENT
DTSTAMP:20260425T141114Z
UID:e5a273b8-3e88-447d-b7ad-c5db8805a2a6
DTSTART;VALUE=DATE:20260918
DTEND;VALUE=DATE:20260919
DESCRIPTION:
LOCATION:
SUMMARY:Teacher Workshop
END:VEVENT
BEGIN:VEVENT
DTSTAMP:20260425T141114Z
UID:3e3a285d-931a-4cd9-935f-4d67513b4d30
DTSTART;VALUE=DATE:20260921
DTEND;VALUE=DATE:20260926
DESCRIPTION:
LOCATION:
SUMMARY:Harvest Break
END:VEVENT
BEGIN:VEVENT
DTSTAMP:20260425T141114Z
UID:11751017-3e8b-4f4a-ab71-a0c6e5b05b80
DTSTART;VALUE=DATE:20260928
DTEND;VALUE=DATE:20261003
DESCRIPTION:
LOCATION:
SUMMARY:Harvest Break
END:VEVENT
BEGIN:VEVENT
DTSTAMP:20260425T141114Z
UID:d4c896dd-196f-41e9-b030-a0a80b817a2c
DTSTART;VALUE=DATE:20261009
DTEND;VALUE=DATE:20261010
DESCRIPTION:
LOCATION:
SUMMARY:Early Release
END:VEVENT
BEGIN:VEVENT
DTSTAMP:20260425T141114Z
UID:70886ba3-bc2f-4c46-a51c-291bc22da112
DTSTART;VALUE=DATE:20261012
DTEND;VALUE=DATE:20261013
DESCRIPTION:
LOCATION:
SUMMARY:Indigenous People Day
END:VEVENT
BEGIN:VEVENT
DTSTAMP:20260425T141114Z
UID:a1222769-93c6-4a4f-ba7f-8ddd1d0de017
DTSTART;VALUE=DATE:20261016
DTEND;VALUE=DATE:20261017
DESCRIPTION:
LOCATION:
SUMMARY:Progress Check
END:VEVENT
BEGIN:VEVENT
DTSTAMP:20260425T141114Z
UID:bb57963a-e003-4bfa-b03a-8662945d7877
DTSTART;VALUE=DATE:20261106
DTEND;VALUE=DATE:20261107
DESCRIPTION:
LOCATION:
SUMMARY:Q1 Ends
END:VEVENT
BEGIN:VEVENT
DTSTAMP:20260425T141114Z
UID:882653d0-60ff-443c-934b-741baa31a0e9
DTSTART;VALUE=DATE:20261111
DTEND;VALUE=DATE:20261112
DESCRIPTION:
LOCATION:
SUMMARY:Veterans Day
END:VEVENT
BEGIN:VEVENT
DTSTAMP:20260425T141114Z
UID:97c35c03-5a49-407a-ad77-aad14fa6c8ab
DTSTART;VALUE=DATE:20261123
DTEND;VALUE=DATE:20261125
DESCRIPTION:
LOCATION:
SUMMARY:Parent/Teacher - Early Release
END:VEVENT
BEGIN:VEVENT
DTSTAMP:20260425T141114Z
UID:ca8b3e91-88f6-4ca9-96ba-7fcc2a0df2c1
DTSTART;VALUE=DATE:20261125
DTEND;VALUE=DATE:20261126
DESCRIPTION:
LOCATION:
SUMMARY:Vacation Day
END:VEVENT
BEGIN:VEVENT
DTSTAMP:20260425T141114Z
UID:4e379528-c258-4ca2-a12d-b5d7b2113b65
DTSTART;VALUE=DATE:20261126
DTEND;VALUE=DATE:20261127
DESCRIPTION:
LOCATION:
SUMMARY:Thanksgiving Day
END:VEVENT
BEGIN:VEVENT
DTSTAMP:20260425T141114Z
UID:8f7e9f9e-d76e-45a7-9644-c49ffcf21fab
DTSTART;VALUE=DATE:20261127
DTEND;VALUE=DATE:20261128
DESCRIPTION:
LOCATION:
SUMMARY:Vacation Day
END:VEVENT
BEGIN:VEVENT
DTSTAMP:20260425T141114Z
UID:5a28c92f-e22e-4bac-9318-bea9e49265f9
DTSTART;VALUE=DATE:20261204
DTEND;VALUE=DATE:20261205
DESCRIPTION:
LOCATION:
SUMMARY:Progress Check
END:VEVENT
BEGIN:VEVENT
DTSTAMP:20260425T141114Z
UID:bf51653a-7f8b-4529-9645-ca3f9bcdeff3
DTSTART;VALUE=DATE:20261222
DTEND;VALUE=DATE:20261223
DESCRIPTION:
LOCATION:
SUMMARY:Early Release
END:VEVENT
BEGIN:VEVENT
DTSTAMP:20260425T141114Z
UID:b084296b-d8ff-412b-95cc-eb906b9d628e
DTSTART;VALUE=DATE:20261223
DTEND;VALUE=DATE:20270104
DESCRIPTION:
LOCATION:
SUMMARY:Christmas Break
END:VEVENT
BEGIN:VEVENT
DTSTAMP:20260425T141114Z
UID:c83b538f-67bf-423d-8f8c-24a9b31fcb73
DTSTART;VALUE=DATE:20270101
DTEND;VALUE=DATE:20270102
DESCRIPTION:
LOCATION:
SUMMARY:New Years Day
END:VEVENT
BEGIN:VEVENT
DTSTAMP:20260425T141114Z
UID:f1823288-c91e-4df6-976c-7082158f308d
DTSTART;VALUE=DATE:20270108
DTEND;VALUE=DATE:20270109
DESCRIPTION:
LOCATION:
SUMMARY:Progress Check
END:VEVENT
BEGIN:VEVENT
DTSTAMP:20260425T141114Z
UID:5fce9297-17fe-482f-a628-08d5adebce81
DTSTART;VALUE=DATE:20270113
DTEND;VALUE=DATE:20270114
DESCRIPTION:
LOCATION:
SUMMARY:Early Release
END:VEVENT
BEGIN:VEVENT
DTSTAMP:20260425T141114Z
UID:424bdaf8-2c47-41f5-a204-dcfe8528cb7e
DTSTART;VALUE=DATE:20270118
DTEND;VALUE=DATE:20270119
DESCRIPTION:
LOCATION:
SUMMARY:Martin Luther King Jr. Day
END:VEVENT
BEGIN:VEVENT
DTSTAMP:20260425T141114Z
UID:f22a731e-aece-42c2-80e3-2c03d97ae0e1
DTSTART;VALUE=DATE:20270129
DTEND;VALUE=DATE:20270130
DESCRIPTION:
LOCATION:
SUMMARY:Q2 Ends
END:VEVENT
BEGIN:VEVENT
DTSTAMP:20260425T141114Z
UID:fbaaf581-c6ed-4086-917b-657f2ebfd3fd
DTSTART;VALUE=DATE:20270210
DTEND;VALUE=DATE:20270211
DESCRIPTION:
LOCATION:
SUMMARY:Early Release
END:VEVENT
BEGIN:VEVENT
DTSTAMP:20260425T141114Z
UID:f8369a8f-9be5-4bd9-a2c1-736d58773b67
DTSTART;VALUE=DATE:20270212
DTEND;VALUE=DATE:20270222
DESCRIPTION:
LOCATION:
SUMMARY:Winter Break
END:VEVENT
BEGIN:VEVENT
DTSTAMP:20260425T141114Z
UID:726b3fec-e26b-43f8-8d35-244d5e9a77a6
DTSTART;VALUE=DATE:20270215
DTEND;VALUE=DATE:20270216
DESCRIPTION:
LOCATION:
SUMMARY:Presidents Day
END:VEVENT
BEGIN:VEVENT
DTSTAMP:20260425T141114Z
UID:411f6947-b2ec-4e58-9cc1-95daff5b49aa
DTSTART;VALUE=DATE:20270226
DTEND;VALUE=DATE:20270227
DESCRIPTION:
LOCATION:
SUMMARY:Progress Check
END:VEVENT
BEGIN:VEVENT
DTSTAMP:20260425T141114Z
UID:b60091b3-5182-4d6c-900a-af5f180d88b9
DTSTART;VALUE=DATE:20270318
DTEND;VALUE=DATE:20270319
DESCRIPTION:
LOCATION:
SUMMARY:Progress Check
END:VEVENT
BEGIN:VEVENT
DTSTAMP:20260425T141114Z
UID:b07f7d7f-d631-44f6-a120-1d5b86a21233
DTSTART;VALUE=DATE:20270319
DTEND;VALUE=DATE:20270320
DESCRIPTION:
LOCATION:
SUMMARY:Teachers Workshop
END:VEVENT
BEGIN:VEVENT
DTSTAMP:20260425T141114Z
UID:9753e774-99f7-4a1c-844b-96164f0485d1
DTSTART;VALUE=DATE:20270407
DTEND;VALUE=DATE:20270408
DESCRIPTION:
LOCATION:
SUMMARY:Early Release
END:VEVENT
BEGIN:VEVENT
DTSTAMP:20260425T141114Z
UID:8e6d28d2-72a7-43dc-bc08-e034abe0937a
DTSTART;VALUE=DATE:20270409
DTEND;VALUE=DATE:20270410
DESCRIPTION:
LOCATION:
SUMMARY:Q3 Ends
END:VEVENT
BEGIN:VEVENT
DTSTAMP:20260425T141114Z
UID:19b6243c-6299-446e-8c52-48cfcd1e8a80
DTSTART;VALUE=DATE:20270419
DTEND;VALUE=DATE:20270420
DESCRIPTION:
LOCATION:
SUMMARY:Patriots Day
END:VEVENT
BEGIN:VEVENT
DTSTAMP:20260425T141114Z
UID:5394acc1-5039-4e15-b833-14a51ba42b13
DTSTART;VALUE=DATE:20270419
DTEND;VALUE=DATE:20270424
DESCRIPTION:
LOCATION:
SUMMARY:Spring Break
END:VEVENT
BEGIN:VEVENT
DTSTAMP:20260425T141114Z
UID:43145b26-3275-4802-9789-4fc30a48cd0b
DTSTART;VALUE=DATE:20270507
DTEND;VALUE=DATE:20270508
DESCRIPTION:
LOCATION:
SUMMARY:Progress Check
END:VEVENT
BEGIN:VEVENT
DTSTAMP:20260425T141114Z
UID:ca24138b-407d-4263-a714-296d7818e9a9
DTSTART;VALUE=DATE:20270518
DTEND;VALUE=DATE:20270519
DESCRIPTION:
LOCATION:
SUMMARY:Academic Awards
END:VEVENT
BEGIN:VEVENT
DTSTAMP:20260425T141114Z
UID:c33e87e2-27e9-4bf4-a91a-da113ee3cc71
DTSTART;VALUE=DATE:20270519
DTEND;VALUE=DATE:20270520
DESCRIPTION:
LOCATION:
SUMMARY:Early Release
END:VEVENT
BEGIN:VEVENT
DTSTAMP:20260425T141114Z
UID:14ccdeff-8d22-430a-bf5e-260cde3852f4
DTSTART;VALUE=DATE:20270520
DTEND;VALUE=DATE:20270521
DESCRIPTION:
LOCATION:
SUMMARY:Spring Concert
END:VEVENT
BEGIN:VEVENT
DTSTAMP:20260425T141114Z
UID:15461fb9-59cf-4b7c-a442-b22f992e320e
DTSTART;VALUE=DATE:20270528
DTEND;VALUE=DATE:20270529
DESCRIPTION:
LOCATION:
SUMMARY:Progress Check
END:VEVENT
BEGIN:VEVENT
DTSTAMP:20260425T141114Z
UID:9bd8acee-b1fe-4674-b8df-73dfd9bf6db5
DTSTART;VALUE=DATE:20270530
DTEND;VALUE=DATE:20270531
DESCRIPTION:
LOCATION:
SUMMARY:Baccalaureate - 6:00pm
END:VEVENT
BEGIN:VEVENT
DTSTAMP:20260425T141114Z
UID:30d5385c-f35b-4f50-a39b-243beb272b75
DTSTART;VALUE=DATE:20270531
DTEND;VALUE=DATE:20270601
DESCRIPTION:
LOCATION:
SUMMARY:Memorial  Day
END:VEVENT
BEGIN:VEVENT
DTSTAMP:20260425T141114Z
UID:c9f48dec-9be2-4869-af7c-631b3190c898
DTSTART;VALUE=DATE:20270604
DTEND;VALUE=DATE:20270605
DESCRIPTION:
LOCATION:
SUMMARY:Graduation - 7:00pm
END:VEVENT
BEGIN:VEVENT
DTSTAMP:20260425T141114Z
UID:c58e4f82-158e-464f-afe4-f976810b8899
DTSTART;VALUE=DATE:20270614
DTEND;VALUE=DATE:20270615
DESCRIPTION:
LOCATION:
SUMMARY:Last Day of School - Early Release
END:VEVENT
BEGIN:VEVENT
DTSTAMP:20260425T141114Z
UID:be0a5e3d-b7eb-4ecd-b823-5825e5683ec4
DTSTART;VALUE=DATE:20270615
DTEND;VALUE=DATE:20270616
DESCRIPTION:
LOCATION:
SUMMARY:Teachers Workshop
END:VEVENT
BEGIN:VEVENT
DTSTAMP:20260425T141114Z
UID:c5c847a8-fdfa-499a-87ab-4e39bbc7f3ae
DTSTART;VALUE=DATE:20270616
DTEND;VALUE=DATE:20270618
DESCRIPTION:
LOCATION:
SUMMARY:Snow Day Makeup
END:VEVENT
END:VCALENDAR
