BEGIN:VCALENDAR
VERSION:2.0
PRODID:icalendar-ruby
CALSCALE:GREGORIAN
BEGIN:VTIMEZONE
TZID:America/Chicago
BEGIN:DAYLIGHT
DTSTART:20260308T030000
TZOFFSETFROM:-0600
TZOFFSETTO:-0500
RRULE:FREQ=YEARLY;BYDAY=2SU;BYMONTH=3
TZNAME:CDT
END:DAYLIGHT
BEGIN:STANDARD
DTSTART:20261101T010000
TZOFFSETFROM:-0500
TZOFFSETTO:-0600
RRULE:FREQ=YEARLY;BYDAY=1SU;BYMONTH=11
TZNAME:CST
END:STANDARD
END:VTIMEZONE
BEGIN:VEVENT
DTSTAMP:20260421T040800Z
UID:17b3f50b-d287-48f0-beb7-12a5bc7de7c1
DTSTART;VALUE=DATE:20260427
DTEND;VALUE=DATE:20260428
DESCRIPTION:
LOCATION:
SUMMARY:Administrative Assistant Day
END:VEVENT
BEGIN:VEVENT
DTSTAMP:20260421T040800Z
UID:d36bbb8f-6d39-4dc9-84f3-036f0408fda6
DTSTART;VALUE=DATE:20260511
DTEND;VALUE=DATE:20260512
DESCRIPTION:
LOCATION:
SUMMARY:School Nurse Day
END:VEVENT
BEGIN:VEVENT
DTSTAMP:20260421T040800Z
UID:ee61ebdb-2b6d-4827-b087-a709ad1adfe7
DTSTART;VALUE=DATE:20270427
DTEND;VALUE=DATE:20270428
DESCRIPTION:
LOCATION:
SUMMARY:Administrative Assistant Day
END:VEVENT
BEGIN:VEVENT
DTSTAMP:20260421T040800Z
UID:0cd26908-d77e-4252-a7fd-0ece43d9212d
DTSTART;VALUE=DATE:20270511
DTEND;VALUE=DATE:20270512
DESCRIPTION:
LOCATION:
SUMMARY:School Nurse Day
END:VEVENT
BEGIN:VEVENT
DTSTAMP:20260421T040800Z
UID:0a94e42c-b4ad-4404-bb6a-e8453f184b28
DTSTART;VALUE=DATE:20280427
DTEND;VALUE=DATE:20280428
DESCRIPTION:
LOCATION:
SUMMARY:Administrative Assistant Day
END:VEVENT
BEGIN:VEVENT
DTSTAMP:20260421T040800Z
UID:82d12b50-e145-4413-911c-71c9824746a2
DTSTART;VALUE=DATE:20280511
DTEND;VALUE=DATE:20280512
DESCRIPTION:
LOCATION:
SUMMARY:School Nurse Day
END:VEVENT
BEGIN:VEVENT
DTSTAMP:20260421T040800Z
UID:c35df4ad-0d49-4bd0-862e-dae48712a7be
DTSTART;VALUE=DATE:20290427
DTEND;VALUE=DATE:20290428
DESCRIPTION:
LOCATION:
SUMMARY:Administrative Assistant Day
END:VEVENT
BEGIN:VEVENT
DTSTAMP:20260421T040800Z
UID:bb363eb1-8dac-4808-9467-da96fc568ead
DTSTART;VALUE=DATE:20290511
DTEND;VALUE=DATE:20290512
DESCRIPTION:
LOCATION:
SUMMARY:School Nurse Day
END:VEVENT
BEGIN:VEVENT
DTSTAMP:20260421T040800Z
UID:ac575e15-5617-4dde-b3f2-b396aa57adca
DTSTART;VALUE=DATE:20300427
DTEND;VALUE=DATE:20300428
DESCRIPTION:
LOCATION:
SUMMARY:Administrative Assistant Day
END:VEVENT
BEGIN:VEVENT
DTSTAMP:20260421T040800Z
UID:a269f303-728e-452d-9005-ffc35fdcb775
DTSTART;VALUE=DATE:20300511
DTEND;VALUE=DATE:20300512
DESCRIPTION:
LOCATION:
SUMMARY:School Nurse Day
END:VEVENT
BEGIN:VEVENT
DTSTAMP:20260421T040800Z
UID:9c52d8be-9d5a-4b28-a5df-327b90b15839
DTSTART;VALUE=DATE:20310427
DTEND;VALUE=DATE:20310428
DESCRIPTION:
LOCATION:
SUMMARY:Administrative Assistant Day
END:VEVENT
BEGIN:VEVENT
DTSTAMP:20260421T040800Z
UID:0330ada7-7c85-4754-8207-42bc966808e9
DTSTART;VALUE=DATE:20310511
DTEND;VALUE=DATE:20310512
DESCRIPTION:
LOCATION:
SUMMARY:School Nurse Day
END:VEVENT
BEGIN:VEVENT
DTSTAMP:20260421T040800Z
UID:884173e6-6913-448c-8554-1179837abe68
DTSTART;VALUE=DATE:20320427
DTEND;VALUE=DATE:20320428
DESCRIPTION:
LOCATION:
SUMMARY:Administrative Assistant Day
END:VEVENT
BEGIN:VEVENT
DTSTAMP:20260421T040800Z
UID:2c16e242-9d54-4a0b-9e04-71d88ba548b0
DTSTART;VALUE=DATE:20320511
DTEND;VALUE=DATE:20320512
DESCRIPTION:
LOCATION:
SUMMARY:School Nurse Day
END:VEVENT
END:VCALENDAR
