BEGIN:VCALENDAR
VERSION:2.0
PRODID:icalendar-ruby
CALSCALE:GREGORIAN
BEGIN:VTIMEZONE
TZID:America/New_York
BEGIN:DAYLIGHT
DTSTART:20260308T030000
TZOFFSETFROM:-0500
TZOFFSETTO:-0400
RRULE:FREQ=YEARLY;BYDAY=2SU;BYMONTH=3
TZNAME:EDT
END:DAYLIGHT
BEGIN:STANDARD
DTSTART:20261101T010000
TZOFFSETFROM:-0400
TZOFFSETTO:-0500
RRULE:FREQ=YEARLY;BYDAY=1SU;BYMONTH=11
TZNAME:EST
END:STANDARD
END:VTIMEZONE
BEGIN:VEVENT
DTSTAMP:20260424T163106Z
UID:b21849fd-b572-424a-aff8-4b2461bfcf85
DTSTART;VALUE=DATE:20260424
DTEND;VALUE=DATE:20260425
DESCRIPTION:SCIENCE 8 & BIOLOGY TEST
LOCATION:
SUMMARY:2 HR DELAY SCHEDULE FOR HIGH SCHOOL
END:VEVENT
BEGIN:VEVENT
DTSTAMP:20260424T163106Z
UID:6af26321-eadc-4859-b326-8edf7097b62a
DTSTART;VALUE=DATE:20260502
DTEND;VALUE=DATE:20260503
DESCRIPTION:PROMENADE - 6:30 P.M. - WHS\nDINNER - 7:00 P.M. - WHS \nDANCE 
 - 8:00 P.M. - THE GRAND PLAZA \nPOST PROM - 10:30 P.M. - WHS \nTICKET PR
 ICE FOR ALL:  $55 PER PERSON.  TICKETS SOLD APRIL 15TH - APRIL 24TH \nJ
 UNIORS & SENIORS ONLY!
LOCATION:
SUMMARY:PROM 
END:VEVENT
BEGIN:VEVENT
DTSTAMP:20260424T163106Z
UID:5d5383dd-8600-4a8c-a78c-cdfcbbeef066
DTSTART:20260504T190000
DTEND:20260504T210000
DESCRIPTION:
LOCATION:
SUMMARY:PAC-HS SPRING BAND CONERT
END:VEVENT
BEGIN:VEVENT
DTSTAMP:20260424T163106Z
UID:36fc906f-7e34-4f3c-92c6-fee826e5ab81
DTSTART:20260505T180000
DTEND:20260505T200000
DESCRIPTION:
LOCATION:
SUMMARY:PAC-5TH\,6TH\,7TH & 8TH GRADE SPRING BAND CONCERT
END:VEVENT
BEGIN:VEVENT
DTSTAMP:20260424T163106Z
UID:067b3216-0b3b-47ab-8304-e04059a0faab
DTSTART:20260511T073000
DTEND:20260512T203000
DESCRIPTION:MARISSA LEWIS\nCONCERTS:  6:00 P.M. ON MAY 11TH\n6:00 P.M. ON 
 MAY 12TH
LOCATION:
SUMMARY:PAC-CHOIR REHEARSALS & CONCERT
END:VEVENT
BEGIN:VEVENT
DTSTAMP:20260424T163106Z
UID:30a1f1a5-1f27-4156-9950-fe13b65cba87
DTSTART:20260512T074500
DTEND:20260512T080500
DESCRIPTION:
LOCATION:WHS-Library
SUMMARY:Gatekeepers
END:VEVENT
BEGIN:VEVENT
DTSTAMP:20260424T163106Z
UID:93fe809b-0c61-4261-b3d5-d399c79be60c
DTSTART;VALUE=DATE:20260514
DTEND;VALUE=DATE:20260515
DESCRIPTION:
LOCATION:
SUMMARY:LAST REGULAR DAY FOR SENIORS
END:VEVENT
BEGIN:VEVENT
DTSTAMP:20260424T163106Z
UID:1a21b979-a8fc-4da2-842c-3b0cc2654a46
DTSTART;VALUE=DATE:20260515
DTEND;VALUE=DATE:20260516
DESCRIPTION:
LOCATION:
SUMMARY:SENIOR EXAMS
END:VEVENT
BEGIN:VEVENT
DTSTAMP:20260424T163106Z
UID:4e64ff7b-ac79-44ea-b496-c20229613f20
DTSTART:20260516T060000
DTEND:20260517T000000
DESCRIPTION:
LOCATION:
SUMMARY:6TH\, 7TH & 8TH GRADE BAND AT CEDAR POINT
END:VEVENT
BEGIN:VEVENT
DTSTAMP:20260424T163106Z
UID:20a14e77-fead-4f46-8f09-84797ff9beaa
DTSTART;VALUE=DATE:20260521
DTEND;VALUE=DATE:20260523
DESCRIPTION:
LOCATION:
SUMMARY:FINAL EXAMS
END:VEVENT
BEGIN:VEVENT
DTSTAMP:20260424T163106Z
UID:48589218-2e36-4878-8a56-a27bf398acc0
DTSTART:20260521T090000
DTEND:20260521T110000
DESCRIPTION:THIS IS A MANDATORY GRADUATION PRACTICE IN THE GYMNASIUM.
LOCATION:
SUMMARY:GRADUATION PRACTICE FOR ALL SENIORS IN THE GYM
END:VEVENT
BEGIN:VEVENT
DTSTAMP:20260424T163106Z
UID:de0f9358-5a87-4189-96a2-cd70300621dd
DTSTART;VALUE=DATE:20260522
DTEND;VALUE=DATE:20260523
DESCRIPTION:
LOCATION:
SUMMARY:STUDENT'S LAST DAY OF SCHOOL - END OF THE 4TH 9 WEEKS
END:VEVENT
BEGIN:VEVENT
DTSTAMP:20260424T163106Z
UID:9ed198ba-659e-4cee-87f5-fc20957767c2
DTSTART:20260523T103000
DTEND:20260523T123000
DESCRIPTION:DOORS WILL UNLOCK AT 9:45 A.M.\nENTRANCE IN THE FRONT AND AT TH
 E PERFORMING ARTS CENTER.\nHANDICAP ENTRANCE WILL BE ON THE WEST SIDE OF T
 HE BUILDING & REQUIRE A TICKET AND A HANDICAP PASS TO ENTER THERE.  \nTI
 CKETS ARE REQUIRED FOR ENTRANCE.
LOCATION:
SUMMARY:GRADUATION DAY - IN THE HS GYM
END:VEVENT
BEGIN:VEVENT
DTSTAMP:20260424T163106Z
UID:ffce2c51-eb52-45ff-81c7-38d92782afd0
DTSTART:20260525T090000
DTEND:20260525T133000
DESCRIPTION:
LOCATION:
SUMMARY:MARCHING BAND AT BUCKLAND PARADE
END:VEVENT
BEGIN:VEVENT
DTSTAMP:20260424T163106Z
UID:c01c90f7-b167-4dbc-8221-7652eca1f1c4
DTSTART;VALUE=DATE:20260526
DTEND;VALUE=DATE:20260602
DESCRIPTION:
LOCATION:
SUMMARY:POTENTIAL MAKE-UP DAYS
END:VEVENT
BEGIN:VEVENT
DTSTAMP:20260424T163106Z
UID:2f34dd25-ffc7-4f25-8033-5533ba9c14ff
DTSTART:20260609T074500
DTEND:20260609T080500
DESCRIPTION:
LOCATION:WHS-Library
SUMMARY:Gatekeepers
END:VEVENT
BEGIN:VEVENT
DTSTAMP:20260424T163106Z
UID:890ed425-f97f-4651-bed6-bf39203bfeb1
DTSTART:20260714T074500
DTEND:20260714T080500
DESCRIPTION:
LOCATION:WHS-Library
SUMMARY:Gatekeepers
END:VEVENT
BEGIN:VEVENT
DTSTAMP:20260424T163106Z
UID:09b64756-b574-48cc-87a3-20debd11963c
DTSTART:20260719T150000
DTEND:20260719T220000
DESCRIPTION:
LOCATION:
SUMMARY:PAC-SUMMER MOON CONCERT
END:VEVENT
BEGIN:VEVENT
DTSTAMP:20260424T163106Z
UID:9d00266d-6ae4-4dec-84d5-a1412f211fc0
DTSTART:20260811T074500
DTEND:20260811T080500
DESCRIPTION:
LOCATION:WHS-Library
SUMMARY:Gatekeepers
END:VEVENT
BEGIN:VEVENT
DTSTAMP:20260424T163106Z
UID:2ea3e747-8c9a-4691-ba91-78dfe33865ff
DTSTART:20260813T183000
DTEND:20260813T193000
DESCRIPTION:
LOCATION:
SUMMARY:BACK TO SCHOOL CELEBRATION!
END:VEVENT
BEGIN:VEVENT
DTSTAMP:20260424T163106Z
UID:903afaf9-2230-43f6-9d75-3180509b8950
DTSTART;VALUE=DATE:20260818
DTEND;VALUE=DATE:20260819
DESCRIPTION:WELCOME BACK!
LOCATION:
SUMMARY:FIRST DAY OF SCHOOL
END:VEVENT
BEGIN:VEVENT
DTSTAMP:20260424T163106Z
UID:15922af4-bd66-4aca-9315-867de7193e0e
DTSTART;VALUE=DATE:20260820
DTEND;VALUE=DATE:20260821
DESCRIPTION:IN THE PAC
LOCATION:
SUMMARY:HS - SCHOOL PICTURE DAY
END:VEVENT
BEGIN:VEVENT
DTSTAMP:20260424T163106Z
UID:a57172e9-ca06-45a6-ae50-bd536c8d0b1a
DTSTART;VALUE=DATE:20260907
DTEND;VALUE=DATE:20260908
DESCRIPTION:
LOCATION:
SUMMARY:NO SCHOOL - LABOR DAY
END:VEVENT
BEGIN:VEVENT
DTSTAMP:20260424T163106Z
UID:3b19db69-200a-4922-b8be-c3c20ce75939
DTSTART:20260908T074500
DTEND:20260908T080500
DESCRIPTION:
LOCATION:WHS-Library
SUMMARY:Gatekeepers
END:VEVENT
BEGIN:VEVENT
DTSTAMP:20260424T163106Z
UID:6a623b2f-81a0-4bc7-abef-9f254fb45dbc
DTSTART;VALUE=DATE:20260921
DTEND;VALUE=DATE:20260922
DESCRIPTION:
LOCATION:
SUMMARY:NO SCHOOL - PROFESSIONAL DEVELOPMENT DAY 
END:VEVENT
BEGIN:VEVENT
DTSTAMP:20260424T163106Z
UID:21cbf9e0-ecd1-4052-a1d4-8690e1b26c4b
DTSTART:20260926T200000
DTEND:20260926T230000
DESCRIPTION:ADMISSION: $10 PER STUDENT
LOCATION:
SUMMARY:CAFE-HOMECOMING DANCE
END:VEVENT
BEGIN:VEVENT
DTSTAMP:20260424T163106Z
UID:1b760194-a840-4290-b9e5-f17e172aad8e
DTSTART;VALUE=DATE:20261009
DTEND;VALUE=DATE:20261010
DESCRIPTION:
LOCATION:
SUMMARY:PICTURE RETAKE/MAKE-UP DAY
END:VEVENT
BEGIN:VEVENT
DTSTAMP:20260424T163106Z
UID:932b787f-395a-49a1-a9e1-96e19f3eca33
DTSTART:20261013T074500
DTEND:20261013T080500
DESCRIPTION:
LOCATION:WHS-Library
SUMMARY:Gatekeepers
END:VEVENT
BEGIN:VEVENT
DTSTAMP:20260424T163106Z
UID:01478f96-49bb-49b9-8e2b-00ecac1d4723
DTSTART;VALUE=DATE:20261016
DTEND;VALUE=DATE:20261017
DESCRIPTION:
LOCATION:
SUMMARY:END OF 1ST 9 WEEKS 
END:VEVENT
BEGIN:VEVENT
DTSTAMP:20260424T163106Z
UID:e79ba03f-6653-4c23-8031-3fe689d2881b
DTSTART;VALUE=DATE:20261023
DTEND;VALUE=DATE:20261024
DESCRIPTION:
LOCATION:
SUMMARY:NO SCHOOL - FALL BREAK
END:VEVENT
BEGIN:VEVENT
DTSTAMP:20260424T163106Z
UID:d9ead622-83d5-45c5-a626-caabdfa50619
DTSTART:20261110T074500
DTEND:20261110T080500
DESCRIPTION:
LOCATION:WHS-Library
SUMMARY:Gatekeepers
END:VEVENT
BEGIN:VEVENT
DTSTAMP:20260424T163106Z
UID:ff84fffb-ba39-43d3-9cb7-363f7fc55ebd
DTSTART;VALUE=DATE:20261112
DTEND;VALUE=DATE:20261113
DESCRIPTION:
LOCATION:
SUMMARY:PARENT/TEACHER CONFERENCES (PM)
END:VEVENT
BEGIN:VEVENT
DTSTAMP:20260424T163106Z
UID:39596cfb-68a3-4d0b-a31a-5bf013fa44de
DTSTART;VALUE=DATE:20261119
DTEND;VALUE=DATE:20261120
DESCRIPTION:
LOCATION:
SUMMARY:PARENT/TEACHER CONFERENCES (PM)
END:VEVENT
BEGIN:VEVENT
DTSTAMP:20260424T163106Z
UID:abfa4c8c-18e8-4138-a7d9-444c38180908
DTSTART;VALUE=DATE:20261123
DTEND;VALUE=DATE:20261124
DESCRIPTION:
LOCATION:
SUMMARY:NO SCHOOL - PARENT/TEACHER CONFERENCES
END:VEVENT
BEGIN:VEVENT
DTSTAMP:20260424T163106Z
UID:765e7da7-fbfb-4b92-af97-85365e499e80
DTSTART;VALUE=DATE:20261124
DTEND;VALUE=DATE:20261128
DESCRIPTION:
LOCATION:
SUMMARY:NO SCHOOL - THANKSGIVING BREAK
END:VEVENT
BEGIN:VEVENT
DTSTAMP:20260424T163106Z
UID:e89e3dbf-51c7-4fb7-9146-a66f6af7731e
DTSTART:20261208T074500
DTEND:20261208T080500
DESCRIPTION:
LOCATION:WHS-Library
SUMMARY:Gatekeepers
END:VEVENT
BEGIN:VEVENT
DTSTAMP:20260424T163106Z
UID:edf2d5b9-4a2c-4d28-85a1-2a740c246702
DTSTART:20261214T173000
DTEND:20261214T203000
DESCRIPTION:EVENT TIME: 6:30 P.M.
LOCATION:
SUMMARY:PAC-MS CHRISTMAS BAND CONCERT
END:VEVENT
BEGIN:VEVENT
DTSTAMP:20260424T163106Z
UID:dcfa35a6-47cc-4379-90ed-a4c47e28d28f
DTSTART:20261215T173000
DTEND:20261215T203000
DESCRIPTION:START TIME: 6:30 PM
LOCATION:
SUMMARY:PAC-HS BAND CHRISTMAS CONCERT
END:VEVENT
BEGIN:VEVENT
DTSTAMP:20260424T163106Z
UID:92f48427-4a5d-4566-8143-c97255433b49
DTSTART;VALUE=DATE:20261221
DTEND;VALUE=DATE:20270101
DESCRIPTION:
LOCATION:
SUMMARY:NO SCHOOL - CHRISTMAS BREAK
END:VEVENT
BEGIN:VEVENT
DTSTAMP:20260424T163106Z
UID:dece38e1-886e-4aea-84b9-43a87e54a29f
DTSTART;VALUE=DATE:20270101
DTEND;VALUE=DATE:20270102
DESCRIPTION:
LOCATION:
SUMMARY:NO SCHOOL - NEW YEARS DAY
END:VEVENT
BEGIN:VEVENT
DTSTAMP:20260424T163106Z
UID:b1be4bd8-ebe1-4a8c-a945-ae7acb7b0594
DTSTART;VALUE=DATE:20270107
DTEND;VALUE=DATE:20270108
DESCRIPTION:
LOCATION:
SUMMARY:END OF 2ND 9 WEEKS
END:VEVENT
BEGIN:VEVENT
DTSTAMP:20260424T163106Z
UID:41605a3c-8fe8-47ec-b66e-4e6005295dfb
DTSTART;VALUE=DATE:20270108
DTEND;VALUE=DATE:20270109
DESCRIPTION:
LOCATION:
SUMMARY:NO SCHOOL - TEACHER 1/2 WORK DAY
END:VEVENT
BEGIN:VEVENT
DTSTAMP:20260424T163106Z
UID:00a677d1-5e7b-424f-bec0-bd5f99b8a7a7
DTSTART:20270112T074500
DTEND:20270112T080500
DESCRIPTION:
LOCATION:WHS-Library
SUMMARY:Gatekeepers
END:VEVENT
BEGIN:VEVENT
DTSTAMP:20260424T163106Z
UID:7d94285e-f808-4f10-ac1d-2f330259e4c5
DTSTART;VALUE=DATE:20270118
DTEND;VALUE=DATE:20270119
DESCRIPTION:
LOCATION:
SUMMARY:NO SCHOOL - MARTIN LUTHER KING JR. DAY
END:VEVENT
BEGIN:VEVENT
DTSTAMP:20260424T163106Z
UID:7fd818f1-cc22-4efe-a150-b87d05db0a3c
DTSTART;VALUE=DATE:20270212
DTEND;VALUE=DATE:20270213
DESCRIPTION:
LOCATION:
SUMMARY:NO SCHOOL - PROFESSIONAL DEVELOPMENT DAY 
END:VEVENT
BEGIN:VEVENT
DTSTAMP:20260424T163106Z
UID:49a5bd87-a589-4881-b296-bf636aae44a1
DTSTART;VALUE=DATE:20270215
DTEND;VALUE=DATE:20270216
DESCRIPTION:
LOCATION:
SUMMARY:NO SCHOOL - PRESIDENTS' DAY 
END:VEVENT
BEGIN:VEVENT
DTSTAMP:20260424T163106Z
UID:325f9e57-6e49-4c11-a8da-6ec8c36ec92c
DTSTART:20270223T170000
DTEND:20270223T210000
DESCRIPTION:EVENT TIME: 7:00 P.M.
LOCATION:
SUMMARY:PAC-HS BAND CONCERT
END:VEVENT
BEGIN:VEVENT
DTSTAMP:20260424T163106Z
UID:b20c69e5-719b-4164-b46e-cee1358d0505
DTSTART;VALUE=DATE:20270319
DTEND;VALUE=DATE:20270320
DESCRIPTION:
LOCATION:
SUMMARY:END OF 3RD 9 WEEKS 
END:VEVENT
BEGIN:VEVENT
DTSTAMP:20260424T163106Z
UID:cd755eaa-30f3-4338-ac3d-e630794e4265
DTSTART;VALUE=DATE:20270326
DTEND;VALUE=DATE:20270403
DESCRIPTION:
LOCATION:
SUMMARY:NO SCHOOL -EASTER BREAK
END:VEVENT
BEGIN:VEVENT
DTSTAMP:20260424T163106Z
UID:79148be4-7402-4a00-9e7f-5f4f1822c814
DTSTART;VALUE=DATE:20270426
DTEND;VALUE=DATE:20270427
DESCRIPTION:
LOCATION:
SUMMARY:NO SCHOOL - WOEA DAY
END:VEVENT
BEGIN:VEVENT
DTSTAMP:20260424T163106Z
UID:1fbb03c7-cb68-4584-8f20-16f228b4dc54
DTSTART:20270510T170000
DTEND:20270510T210000
DESCRIPTION:
LOCATION:
SUMMARY:PAC-MS BAND SPRING CONCERT
END:VEVENT
BEGIN:VEVENT
DTSTAMP:20260424T163106Z
UID:18e387c7-10d9-4ef3-840b-17bb82e70f04
DTSTART:20270511T170000
DTEND:20270511T210000
DESCRIPTION:START TIME: 6:30 PM
LOCATION:
SUMMARY:PAC-HS BAND SPRING CONCERT
END:VEVENT
BEGIN:VEVENT
DTSTAMP:20260424T163106Z
UID:c23c920d-76b5-4c12-8f1e-b5885e88db93
DTSTART;VALUE=DATE:20270528
DTEND;VALUE=DATE:20270529
DESCRIPTION:
LOCATION:
SUMMARY:LAST DAY OF SCHOOL 
END:VEVENT
BEGIN:VEVENT
DTSTAMP:20260424T163106Z
UID:5e85eb44-f37d-4207-bf2d-e971d6c6f480
DTSTART;VALUE=DATE:20270529
DTEND;VALUE=DATE:20270530
DESCRIPTION:10:30 A.M. IN THE HIGH SCHOOL GYMNASIUM.
LOCATION:
SUMMARY:GRADUATION DAY! 
END:VEVENT
BEGIN:VEVENT
DTSTAMP:20260424T163106Z
UID:eb7f9631-f1e4-404e-86d5-b151dc59f064
DTSTART:20270925T200000
DTEND:20270925T230000
DESCRIPTION:$10 PER STUDENT
LOCATION:
SUMMARY:CAFE-HOMECOMING DANCE
END:VEVENT
END:VCALENDAR
