BEGIN:VCALENDAR
VERSION:2.0
PRODID:icalendar-ruby
CALSCALE:GREGORIAN
BEGIN:VTIMEZONE
TZID:America/New_York
BEGIN:DAYLIGHT
DTSTART:20260308T030000
TZOFFSETFROM:-0500
TZOFFSETTO:-0400
RRULE:FREQ=YEARLY;BYDAY=2SU;BYMONTH=3
TZNAME:EDT
END:DAYLIGHT
BEGIN:STANDARD
DTSTART:20261101T010000
TZOFFSETFROM:-0400
TZOFFSETTO:-0500
RRULE:FREQ=YEARLY;BYDAY=1SU;BYMONTH=11
TZNAME:EST
END:STANDARD
END:VTIMEZONE
BEGIN:VEVENT
DTSTAMP:20260426T023645Z
UID:a0e7e4bd-e722-4488-bc26-bce0cd958831
DTSTART:20260515T120000
DTEND:20260515T130000
DESCRIPTION:
LOCATION:
SUMMARY:Len Lastinger LSGT Meeting
END:VEVENT
BEGIN:VEVENT
DTSTAMP:20260426T023645Z
UID:0a68ead3-b605-4d39-ad33-26223bb4700c
DTSTART;VALUE=DATE:20260522
DTEND;VALUE=DATE:20260523
DESCRIPTION:
LOCATION:
SUMMARY:LAST DAY OF SCHOOL
END:VEVENT
BEGIN:VEVENT
DTSTAMP:20260426T023645Z
UID:f40a916c-0dee-460c-873c-94339a79f1d8
DTSTART;VALUE=DATE:20260525
DTEND;VALUE=DATE:20260526
DESCRIPTION:
LOCATION:
SUMMARY:MEMORIAL DAY HOLIDAY
END:VEVENT
BEGIN:VEVENT
DTSTAMP:20260426T023645Z
UID:959bd204-14b7-4c7e-8522-0693b672cc80
DTSTART;VALUE=DATE:20260526
DTEND;VALUE=DATE:20260527
DESCRIPTION:
LOCATION:
SUMMARY:POST PLANNING
END:VEVENT
BEGIN:VEVENT
DTSTAMP:20260426T023645Z
UID:0ec9527c-f50a-472b-ba13-f434fb62f666
DTSTART;VALUE=DATE:20260527
DTEND;VALUE=DATE:20260528
DESCRIPTION:
LOCATION:
SUMMARY:POST PLANNING
END:VEVENT
END:VCALENDAR
