BEGIN:VCALENDAR
VERSION:2.0
PRODID:icalendar-ruby
CALSCALE:GREGORIAN
BEGIN:VTIMEZONE
TZID:America/Chicago
BEGIN:DAYLIGHT
DTSTART:20260308T030000
TZOFFSETFROM:-0600
TZOFFSETTO:-0500
RRULE:FREQ=YEARLY;BYDAY=2SU;BYMONTH=3
TZNAME:CDT
END:DAYLIGHT
BEGIN:STANDARD
DTSTART:20261101T010000
TZOFFSETFROM:-0500
TZOFFSETTO:-0600
RRULE:FREQ=YEARLY;BYDAY=1SU;BYMONTH=11
TZNAME:CST
END:STANDARD
END:VTIMEZONE
BEGIN:VEVENT
DTSTAMP:20260419T200005Z
UID:47dffd22-25b7-436e-b9c9-a000191ef601
DTSTART:20260423T190000
DTEND:20260423T220000
DESCRIPTION:
LOCATION:
SUMMARY:Spring Musical 
END:VEVENT
BEGIN:VEVENT
DTSTAMP:20260419T200005Z
UID:dd14adba-97f3-4793-8ac1-3a96b2299f47
DTSTART:20260424T190000
DTEND:20260424T220000
DESCRIPTION:
LOCATION:
SUMMARY:Spring Musical 
END:VEVENT
BEGIN:VEVENT
DTSTAMP:20260419T200005Z
UID:0dfbb173-075a-43e6-93a9-e0715616d4f4
DTSTART:20260425T190000
DTEND:20260425T220000
DESCRIPTION:
LOCATION:
SUMMARY:Spring Musical 
END:VEVENT
BEGIN:VEVENT
DTSTAMP:20260419T200005Z
UID:f72a941f-f961-419b-a737-bfa5599ee9f9
DTSTART:20260429T190000
DTEND:20260429T220000
DESCRIPTION:
LOCATION:
SUMMARY:Seal of Biliteracy Ceremony 
END:VEVENT
BEGIN:VEVENT
DTSTAMP:20260419T200005Z
UID:6f20a381-dbcc-465d-9cf8-e65e1f5961e9
DTSTART:20260430T190000
DTEND:20260430T210000
DESCRIPTION:
LOCATION:
SUMMARY:Strings Concert
END:VEVENT
BEGIN:VEVENT
DTSTAMP:20260419T200005Z
UID:575a4aea-8168-483d-913d-f8d834ba28d7
DTSTART:20260501T180000
DTEND:20260501T213000
DESCRIPTION:
LOCATION:
SUMMARY:Social 
END:VEVENT
BEGIN:VEVENT
DTSTAMP:20260419T200005Z
UID:cb3bb6bc-16a4-41f0-bdfa-b753d112d868
DTSTART:20260502T190000
DTEND:20260502T220000
DESCRIPTION:<html><head><meta http-equiv="Content-Type" content="text/html\
 ; charset=utf-8"></head><body><div style="font-family:Aptos\,Aptos_Embedde
 dFont\,Aptos_MSFontService\,Calibri\,Helvetica\,sans-serif\; font-size:12p
 t\; color:rgb(0\,0\,0)"><br></div></body></html>
LOCATION:
SUMMARY:Prom 
END:VEVENT
BEGIN:VEVENT
DTSTAMP:20260419T200005Z
UID:5947c328-f8fc-4eb9-8854-bec04436eb69
DTSTART:20260505T190000
DTEND:20260505T220000
DESCRIPTION:
LOCATION:
SUMMARY:Scholarship Night
END:VEVENT
BEGIN:VEVENT
DTSTAMP:20260419T200005Z
UID:967efdaa-febb-49fe-845e-ebef120f3d0f
DTSTART:20260507T190000
DTEND:20260507T210000
DESCRIPTION:
LOCATION:
SUMMARY:Band Concert
END:VEVENT
BEGIN:VEVENT
DTSTAMP:20260419T200005Z
UID:33daa375-ea37-4192-894f-1af92514d2c4
DTSTART:20260512T190000
DTEND:20260512T210000
DESCRIPTION:
LOCATION:
SUMMARY:Choir Concert
END:VEVENT
BEGIN:VEVENT
DTSTAMP:20260419T200005Z
UID:8da01522-c72f-46ea-b6ba-a210d815eeeb
DTSTART:20260514T190000
DTEND:20260514T210000
DESCRIPTION:
LOCATION:
SUMMARY:Jazz Concert
END:VEVENT
BEGIN:VEVENT
DTSTAMP:20260419T200005Z
UID:f048bf77-1bb5-4e85-8ea2-2b2c08585120
DTSTART:20260516T160000
DTEND:20260516T170000
DESCRIPTION:
LOCATION:
SUMMARY:LWC Graduation - 4pm
END:VEVENT
BEGIN:VEVENT
DTSTAMP:20260419T200005Z
UID:57983f35-eb2b-4ed7-84cf-e6a296337833
DTSTART;VALUE=DATE:20260525
DTEND;VALUE=DATE:20260526
DESCRIPTION:
LOCATION:
SUMMARY:Holiday - No School 
END:VEVENT
BEGIN:VEVENT
DTSTAMP:20260419T200005Z
UID:01a08816-0996-4d72-a078-54658e7f8a81
DTSTART;VALUE=DATE:20260526
DTEND;VALUE=DATE:20260527
DESCRIPTION:
LOCATION:
SUMMARY:Finals - 1\, 2 & 0 Hours
END:VEVENT
BEGIN:VEVENT
DTSTAMP:20260419T200005Z
UID:87864877-e6d4-4197-96ef-e594582cf5d4
DTSTART;VALUE=DATE:20260527
DTEND;VALUE=DATE:20260528
DESCRIPTION:
LOCATION:
SUMMARY:Finals - 3\, 4 & 5 Hours
END:VEVENT
BEGIN:VEVENT
DTSTAMP:20260419T200005Z
UID:06210acf-c5fc-42fc-95f2-a94c56f68bd6
DTSTART;VALUE=DATE:20260528
DTEND;VALUE=DATE:20260529
DESCRIPTION:
LOCATION:
SUMMARY:Finals 6 & 7 Hours
END:VEVENT
BEGIN:VEVENT
DTSTAMP:20260419T200005Z
UID:d3341d24-3c4f-4986-ae71-75eac62f4398
DTSTART:20260609T070000
DTEND:20260609T120000
DESCRIPTION:
LOCATION:
SUMMARY:Summer School - 1st Session Begins - Lincoln-Way West
END:VEVENT
BEGIN:VEVENT
DTSTAMP:20260419T200005Z
UID:b9c9a74d-ae00-4431-933d-18715047be2c
DTSTART:20260612T190000
DTEND:20260612T210000
DESCRIPTION:
LOCATION:
SUMMARY:Rock Orchestra Concert
END:VEVENT
BEGIN:VEVENT
DTSTAMP:20260419T200005Z
UID:aa3b5aa3-65fb-4308-93bc-12515b0750e2
DTSTART;VALUE=DATE:20260619
DTEND;VALUE=DATE:20260620
DESCRIPTION:
LOCATION:
SUMMARY:Holiday 
END:VEVENT
BEGIN:VEVENT
DTSTAMP:20260419T200005Z
UID:b2224c0a-1dc4-49f2-a1ed-c60b178cd2ed
DTSTART;VALUE=DATE:20260619
DTEND;VALUE=DATE:20260620
DESCRIPTION:
LOCATION:
SUMMARY:No Summer School
END:VEVENT
BEGIN:VEVENT
DTSTAMP:20260419T200005Z
UID:d4c1f80d-e2bb-40fa-b31b-36d928801b9a
DTSTART:20260626T070000
DTEND:20260626T120000
DESCRIPTION:
LOCATION:
SUMMARY:Summer School - 1st Session Ends 
END:VEVENT
BEGIN:VEVENT
DTSTAMP:20260419T200005Z
UID:5bcc4f61-ea31-4fe0-84f7-ea11d57edd7f
DTSTART:20260706T070000
DTEND:20260706T120000
DESCRIPTION:
LOCATION:
SUMMARY:Summer School - 2nd Session Begins at Lincoln-Way West
END:VEVENT
BEGIN:VEVENT
DTSTAMP:20260419T200005Z
UID:4862fcc1-0c57-4413-86ac-df51f94bc145
DTSTART:20260722T070000
DTEND:20260722T120000
DESCRIPTION:
LOCATION:
SUMMARY:Summer School - 2nd Session Ends
END:VEVENT
BEGIN:VEVENT
DTSTAMP:20260419T200005Z
UID:d873b64a-95e6-45d4-b1e8-5549c5b06464
DTSTART:20260810T090000
DTEND:20260810T130000
DESCRIPTION:
LOCATION:
SUMMARY:Senior Parking Pick-Up
END:VEVENT
END:VCALENDAR
