BEGIN:VCALENDAR
VERSION:2.0
PRODID:icalendar-ruby
CALSCALE:GREGORIAN
BEGIN:VTIMEZONE
TZID:America/Chicago
BEGIN:DAYLIGHT
DTSTART:20260308T030000
TZOFFSETFROM:-0600
TZOFFSETTO:-0500
RRULE:FREQ=YEARLY;BYDAY=2SU;BYMONTH=3
TZNAME:CDT
END:DAYLIGHT
BEGIN:STANDARD
DTSTART:20261101T010000
TZOFFSETFROM:-0500
TZOFFSETTO:-0600
RRULE:FREQ=YEARLY;BYDAY=1SU;BYMONTH=11
TZNAME:CST
END:STANDARD
END:VTIMEZONE
BEGIN:VEVENT
DTSTAMP:20260423T104925Z
UID:c361279f-d51d-460e-9d0a-f81d07a10b0f
DTSTART;VALUE=DATE:20260423
DTEND;VALUE=DATE:20260424
DESCRIPTION:
LOCATION:
SUMMARY:Sports Physicals - 5-8 PM (CST)
END:VEVENT
BEGIN:VEVENT
DTSTAMP:20260423T104925Z
UID:2f2bb541-a6f7-4d57-9ef8-8e5917f8569e
DTSTART;VALUE=DATE:20260425
DTEND;VALUE=DATE:20260426
DESCRIPTION:
LOCATION:
SUMMARY:Prom
END:VEVENT
BEGIN:VEVENT
DTSTAMP:20260423T104925Z
UID:0b7cd505-a5f1-48fe-a112-8cb8fd74f2be
DTSTART;VALUE=DATE:20260506
DTEND;VALUE=DATE:20260507
DESCRIPTION:
LOCATION:
SUMMARY:HS Oscars Program
END:VEVENT
BEGIN:VEVENT
DTSTAMP:20260423T104925Z
UID:bd99876e-3a5b-4820-b1bb-00280d0e4ece
DTSTART;VALUE=DATE:20260513
DTEND;VALUE=DATE:20260514
DESCRIPTION:
LOCATION:
SUMMARY:Baccalaureate/Senior Scholarship Awards Night - 5p (CST)
END:VEVENT
BEGIN:VEVENT
DTSTAMP:20260423T104925Z
UID:e7e3c482-e0b4-4583-a7ee-ace06eade89b
DTSTART;VALUE=DATE:20260517
DTEND;VALUE=DATE:20260518
DESCRIPTION:
LOCATION:
SUMMARY:Art Show & Concert - 2:00 CST
END:VEVENT
BEGIN:VEVENT
DTSTAMP:20260423T104925Z
UID:e3c34497-ee0d-41c5-9868-7b09049c04b6
DTSTART;VALUE=DATE:20260521
DTEND;VALUE=DATE:20260522
DESCRIPTION:
LOCATION:
SUMMARY:5th grade Move up day
END:VEVENT
BEGIN:VEVENT
DTSTAMP:20260423T104925Z
UID:79e74b8e-e71d-4524-97a2-16ae9b8fc6a4
DTSTART;VALUE=DATE:20260525
DTEND;VALUE=DATE:20260526
DESCRIPTION:
LOCATION:
SUMMARY:Memorial Day - No School
END:VEVENT
BEGIN:VEVENT
DTSTAMP:20260423T104925Z
UID:7eece564-5dc1-494b-bf3a-c5427ed77e3a
DTSTART;VALUE=DATE:20260526
DTEND;VALUE=DATE:20260527
DESCRIPTION:
LOCATION:
SUMMARY:8th Grade Graduation - 6:00p (CST)
END:VEVENT
BEGIN:VEVENT
DTSTAMP:20260423T104925Z
UID:3075e510-89a0-49ad-bc73-7ad61a5e5a96
DTSTART;VALUE=DATE:20260528
DTEND;VALUE=DATE:20260529
DESCRIPTION:
LOCATION:
SUMMARY:Last Student Day
END:VEVENT
BEGIN:VEVENT
DTSTAMP:20260423T104925Z
UID:6e0e2afd-edac-4dc4-bb2b-8cc30694353e
DTSTART;VALUE=DATE:20260529
DTEND;VALUE=DATE:20260530
DESCRIPTION:
LOCATION:
SUMMARY:Teacher Workday
END:VEVENT
BEGIN:VEVENT
DTSTAMP:20260423T104925Z
UID:ba8ccdd2-fe08-4eb7-b94f-af6504591658
DTSTART;VALUE=DATE:20260531
DTEND;VALUE=DATE:20260601
DESCRIPTION:
LOCATION:
SUMMARY:Graduation
END:VEVENT
BEGIN:VEVENT
DTSTAMP:20260423T104925Z
UID:5509c2e4-c89b-4764-bc4a-4b7e9588d3d5
DTSTART;VALUE=DATE:20260602
DTEND;VALUE=DATE:20260603
DESCRIPTION:
LOCATION:
SUMMARY:School Bus Inspection
END:VEVENT
BEGIN:VEVENT
DTSTAMP:20260423T104925Z
UID:57cb5480-0d83-4409-af90-99afa36276f9
DTSTART;VALUE=DATE:20260729
DTEND;VALUE=DATE:20260730
DESCRIPTION:
LOCATION:
SUMMARY:Walk in Registration
END:VEVENT
BEGIN:VEVENT
DTSTAMP:20260423T104925Z
UID:80f8a3dd-97ad-4ed2-9f14-5a7dbbba008c
DTSTART;VALUE=DATE:20260730
DTEND;VALUE=DATE:20260731
DESCRIPTION:
LOCATION:
SUMMARY:Scheduled Meetings for Registration
END:VEVENT
END:VCALENDAR
