BEGIN:VCALENDAR
VERSION:2.0
PRODID:icalendar-ruby
CALSCALE:GREGORIAN
BEGIN:VTIMEZONE
TZID:America/Chicago
BEGIN:DAYLIGHT
DTSTART:20260308T030000
TZOFFSETFROM:-0600
TZOFFSETTO:-0500
RRULE:FREQ=YEARLY;BYDAY=2SU;BYMONTH=3
TZNAME:CDT
END:DAYLIGHT
BEGIN:STANDARD
DTSTART:20261101T010000
TZOFFSETFROM:-0500
TZOFFSETTO:-0600
RRULE:FREQ=YEARLY;BYDAY=1SU;BYMONTH=11
TZNAME:CST
END:STANDARD
END:VTIMEZONE
BEGIN:VEVENT
DTSTAMP:20260421T163111Z
UID:ca9bb40d-7fde-47b6-848c-a9a42798a76f
DTSTART:20260421T153000
DTEND:20260421T173000
DESCRIPTION:
LOCATION:2400 Washington St\, Paducah\, KY 42003\, USA
SUMMARY:Tennis vs. Prude (VG/VB) 
END:VEVENT
BEGIN:VEVENT
DTSTAMP:20260421T163111Z
UID:bbf40b33-04dc-4aa3-8125-014f3111e5d3
DTSTART:20260421T180000
DTEND:20260421T200000
DESCRIPTION:
LOCATION:6530 Old Hwy 60\, Paducah\, KY 42001\, USA
SUMMARY:Baseball at McCracken County 
END:VEVENT
BEGIN:VEVENT
DTSTAMP:20260421T163111Z
UID:1173238b-ddbd-46b0-a825-0e2ff6a910df
DTSTART:20260421T180000
DTEND:20260421T200000
DESCRIPTION:
LOCATION:6530 Old Hwy 60\, Paducah\, KY 42001\, USA
SUMMARY:Softball at McCracken County
END:VEVENT
BEGIN:VEVENT
DTSTAMP:20260421T163111Z
UID:1108a467-7d81-497a-bb2d-ac1035779492
DTSTART:20260423T160000
DTEND:20260423T180000
DESCRIPTION:
LOCATION:
SUMMARY:Tennis at Murray (VG/VB)
END:VEVENT
BEGIN:VEVENT
DTSTAMP:20260421T163111Z
UID:7d53ebe3-ec61-4aa7-bfda-18a02f959988
DTSTART:20260423T170000
DTEND:20260423T190000
DESCRIPTION:
LOCATION:
SUMMARY:Jazz on the Lawn
END:VEVENT
BEGIN:VEVENT
DTSTAMP:20260421T163111Z
UID:3b571408-3f63-4b78-8874-83aa980d1aed
DTSTART:20260423T173000
DTEND:20260423T193000
DESCRIPTION:
LOCATION:4557 KY-1377\, Bardwell\, KY 42023\, USA
SUMMARY:Baseball at Carlisle County
END:VEVENT
BEGIN:VEVENT
DTSTAMP:20260421T163111Z
UID:9f31a6f8-7a8d-4e1a-806f-067773b2b227
DTSTART:20260424T180000
DTEND:20260424T200000
DESCRIPTION:
LOCATION:2400\, Brooks Stadium Dr\, Paducah\, KY 42003\, USA
SUMMARY:Baseball vs. McCracken County 
END:VEVENT
BEGIN:VEVENT
DTSTAMP:20260421T163111Z
UID:d29c3527-3134-499c-b082-2927adf4a792
DTSTART:20260424T180000
DTEND:20260424T200000
DESCRIPTION:
LOCATION:Brooks Stadium Dr\, Paducah\, KY 42003\, USA
SUMMARY:Softball vs. Ballard Memorial HS
END:VEVENT
BEGIN:VEVENT
DTSTAMP:20260421T163111Z
UID:f946534d-a378-4a73-82a0-066231855952
DTSTART:20260425T080000
DTEND:20260425T100000
DESCRIPTION:
LOCATION:1300 E Hal Rogers Pkwy\, London\, KY 40741\, USA
SUMMARY:Tennis at North Laurel (VB)
END:VEVENT
BEGIN:VEVENT
DTSTAMP:20260421T163111Z
UID:cc3fd634-bdd8-4920-8dba-e7f79f8932d1
DTSTART:20260425T100000
DTEND:20260425T160000
DESCRIPTION:
LOCATION:700 Douthitt St\, Mayfield\, KY 42066\, USA
SUMMARY:Track at Mayfield Invitational (VG/VB)
END:VEVENT
BEGIN:VEVENT
DTSTAMP:20260421T163111Z
UID:39d1abae-2ac2-427b-b47c-7b4ee82c5309
DTSTART:20260425T190000
DTEND:20260425T220000
DESCRIPTION:<html><head><meta http-equiv="Content-Type" content="text/html\
 ; charset=utf-8"></head><body><p>7:00 PM - Doors Open</p><p>8:00 PM- Party
  Starts</p><p>9:00 PM - Announce Prom King and Queen</p><p>10:00 PM - Part
 y Ends</p></body></html>
LOCATION:6725 Old US Hwy 45 S\, Paducah\, KY 42003\, USA
SUMMARY:PTHS Prom
END:VEVENT
BEGIN:VEVENT
DTSTAMP:20260421T163111Z
UID:02322c95-0ffd-42a2-9fdd-fd5e297828c6
DTSTART:20260427T173000
DTEND:20260427T193000
DESCRIPTION:
LOCATION:110 Lebanon Church Rd\, Paducah\, KY 42003\, USA
SUMMARY:Baseball at CCA
END:VEVENT
BEGIN:VEVENT
DTSTAMP:20260421T163111Z
UID:a2e5b29b-1e24-4041-930e-b93ddc25a83b
DTSTART:20260427T183000
DTEND:20260427T203000
DESCRIPTION:
LOCATION:220 Glass Ave\, Hopkinsville\, KY 42240\, USA
SUMMARY:Softball at Christian County HS
END:VEVENT
BEGIN:VEVENT
DTSTAMP:20260421T163111Z
UID:7908ce32-06da-423e-bc22-bd9a749bd1ac
DTSTART:20260428T153000
DTEND:20260428T173000
DESCRIPTION:
LOCATION:2400 Washington St\, Paducah\, KY 42003\, USA
SUMMARY:Tennis vs. McCracken (VG/VB)
END:VEVENT
BEGIN:VEVENT
DTSTAMP:20260421T163111Z
UID:afc5141a-4990-4e3e-8129-18ff015258b6
DTSTART:20260428T170000
DTEND:20260428T190000
DESCRIPTION:
LOCATION:1243 Elmdale Rd\, Paducah\, KY 42003\, USA
SUMMARY:Baseball at St. Mary
END:VEVENT
BEGIN:VEVENT
DTSTAMP:20260421T163111Z
UID:979907ed-5a5f-4ac6-b83d-5a7eaafd8449
DTSTART:20260428T180000
DTEND:20260428T200000
DESCRIPTION:
LOCATION:Brooks Stadium Dr\, Paducah\, KY 42003\, USA
SUMMARY:Softball vs. Marshall County HS
END:VEVENT
BEGIN:VEVENT
DTSTAMP:20260421T163111Z
UID:b1baff5b-324f-4348-ae8d-12c315b2d63e
DTSTART:20260430T183000
DTEND:20260430T203000
DESCRIPTION:
LOCATION:2400\, Brooks Stadium Dr\, Paducah\, KY 42003\, USA
SUMMARY:Baseball vs. St. Mary
END:VEVENT
BEGIN:VEVENT
DTSTAMP:20260421T163111Z
UID:c65a8d9e-4269-46b5-986f-a5aee08c6ff3
DTSTART;VALUE=DATE:20260501
DTEND;VALUE=DATE:20260502
DESCRIPTION:
LOCATION:
SUMMARY:PTHS and PM Band & Orchestra Ice Cream Festival
END:VEVENT
BEGIN:VEVENT
DTSTAMP:20260421T163111Z
UID:30d8e3e3-317a-4069-b82f-cc4b47f3f702
DTSTART:20260501T180000
DTEND:20260501T200000
DESCRIPTION:
LOCATION:1300 Academy Dr\, Hopkinsville\, KY 42240\, USA
SUMMARY:Baseball at University Heights Academy
END:VEVENT
BEGIN:VEVENT
DTSTAMP:20260421T163111Z
UID:ee14b5af-016d-4cf8-9d70-71557b0e2bfc
DTSTART:20260501T180000
DTEND:20260501T200000
DESCRIPTION:
LOCATION:Brooks Stadium Dr\, Paducah\, KY 42003\, USA
SUMMARY:Softball vs. Carlisle County
END:VEVENT
BEGIN:VEVENT
DTSTAMP:20260421T163111Z
UID:ab1f7549-0de0-40a3-bae8-b923697c4f7b
DTSTART:20260502T100000
DTEND:20260502T160000
DESCRIPTION:
LOCATION:Murray\, KY 42071\, USA
SUMMARY:Track at Area 1 Meet
END:VEVENT
BEGIN:VEVENT
DTSTAMP:20260421T163111Z
UID:3f5cc4b3-8db1-4e51-a1ea-ac43d862efcf
DTSTART:20260502T120000
DTEND:20260502T140000
DESCRIPTION:
LOCATION:5065 Scottsville Rd\, Bowling Green\, KY 42104\, USA
SUMMARY:Baseball at Greenwood
END:VEVENT
BEGIN:VEVENT
DTSTAMP:20260421T163111Z
UID:3727ea24-787a-4367-858b-61a9614ed9ce
DTSTART:20260502T120000
DTEND:20260502T140000
DESCRIPTION:
LOCATION:3561 Paducah Rd\, Barlow\, KY 42024\, USA
SUMMARY:Softball at Ballard Memorial 
END:VEVENT
BEGIN:VEVENT
DTSTAMP:20260421T163111Z
UID:0d8cf15b-196a-4672-a7c7-abe336a738c2
DTSTART:20260502T140000
DTEND:20260502T160000
DESCRIPTION:
LOCATION:3561 Paducah Rd\, Barlow\, KY 42024\, USA
SUMMARY:Softball at Ballard Memorial 
END:VEVENT
BEGIN:VEVENT
DTSTAMP:20260421T163111Z
UID:46f5a684-b6bd-4bb1-b507-322db545f1ab
DTSTART:20260504T180000
DTEND:20260504T200000
DESCRIPTION:
LOCATION:2400\, Brooks Stadium Dr\, Paducah\, KY 42003\, USA
SUMMARY:Baseball vs. CCA
END:VEVENT
BEGIN:VEVENT
DTSTAMP:20260421T163111Z
UID:20ad9b7b-13e0-4512-a4c2-12b7bfd87074
DTSTART:20260504T180000
DTEND:20260504T200000
DESCRIPTION:
LOCATION:301 James H Phillips Dr\, Clinton\, KY 42031\, USA
SUMMARY:Softball at Hickman County
END:VEVENT
BEGIN:VEVENT
DTSTAMP:20260421T163111Z
UID:ad3fbc0f-5d8f-4a79-ab75-4d89fed1daa0
DTSTART:20260505T153000
DTEND:20260505T173000
DESCRIPTION:
LOCATION:2400 Washington St\, Paducah\, KY 42003\, USA
SUMMARY:Tennis vs. Mayfield (VG/VB)
END:VEVENT
BEGIN:VEVENT
DTSTAMP:20260421T163111Z
UID:9484c0cb-7048-4b71-82ec-b9deb0730c26
DTSTART:20260505T180000
DTEND:20260505T200000
DESCRIPTION:
LOCATION:2400 Washington St\, Paducah\, KY 42003\, USA
SUMMARY:PTHS Honors Night 
END:VEVENT
BEGIN:VEVENT
DTSTAMP:20260421T163111Z
UID:21ef6d47-781b-4ce7-a81f-87a91ddc0fd2
DTSTART:20260505T180000
DTEND:20260505T200000
DESCRIPTION:
LOCATION:Brooks Stadium Dr\, Paducah\, KY 42003\, USA
SUMMARY:Softball vs. McCracken County
END:VEVENT
BEGIN:VEVENT
DTSTAMP:20260421T163111Z
UID:5879c52b-1500-422c-8f39-61938dbcedbc
DTSTART:20260507T153000
DTEND:20260507T173000
DESCRIPTION:
LOCATION:1220 Eagles Way\, Mayfield\, KY 42066\, USA
SUMMARY:Tennis vs. Graves (VG/VB)
END:VEVENT
BEGIN:VEVENT
DTSTAMP:20260421T163111Z
UID:682e9f42-0727-4e73-84f8-1726e62548f4
DTSTART;VALUE=DATE:20260508
DTEND;VALUE=DATE:20260509
DESCRIPTION:
LOCATION:
SUMMARY:Senior Walkthroughs at Schools
END:VEVENT
BEGIN:VEVENT
DTSTAMP:20260421T163111Z
UID:4b40c3a2-9760-4f48-85cb-d8e8dad6a007
DTSTART:20260508T180000
DTEND:20260508T200000
DESCRIPTION:
LOCATION:2400\, Brooks Stadium Dr\, Paducah\, KY 42003\, USA
SUMMARY:Softball vs. Crittenden County
END:VEVENT
BEGIN:VEVENT
DTSTAMP:20260421T163111Z
UID:ed6f9b52-1c32-4bac-bde6-8e1979971c8c
DTSTART:20260509T110000
DTEND:20260509T130000
DESCRIPTION:
LOCATION:220 Glass Ave\, Hopkinsville\, KY 42240\, USA
SUMMARY:Baseball at Christian County
END:VEVENT
BEGIN:VEVENT
DTSTAMP:20260421T163111Z
UID:1a5cc34d-6dc9-46a1-87ca-b76b2d8d034a
DTSTART:20260511T173000
DTEND:20260511T193000
DESCRIPTION:
LOCATION:350 Beckner Ln\, Princeton\, KY 42445\, USA
SUMMARY:Baseball at Caldwell County
END:VEVENT
BEGIN:VEVENT
DTSTAMP:20260421T163111Z
UID:5724e5a2-0a24-4aad-b484-fb5766e3dec9
DTSTART:20260511T180000
DTEND:20260511T210000
DESCRIPTION:
LOCATION:2400\, Brooks Stadium Dr\, Paducah\, KY 42003\, USA
SUMMARY:Softball vs. Lyon County
END:VEVENT
BEGIN:VEVENT
DTSTAMP:20260421T163111Z
UID:05c1c4e7-e9ed-4b0e-b0be-9488f3b4e508
DTSTART:20260512T080000
DTEND:20260512T090000
DESCRIPTION:
LOCATION:
SUMMARY:Senior Breakfast 
END:VEVENT
BEGIN:VEVENT
DTSTAMP:20260421T163111Z
UID:329798bf-4be8-4730-be34-da35ebfff8b7
DTSTART:20260512T100000
DTEND:20260512T120000
DESCRIPTION:
LOCATION:Murray\, KY 42071\, USA
SUMMARY:Track at 2A Regionals
END:VEVENT
BEGIN:VEVENT
DTSTAMP:20260421T163111Z
UID:f521958d-33cc-4ddd-92b5-5e822abc95c9
DTSTART:20260513T120000
DTEND:20260513T140000
DESCRIPTION:
LOCATION:Dinning Gym
SUMMARY:Senior Signing Day
END:VEVENT
BEGIN:VEVENT
DTSTAMP:20260421T163111Z
UID:dfc1c249-8af6-4f0e-af7d-5f68b6af6827
DTSTART;VALUE=DATE:20260514
DTEND;VALUE=DATE:20260515
DESCRIPTION:
LOCATION:452 E Christmas Blvd\, Santa Claus\, IN 47579\, USA
SUMMARY:Senior Trip to Holiday World
END:VEVENT
BEGIN:VEVENT
DTSTAMP:20260421T163111Z
UID:95eb22e1-5df2-4c7e-8c1e-c514e735f565
DTSTART:20260514T180000
DTEND:20260514T200000
DESCRIPTION:
LOCATION:2400\, Brooks Stadium Dr\, Paducah\, KY 42003\, USA
SUMMARY:Baseball vs. Lyon County
END:VEVENT
BEGIN:VEVENT
DTSTAMP:20260421T163111Z
UID:447fec32-640c-4480-93aa-c65f3fc2a66f
DTSTART:20260514T183000
DTEND:20260514T203000
DESCRIPTION:
LOCATION:2400\, Brooks Stadium Dr\, Paducah\, KY 42003\, USA
SUMMARY:Softball vs. Christian County
END:VEVENT
BEGIN:VEVENT
DTSTAMP:20260421T163111Z
UID:79407b1b-e564-4504-b40c-5edc12eba396
DTSTART:20260515T123000
DTEND:20260515T140000
DESCRIPTION:
LOCATION:PTHS Auditorium
SUMMARY:PTHS Class of '26 Graduation Practice 
END:VEVENT
BEGIN:VEVENT
DTSTAMP:20260421T163111Z
UID:9db9820b-d18c-469a-b3e5-e5e4d4cb54b9
DTSTART:20260515T180000
DTEND:20260515T200000
DESCRIPTION:
LOCATION:2400\, Brooks Stadium Dr\, Paducah\, KY 42003\, USA
SUMMARY:Baseball vs. Christian County
END:VEVENT
BEGIN:VEVENT
DTSTAMP:20260421T163111Z
UID:1def9fd6-f5e0-41bb-bf12-57d7a5f202d7
DTSTART:20260515T180000
DTEND:20260515T200000
DESCRIPTION:
LOCATION:2400\, Brooks Stadium Dr\, Paducah\, KY 42003\, USA
SUMMARY:Softball vs. Trigg County
END:VEVENT
BEGIN:VEVENT
DTSTAMP:20260421T163111Z
UID:588011be-169b-46a7-a468-c10b34d17ff3
DTSTART;VALUE=DATE:20260516
DTEND;VALUE=DATE:20260517
DESCRIPTION:
LOCATION:500 E South St\, Du Quoin\, IL 62832\, USA
SUMMARY:Softball at Du Quoin IL
END:VEVENT
BEGIN:VEVENT
DTSTAMP:20260421T163111Z
UID:4362f669-cf8f-4ad7-9e72-3e15e765745a
DTSTART;VALUE=DATE:20260516
DTEND;VALUE=DATE:20260517
DESCRIPTION:
LOCATION:333 W College St\, Harrisburg\, IL 62946\, USA
SUMMARY:Softball at Harrisburg\, IL
END:VEVENT
BEGIN:VEVENT
DTSTAMP:20260421T163111Z
UID:a5afd4ec-dbe1-49a5-9831-a208f2e02c6b
DTSTART:20260516T110000
DTEND:20260516T130000
DESCRIPTION:
LOCATION:McRight Field
SUMMARY:PTHS Class of '26 Graduation Ceremony
END:VEVENT
BEGIN:VEVENT
DTSTAMP:20260421T163111Z
UID:37c65c70-fae9-4bc4-b3d4-c7084e8ded01
DTSTART;VALUE=DATE:20260522
DTEND;VALUE=DATE:20260523
DESCRIPTION:
LOCATION:1540 University Dr\, Lexington\, KY 40506\, USA
SUMMARY:Track 2A State Championships
END:VEVENT
END:VCALENDAR
