BEGIN:VCALENDAR
VERSION:2.0
PRODID:icalendar-ruby
CALSCALE:GREGORIAN
BEGIN:VTIMEZONE
TZID:America/Los_Angeles
BEGIN:DAYLIGHT
DTSTART:20260308T030000
TZOFFSETFROM:-0800
TZOFFSETTO:-0700
RRULE:FREQ=YEARLY;BYDAY=2SU;BYMONTH=3
TZNAME:PDT
END:DAYLIGHT
BEGIN:STANDARD
DTSTART:20261101T010000
TZOFFSETFROM:-0700
TZOFFSETTO:-0800
RRULE:FREQ=YEARLY;BYDAY=1SU;BYMONTH=11
TZNAME:PST
END:STANDARD
END:VTIMEZONE
BEGIN:VEVENT
DTSTAMP:20260421T144845Z
UID:7df0c78f-2000-4179-985e-1bb609236605
DTSTART;VALUE=DATE:20260521
DTEND;VALUE=DATE:20260522
DESCRIPTION:
LOCATION:
SUMMARY:TK-5 Minumum Day Released @ 12:15
END:VEVENT
BEGIN:VEVENT
DTSTAMP:20260421T144845Z
UID:7f9a44e8-d584-4404-847f-ffc4e3618080
DTSTART;VALUE=DATE:20260522
DTEND;VALUE=DATE:20260526
DESCRIPTION:
LOCATION:
SUMMARY:Memorial Day No School 
END:VEVENT
BEGIN:VEVENT
DTSTAMP:20260421T144845Z
UID:01fbb0c4-e569-4d76-b072-7ab1d68a0031
DTSTART;VALUE=DATE:20260605
DTEND;VALUE=DATE:20260606
DESCRIPTION:<p>Released @ 12:15</p>
LOCATION:
SUMMARY:Last Day of School -Minumum Day  Released @ 12:15
END:VEVENT
END:VCALENDAR
