BEGIN:VCALENDAR
VERSION:2.0
PRODID:icalendar-ruby
CALSCALE:GREGORIAN
BEGIN:VTIMEZONE
TZID:America/Chicago
BEGIN:DAYLIGHT
DTSTART:20260308T030000
TZOFFSETFROM:-0600
TZOFFSETTO:-0500
RRULE:FREQ=YEARLY;BYDAY=2SU;BYMONTH=3
TZNAME:CDT
END:DAYLIGHT
BEGIN:STANDARD
DTSTART:20261101T010000
TZOFFSETFROM:-0500
TZOFFSETTO:-0600
RRULE:FREQ=YEARLY;BYDAY=1SU;BYMONTH=11
TZNAME:CST
END:STANDARD
END:VTIMEZONE
BEGIN:VEVENT
DTSTAMP:20260419T195958Z
UID:a82e22fb-1860-475b-82d6-b0b60a419f3f
DTSTART:20260420T163000
DTEND:20260420T163000
DESCRIPTION:
LOCATION:
SUMMARY:Softball vs O'Fallon
END:VEVENT
BEGIN:VEVENT
DTSTAMP:20260419T195958Z
UID:02deb00f-8e26-48c0-9f83-be3a466dc0ee
DTSTART:20260420T163000
DTEND:20260420T163000
DESCRIPTION:
LOCATION:
SUMMARY:V Baeball vs BEast
END:VEVENT
BEGIN:VEVENT
DTSTAMP:20260419T195958Z
UID:95f334f7-6522-4076-8149-4d81af0da62a
DTSTART:20260420T163000
DTEND:20260420T163000
DESCRIPTION:
LOCATION:
SUMMARY:V & JV Soccer @Greenville
END:VEVENT
BEGIN:VEVENT
DTSTAMP:20260419T195958Z
UID:edfbae51-f32b-4115-885b-2a3f0c401d81
DTSTART:20260420T180000
DTEND:20260420T180000
DESCRIPTION:
LOCATION:
SUMMARY:Tri-M Induction Ceremony/Cafetorium
END:VEVENT
BEGIN:VEVENT
DTSTAMP:20260419T195958Z
UID:78f3ba57-829b-4aa8-a78f-daffe47318dc
DTSTART:20260421T160000
DTEND:20260421T160000
DESCRIPTION:
LOCATION:
SUMMARY:**CANC**F/S Orphan Track @ Salem
END:VEVENT
BEGIN:VEVENT
DTSTAMP:20260419T195958Z
UID:02302d47-2e40-41a0-8268-852f70d80816
DTSTART:20260421T160000
DTEND:20260421T160000
DESCRIPTION:
LOCATION:
SUMMARY:Tennis vs Carbondale
END:VEVENT
BEGIN:VEVENT
DTSTAMP:20260419T195958Z
UID:e853cc1b-62a1-45f8-a64b-3bac84867389
DTSTART:20260421T163000
DTEND:20260421T163000
DESCRIPTION:
LOCATION:
SUMMARY:**NEW**F/S baseball @ Nashville 
END:VEVENT
BEGIN:VEVENT
DTSTAMP:20260419T195958Z
UID:f709234d-9af9-40d8-9ac5-d8d55f083468
DTSTART:20260421T163000
DTEND:20260421T163000
DESCRIPTION:
LOCATION:
SUMMARY:V Annie Track @ Mattoon
END:VEVENT
BEGIN:VEVENT
DTSTAMP:20260419T195958Z
UID:a221c224-dd28-465b-a4aa-ab71dd8448a4
DTSTART:20260421T163000
DTEND:20260421T163000
DESCRIPTION:
LOCATION:
SUMMARY:V &JV Soccer vs Marion
END:VEVENT
BEGIN:VEVENT
DTSTAMP:20260419T195958Z
UID:85651f67-4d83-4e2b-87be-5a5d16768f32
DTSTART;VALUE=DATE:20260422
DTEND;VALUE=DATE:20260423
DESCRIPTION:
LOCATION:
SUMMARY:Biology/Ag class field trip to the zoo
END:VEVENT
BEGIN:VEVENT
DTSTAMP:20260419T195958Z
UID:3cbe91ed-e471-410b-8c24-2badf7fb513b
DTSTART:20260422T143000
DTEND:20260423T153000
DESCRIPTION:
LOCATION:
SUMMARY:Student Council Elections
END:VEVENT
BEGIN:VEVENT
DTSTAMP:20260419T195958Z
UID:f1cd3da4-4cc2-4c02-b257-d90456bb295d
DTSTART:20260422T163000
DTEND:20260422T163000
DESCRIPTION:
LOCATION:
SUMMARY:V Baseball vs Mt Carmel
END:VEVENT
BEGIN:VEVENT
DTSTAMP:20260419T195958Z
UID:8af22a8d-0bb6-418c-b05a-4756e83aec5e
DTSTART;VALUE=DATE:20260423
DTEND;VALUE=DATE:20260424
DESCRIPTION:
LOCATION:
SUMMARY:Ag class field trip to Marcoot's Dairy Farm
END:VEVENT
BEGIN:VEVENT
DTSTAMP:20260419T195958Z
UID:5419915a-661e-4742-81d3-b088f8c8fef0
DTSTART:20260423T160000
DTEND:20260423T160000
DESCRIPTION:
LOCATION:
SUMMARY:Tennis @ Mascoutah
END:VEVENT
BEGIN:VEVENT
DTSTAMP:20260419T195958Z
UID:64e691fa-95fc-4f78-abfd-bc93ad555682
DTSTART:20260423T170000
DTEND:20260423T220000
DESCRIPTION:
LOCATION:
SUMMARY:Prom decorating/Cafetorium
END:VEVENT
BEGIN:VEVENT
DTSTAMP:20260419T195958Z
UID:383d4287-7200-41d8-964b-ad4b2d92dfcd
DTSTART:20260423T190000
DTEND:20260423T190000
DESCRIPTION:
LOCATION:
SUMMARY:Board Meeting/Board Room
END:VEVENT
BEGIN:VEVENT
DTSTAMP:20260419T195958Z
UID:3a852e82-2f8e-499f-9af7-8a1a821505aa
DTSTART;VALUE=DATE:20260424
DTEND;VALUE=DATE:20260425
DESCRIPTION:
LOCATION:
SUMMARY:Prom decorating/Cafetorium
END:VEVENT
BEGIN:VEVENT
DTSTAMP:20260419T195958Z
UID:d3aed86e-9894-4446-bf3f-9e7611728b12
DTSTART:20260424T120000
DTEND:20260424T120000
DESCRIPTION:
LOCATION:
SUMMARY:School Improvement Day dismissal
END:VEVENT
BEGIN:VEVENT
DTSTAMP:20260419T195958Z
UID:a77f7ab7-af2d-4a31-b024-e864b1b3a58f
DTSTART:20260424T163000
DTEND:20260424T163000
DESCRIPTION:
LOCATION:
SUMMARY:Softball @ Triad
END:VEVENT
BEGIN:VEVENT
DTSTAMP:20260419T195958Z
UID:99d4278d-25aa-4b77-ac3e-8f7c43f64d9f
DTSTART:20260424T163000
DTEND:20260424T163000
DESCRIPTION:
LOCATION:
SUMMARY:V Baseball vs North Clay
END:VEVENT
BEGIN:VEVENT
DTSTAMP:20260419T195958Z
UID:e040a26e-97ae-4a16-8f33-9c2e3ea5c104
DTSTART:20260424T163000
DTEND:20260424T163000
DESCRIPTION:
LOCATION:
SUMMARY:V& JV Soccer @ East Richland
END:VEVENT
BEGIN:VEVENT
DTSTAMP:20260419T195958Z
UID:3da2d14a-c638-4712-8da0-8e791963b23e
DTSTART:20260424T170000
DTEND:20260424T170000
DESCRIPTION:
LOCATION:
SUMMARY:V Annie Track @ Marshall Co KY
END:VEVENT
BEGIN:VEVENT
DTSTAMP:20260419T195958Z
UID:e24d4dfa-b5c4-4b34-a382-78a6de8694d2
DTSTART;VALUE=DATE:20260425
DTEND;VALUE=DATE:20260426
DESCRIPTION:
LOCATION:
SUMMARY:Prom
END:VEVENT
BEGIN:VEVENT
DTSTAMP:20260419T195958Z
UID:609aa690-ad85-4044-a91b-f902c182fab6
DTSTART:20260425T100000
DTEND:20260425T100000
DESCRIPTION:
LOCATION:
SUMMARY:F/S Baseball vs Marion 
END:VEVENT
BEGIN:VEVENT
DTSTAMP:20260419T195958Z
UID:b640f0bf-5c08-4ce3-832f-aa8f18da44c3
DTSTART:20260425T190000
DTEND:20260425T190000
DESCRIPTION:
LOCATION:
SUMMARY:PROM
END:VEVENT
BEGIN:VEVENT
DTSTAMP:20260419T195958Z
UID:e46938f6-fda8-4cf5-a07d-33b714c2a0f9
DTSTART;VALUE=DATE:20260426
DTEND;VALUE=DATE:20260427
DESCRIPTION:
LOCATION:
SUMMARY:Prom/Cafetorium
END:VEVENT
BEGIN:VEVENT
DTSTAMP:20260419T195958Z
UID:1f076a76-f9a5-43f9-b00e-9256a9d22f9b
DTSTART:20260427T153000
DTEND:20260427T153000
DESCRIPTION:
LOCATION:
SUMMARY:V Orphan Track @ Central
END:VEVENT
BEGIN:VEVENT
DTSTAMP:20260419T195958Z
UID:49a84235-bf37-47e8-ade8-b33f9110ba4c
DTSTART:20260427T160000
DTEND:20260427T160000
DESCRIPTION:
LOCATION:
SUMMARY:Tennis @ Herrin
END:VEVENT
BEGIN:VEVENT
DTSTAMP:20260419T195958Z
UID:6774de18-9b57-4c9f-abaa-0fedc5d63375
DTSTART:20260427T163000
DTEND:20260427T163000
DESCRIPTION:
LOCATION:
SUMMARY:Softball vs Mater Dei
END:VEVENT
BEGIN:VEVENT
DTSTAMP:20260419T195958Z
UID:bf1b0f45-f497-45b7-ab50-7dac52054934
DTSTART:20260428T073000
DTEND:20260428T073000
DESCRIPTION:
LOCATION:
SUMMARY:Student Council Executive Meeting/Board Room
END:VEVENT
BEGIN:VEVENT
DTSTAMP:20260419T195958Z
UID:38d7c43b-d3e6-4d72-90c0-45b49c5d9602
DTSTART:20260428T163000
DTEND:20260428T163000
DESCRIPTION:
LOCATION:
SUMMARY:Softball @ Marion
END:VEVENT
BEGIN:VEVENT
DTSTAMP:20260419T195958Z
UID:0928a97a-112d-41fa-a6dc-5efa4847c738
DTSTART:20260428T163000
DTEND:20260428T163000
DESCRIPTION:
LOCATION:
SUMMARY:V Baseball @ Marion
END:VEVENT
BEGIN:VEVENT
DTSTAMP:20260419T195958Z
UID:bca6ee53-b351-4eb3-890b-1ed27588a593
DTSTART:20260428T170000
DTEND:20260428T170000
DESCRIPTION:
LOCATION:
SUMMARY:Annie Track @ Herrin- Time TBA
END:VEVENT
BEGIN:VEVENT
DTSTAMP:20260419T195958Z
UID:dbdfa71d-0022-40eb-b2d6-f11f03709a55
DTSTART;VALUE=DATE:20260429
DTEND;VALUE=DATE:20260430
DESCRIPTION:
LOCATION:
SUMMARY:Ark club field trip to the zoo
END:VEVENT
BEGIN:VEVENT
DTSTAMP:20260419T195958Z
UID:ff0378d4-a8a3-4686-9f4b-46410d8d214c
DTSTART:20260429T150000
DTEND:20260429T150000
DESCRIPTION:
LOCATION:
SUMMARY:Orphan Track @ Marion
END:VEVENT
BEGIN:VEVENT
DTSTAMP:20260419T195958Z
UID:82a24e0e-f322-47a4-9d8c-61ccfdba953b
DTSTART:20260429T160000
DTEND:20260429T160000
DESCRIPTION:
LOCATION:
SUMMARY:Tennis vs Carterville
END:VEVENT
BEGIN:VEVENT
DTSTAMP:20260419T195958Z
UID:e4c63fa7-6916-4c7b-9783-17c4a9557962
DTSTART:20260429T163000
DTEND:20260429T163000
DESCRIPTION:
LOCATION:
SUMMARY:F/S Baseball @ Nashville
END:VEVENT
BEGIN:VEVENT
DTSTAMP:20260419T195958Z
UID:2594f67d-07aa-4e4a-b755-7a06743eb989
DTSTART:20260429T163000
DTEND:20260429T163000
DESCRIPTION:
LOCATION:
SUMMARY:V& JV Soccer @ Collinsville
END:VEVENT
BEGIN:VEVENT
DTSTAMP:20260419T195958Z
UID:593763b0-87b2-4f16-97f8-a8b8b50b6224
DTSTART:20260429T180000
DTEND:20260429T180000
DESCRIPTION:
LOCATION:
SUMMARY:NHS Induction Ceremony/Cafetorium
END:VEVENT
BEGIN:VEVENT
DTSTAMP:20260419T195958Z
UID:1f956cc1-a0ed-49f5-b3d8-81118f86adf0
DTSTART:20260430T104500
DTEND:20260430T122000
DESCRIPTION:
LOCATION:
SUMMARY:Student Council Meeting/Board Room
END:VEVENT
BEGIN:VEVENT
DTSTAMP:20260419T195958Z
UID:0094f6f8-b0dc-4f46-a341-6a7cfef06056
DTSTART:20260430T143000
DTEND:20260430T143000
DESCRIPTION:
LOCATION:
SUMMARY:V Annie Track @ Nashville
END:VEVENT
BEGIN:VEVENT
DTSTAMP:20260419T195958Z
UID:d2b83abb-7e95-4e67-8bc3-2595e13626ad
DTSTART:20260430T163000
DTEND:20260430T163000
DESCRIPTION:
LOCATION:
SUMMARY:Softball vs Marion
END:VEVENT
BEGIN:VEVENT
DTSTAMP:20260419T195958Z
UID:95c734b2-d1d7-4050-8fd5-6d39eb5ad0b1
DTSTART:20260430T163000
DTEND:20260430T163000
DESCRIPTION:
LOCATION:
SUMMARY:V Baseball vs Marion
END:VEVENT
BEGIN:VEVENT
DTSTAMP:20260419T195958Z
UID:96c9c0a9-d705-4c45-a2b9-a6292e0ac3f7
DTSTART:20260430T190000
DTEND:20260430T200000
DESCRIPTION:
LOCATION:
SUMMARY:Spring Concert
END:VEVENT
BEGIN:VEVENT
DTSTAMP:20260419T195958Z
UID:279173b7-611f-43b6-ae3c-4dcc0d223913
DTSTART:20260501T130000
DTEND:20260501T130000
DESCRIPTION:
LOCATION:
SUMMARY:Orphan Track @ Triad
END:VEVENT
BEGIN:VEVENT
DTSTAMP:20260419T195958Z
UID:2cfbc0c0-5166-4558-aa21-e155c534a3d4
DTSTART:20260501T163000
DTEND:20260501T163000
DESCRIPTION:
LOCATION:
SUMMARY:Softball @ Flora
END:VEVENT
BEGIN:VEVENT
DTSTAMP:20260419T195958Z
UID:494d50e4-70c3-4ba5-8b63-e011bf63f8df
DTSTART:20260501T163000
DTEND:20260501T163000
DESCRIPTION:
LOCATION:
SUMMARY:V& JV Soccer @ Massac
END:VEVENT
BEGIN:VEVENT
DTSTAMP:20260419T195958Z
UID:36c34da0-2af9-479f-a46f-60eae4947346
DTSTART:20260502T100000
DTEND:20260502T100000
DESCRIPTION:
LOCATION:
SUMMARY:Orphan Baseball Tournament 
END:VEVENT
BEGIN:VEVENT
DTSTAMP:20260419T195958Z
UID:7a324d18-c0bf-4a86-8f55-755568f82f65
DTSTART:20260502T100000
DTEND:20260502T100000
DESCRIPTION:
LOCATION:
SUMMARY:Softball DH vs Columbia
END:VEVENT
BEGIN:VEVENT
DTSTAMP:20260419T195958Z
UID:00fd08de-1214-47b9-b283-713c71460450
DTSTART;VALUE=DATE:20260504
DTEND;VALUE=DATE:20260505
DESCRIPTION:
LOCATION:
SUMMARY:Late Start/Staff Meeting Buses and classes will run one hour later
END:VEVENT
BEGIN:VEVENT
DTSTAMP:20260419T195958Z
UID:83dbdb61-9dec-4b5d-9f20-24d9528752d6
DTSTART:20260504T160000
DTEND:20260504T160000
DESCRIPTION:
LOCATION:
SUMMARY:Tennis @ Salem 
END:VEVENT
BEGIN:VEVENT
DTSTAMP:20260419T195958Z
UID:3ce464df-d723-43a9-9ea3-44b48609d333
DTSTART:20260504T163000
DTEND:20260504T163000
DESCRIPTION:
LOCATION:
SUMMARY:V& JV Soccer vs Wesclin
END:VEVENT
BEGIN:VEVENT
DTSTAMP:20260419T195958Z
UID:905ff9be-d34c-45cb-8b9d-98c37bd8f596
DTSTART;VALUE=DATE:20260505
DTEND;VALUE=DATE:20260506
DESCRIPTION:
LOCATION:
SUMMARY:AP Testing/US Gov & Politics
END:VEVENT
BEGIN:VEVENT
DTSTAMP:20260419T195958Z
UID:c05a8496-40ca-444e-89c8-ce4815a0853e
DTSTART:20260505T150000
DTEND:20260505T150000
DESCRIPTION:
LOCATION:
SUMMARY:V Annie Track @ Marion for S7
END:VEVENT
BEGIN:VEVENT
DTSTAMP:20260419T195958Z
UID:a5008d73-af85-4a88-b038-3ee0e7bf684f
DTSTART:20260505T160000
DTEND:20260505T160000
DESCRIPTION:
LOCATION:
SUMMARY:Tennis vs MtV
END:VEVENT
BEGIN:VEVENT
DTSTAMP:20260419T195958Z
UID:9120cbd4-95d9-47e5-b8d6-f754d5f0e9b6
DTSTART:20260505T163000
DTEND:20260505T163000
DESCRIPTION:
LOCATION:
SUMMARY:Baseball @ MtV
END:VEVENT
BEGIN:VEVENT
DTSTAMP:20260419T195958Z
UID:a1c11e30-e028-48fa-89d8-ae58c0a64bf1
DTSTART:20260505T163000
DTEND:20260505T163000
DESCRIPTION:
LOCATION:
SUMMARY:Softball @ MtV
END:VEVENT
BEGIN:VEVENT
DTSTAMP:20260419T195958Z
UID:e1876501-2b61-4b14-a8b5-d3872e35bd5b
DTSTART:20260505T170000
DTEND:20260505T170000
DESCRIPTION:
LOCATION:
SUMMARY:V Orphan Track @ MtV
END:VEVENT
BEGIN:VEVENT
DTSTAMP:20260419T195958Z
UID:5d1845a8-0ba2-47dc-9529-52006c5cbcbe
DTSTART;VALUE=DATE:20260506
DTEND;VALUE=DATE:20260507
DESCRIPTION:
LOCATION:
SUMMARY:AP Testing/English Lit
END:VEVENT
BEGIN:VEVENT
DTSTAMP:20260419T195958Z
UID:67a4e633-bf4c-48a5-99f4-7665a3fdc8fc
DTSTART;VALUE=DATE:20260506
DTEND;VALUE=DATE:20260507
DESCRIPTION:
LOCATION:
SUMMARY:Ap Testing/Physics 1
END:VEVENT
BEGIN:VEVENT
DTSTAMP:20260419T195958Z
UID:7a1a8b34-dabc-42b7-b4d4-9669f11c45fe
DTSTART:20260506T160000
DTEND:20260506T160000
DESCRIPTION:
LOCATION:
SUMMARY:Tennis @ MtV
END:VEVENT
BEGIN:VEVENT
DTSTAMP:20260419T195958Z
UID:05337ace-2ad2-4188-b4d9-88a2063e3e80
DTSTART:20260506T163000
DTEND:20260506T163000
DESCRIPTION:
LOCATION:
SUMMARY:Softball vs MtV
END:VEVENT
BEGIN:VEVENT
DTSTAMP:20260419T195958Z
UID:8f104d98-55a7-4bdf-b4ef-dd94e1ef5e7b
DTSTART:20260506T163000
DTEND:20260506T163000
DESCRIPTION:
LOCATION:
SUMMARY:V Baseball vs MtV
END:VEVENT
BEGIN:VEVENT
DTSTAMP:20260419T195958Z
UID:2e527a83-2c0d-4386-ade8-797910340e7b
DTSTART:20260506T163000
DTEND:20260506T163000
DESCRIPTION:
LOCATION:
SUMMARY:V & JV Soccer vs Carterville
END:VEVENT
BEGIN:VEVENT
DTSTAMP:20260419T195958Z
UID:3d90e7c7-aca9-4ad6-bb5d-693da06b87e0
DTSTART;VALUE=DATE:20260507
DTEND;VALUE=DATE:20260508
DESCRIPTION:
LOCATION:
SUMMARY:AP Testing/World History
END:VEVENT
BEGIN:VEVENT
DTSTAMP:20260419T195958Z
UID:cb0b62d7-6c79-4d00-b0e9-69ed5de04515
DTSTART:20260507T200000
DTEND:20260507T200000
DESCRIPTION:
LOCATION:
SUMMARY:MayFete
END:VEVENT
BEGIN:VEVENT
DTSTAMP:20260419T195958Z
UID:b5d27bf2-e0d2-4b47-82b6-cf26175bca2c
DTSTART;VALUE=DATE:20260508
DTEND;VALUE=DATE:20260509
DESCRIPTION:
LOCATION:
SUMMARY:Ap Testing/US History
END:VEVENT
BEGIN:VEVENT
DTSTAMP:20260419T195958Z
UID:8123bd4d-2d55-49bc-955e-62f528c5c021
DTSTART:20260508T090000
DTEND:20260508T110000
DESCRIPTION:
LOCATION:
SUMMARY:Irving school field trip for Special ED students
END:VEVENT
BEGIN:VEVENT
DTSTAMP:20260419T195958Z
UID:aa63e3e1-73a9-43b7-b324-1e767d89b6e3
DTSTART:20260508T120000
DTEND:20260508T120000
DESCRIPTION:
LOCATION:
SUMMARY:School Improvement day/12 pm Dismissal
END:VEVENT
BEGIN:VEVENT
DTSTAMP:20260419T195958Z
UID:9b1d5d24-e518-47ec-92ad-c3c95de5b808
DTSTART:20260508T200000
DTEND:20260508T200000
DESCRIPTION:
LOCATION:
SUMMARY:MayFete
END:VEVENT
BEGIN:VEVENT
DTSTAMP:20260419T195958Z
UID:a66935a6-b638-420b-a1d7-74b5d7e13617
DTSTART:20260509T100000
DTEND:20260509T100000
DESCRIPTION:
LOCATION:
SUMMARY:V Baseball vs Carlyle
END:VEVENT
BEGIN:VEVENT
DTSTAMP:20260419T195958Z
UID:eb08d972-736e-4ae4-9462-75b38592bc22
DTSTART;VALUE=DATE:20260511
DTEND;VALUE=DATE:20260512
DESCRIPTION:
LOCATION:
SUMMARY:AP Testing/Calculus AB
END:VEVENT
BEGIN:VEVENT
DTSTAMP:20260419T195958Z
UID:270670d3-e1d1-418c-9c22-917cd4421886
DTSTART;VALUE=DATE:20260511
DTEND;VALUE=DATE:20260512
DESCRIPTION:
LOCATION:
SUMMARY:AP Testing/Music Theory
END:VEVENT
BEGIN:VEVENT
DTSTAMP:20260419T195958Z
UID:a0855e6c-1d1f-4088-b711-e70d8da1ccb2
DTSTART:20260511T163000
DTEND:20260511T163000
DESCRIPTION:
LOCATION:
SUMMARY:V Baseball @ Wesclin
END:VEVENT
BEGIN:VEVENT
DTSTAMP:20260419T195958Z
UID:2fce05fa-3b4c-4736-ac12-6205c7bb2e6b
DTSTART:20260512T093000
DTEND:20260512T233000
DESCRIPTION:
LOCATION:
SUMMARY:Academic Pep Assembly
END:VEVENT
BEGIN:VEVENT
DTSTAMP:20260419T195958Z
UID:7eed7025-e359-4164-a721-f154a5da880d
DTSTART:20260512T150000
DTEND:20260512T150000
DESCRIPTION:
LOCATION:
SUMMARY:F/S Orphan Track @ TBA for S7
END:VEVENT
BEGIN:VEVENT
DTSTAMP:20260419T195958Z
UID:8a64c01e-bfd0-4053-8e59-3492c5707554
DTSTART:20260512T160000
DTEND:20260512T160000
DESCRIPTION:
LOCATION:
SUMMARY:Tennis vs Highland
END:VEVENT
BEGIN:VEVENT
DTSTAMP:20260419T195958Z
UID:f2967a76-0d68-4611-be35-37cd75bf2844
DTSTART:20260513T160000
DTEND:20260513T160000
DESCRIPTION:
LOCATION:
SUMMARY:**NEW TIME**V Baseball vs Fairfield with JV innings after
END:VEVENT
BEGIN:VEVENT
DTSTAMP:20260419T195958Z
UID:cc2785d4-4245-44a7-9aed-0036ed313023
DTSTART:20260513T163000
DTEND:20260513T163000
DESCRIPTION:
LOCATION:
SUMMARY:Softball @ Murphy
END:VEVENT
BEGIN:VEVENT
DTSTAMP:20260419T195958Z
UID:9f4f4bc0-87b0-4730-a940-a30ef12c6271
DTSTART:20260513T163000
DTEND:20260513T163000
DESCRIPTION:
LOCATION:
SUMMARY:V & JV Soccer @ Mascoutah
END:VEVENT
BEGIN:VEVENT
DTSTAMP:20260419T195958Z
UID:961eb0f3-791a-4305-933b-a85c12526213
DTSTART:20260514T090000
DTEND:20260514T090000
DESCRIPTION:
LOCATION:
SUMMARY:Annie Track @ S7\, location & time TBA
END:VEVENT
BEGIN:VEVENT
DTSTAMP:20260419T195958Z
UID:ca50a7aa-905e-4580-8f72-103e06aa24a4
DTSTART:20260514T163000
DTEND:20260514T163000
DESCRIPTION:
LOCATION:
SUMMARY:Softball vs East Richland
END:VEVENT
BEGIN:VEVENT
DTSTAMP:20260419T195958Z
UID:8a96e508-4da2-40d8-9a71-50a617a1ffd8
DTSTART:20260514T170000
DTEND:20260514T170000
DESCRIPTION:
LOCATION:
SUMMARY:V& JV Soccer @ MtV
END:VEVENT
BEGIN:VEVENT
DTSTAMP:20260419T195958Z
UID:5a7c0713-1307-4b74-b556-17bf115c9398
DTSTART:20260514T180000
DTEND:20260514T180000
DESCRIPTION:
LOCATION:
SUMMARY:Band Banquet 
END:VEVENT
BEGIN:VEVENT
DTSTAMP:20260419T195958Z
UID:7c775e58-facd-48e7-87ad-795670e41b9c
DTSTART:20260515T150000
DTEND:20260515T150000
DESCRIPTION:
LOCATION:
SUMMARY:V Orphan Track @ S7\, location TBA
END:VEVENT
BEGIN:VEVENT
DTSTAMP:20260419T195958Z
UID:c4c7db5e-0e13-4d52-b7db-3b9d4c312369
DTSTART:20260515T163000
DTEND:20260515T163000
DESCRIPTION:
LOCATION:
SUMMARY:V Baseball vs Okawville
END:VEVENT
BEGIN:VEVENT
DTSTAMP:20260419T195958Z
UID:68d91309-9211-4dc2-b7b9-f7f070b4a80e
DTSTART:20260516T093000
DTEND:20260516T093000
DESCRIPTION:
LOCATION:
SUMMARY:Tennis S7 @ MtV
END:VEVENT
BEGIN:VEVENT
DTSTAMP:20260419T195958Z
UID:e9a2fe33-c001-4c83-84e3-6976aa86ffbc
DTSTART:20260516T100000
DTEND:20260516T100000
DESCRIPTION:
LOCATION:
SUMMARY:Softball DH @ Highland
END:VEVENT
BEGIN:VEVENT
DTSTAMP:20260419T195958Z
UID:a6b30092-1a3c-4322-9ca1-1243b0c5f2a7
DTSTART:20260516T100000
DTEND:20260516T100000
DESCRIPTION:
LOCATION:
SUMMARY:V Baseball vs Freeburg
END:VEVENT
BEGIN:VEVENT
DTSTAMP:20260419T195958Z
UID:3c257898-c839-4556-ad67-6c7c5f27e8bd
DTSTART:20260517T140000
DTEND:20260517T140000
DESCRIPTION:
LOCATION:
SUMMARY:Graduation/Trout Arena
END:VEVENT
BEGIN:VEVENT
DTSTAMP:20260419T195958Z
UID:ec64be59-ba6b-4b59-bd9e-4cdf3aa7da27
DTSTART;VALUE=DATE:20260518
DTEND;VALUE=DATE:20260519
DESCRIPTION:
LOCATION:
SUMMARY:End of 4th Quarter/Second Semester
END:VEVENT
BEGIN:VEVENT
DTSTAMP:20260419T195958Z
UID:a2491411-32ae-44db-a769-a0433cc19979
DTSTART:20260518T163000
DTEND:20260518T163000
DESCRIPTION:
LOCATION:
SUMMARY:Softball vs Pinckneyville
END:VEVENT
BEGIN:VEVENT
DTSTAMP:20260419T195958Z
UID:a88f0c81-4a15-4baf-852d-1e09e7f268c1
DTSTART:20260518T163000
DTEND:20260518T163000
DESCRIPTION:
LOCATION:
SUMMARY:V Baseball vs Collinsville
END:VEVENT
BEGIN:VEVENT
DTSTAMP:20260419T195958Z
UID:5a162c30-7e91-4186-b509-be7a3e46eef5
DTSTART:20260519T160000
DTEND:20260519T160000
DESCRIPTION:
LOCATION:
SUMMARY:Tennis vs Greeenville
END:VEVENT
BEGIN:VEVENT
DTSTAMP:20260419T195958Z
UID:b1cdf1d6-86df-448a-8d10-8cf5bb8452e8
DTSTART:20260519T163000
DTEND:20260519T163000
DESCRIPTION:
LOCATION:
SUMMARY:F/S Baseball @ Wesclin 
END:VEVENT
BEGIN:VEVENT
DTSTAMP:20260419T195958Z
UID:8d3c1c50-9436-40e4-a778-d4fd5d071690
DTSTART:20260520T163000
DTEND:20260520T163000
DESCRIPTION:
LOCATION:
SUMMARY:V Baseball @ Althoff
END:VEVENT
BEGIN:VEVENT
DTSTAMP:20260419T195958Z
UID:eba616ab-947a-4354-90a0-0a0b5bce3f01
DTSTART:20260521T163000
DTEND:20260521T163000
DESCRIPTION:
LOCATION:
SUMMARY:V Baseball vs Highland
END:VEVENT
BEGIN:VEVENT
DTSTAMP:20260419T195958Z
UID:c8f3533c-25ec-43ea-8d37-ffe91a1f8617
DTSTART;VALUE=DATE:20260522
DTEND;VALUE=DATE:20260523
DESCRIPTION:
LOCATION:
SUMMARY:Teacher Workshop Day (Institute Day)
END:VEVENT
BEGIN:VEVENT
DTSTAMP:20260419T195958Z
UID:de0e3a92-e22d-4b9b-905a-8c207a457a40
DTSTART:20260523T110000
DTEND:20260523T110000
DESCRIPTION:
LOCATION:
SUMMARY:V Baseball @ Effingham
END:VEVENT
BEGIN:VEVENT
DTSTAMP:20260419T195958Z
UID:118c049f-a469-4730-9b4d-77ddd22b3699
DTSTART;VALUE=DATE:20260525
DTEND;VALUE=DATE:20260526
DESCRIPTION:
LOCATION:
SUMMARY:Memorial Day (No School)
END:VEVENT
BEGIN:VEVENT
DTSTAMP:20260419T195958Z
UID:582ae1c1-96f3-4123-8de0-4fc449d546ff
DTSTART:20260528T190000
DTEND:20260528T190000
DESCRIPTION:
LOCATION:
SUMMARY:Board Meeting/Board Room
END:VEVENT
BEGIN:VEVENT
DTSTAMP:20260419T195958Z
UID:83992dbf-6bce-44a4-82d7-826b61304cd4
DTSTART;VALUE=DATE:20260602
DTEND;VALUE=DATE:20260603
DESCRIPTION:
LOCATION:
SUMMARY:End of School Year
END:VEVENT
BEGIN:VEVENT
DTSTAMP:20260419T195958Z
UID:1c106630-d863-4910-ae2b-c4373f3e3c0c
DTSTART:20260625T190000
DTEND:20260625T190000
DESCRIPTION:
LOCATION:
SUMMARY:Board Meeting/Board Room
END:VEVENT
BEGIN:VEVENT
DTSTAMP:20260419T195958Z
UID:81ce8af3-8bd4-46d6-9ff9-14ffad77406e
DTSTART:20260723T190000
DTEND:20260723T190000
DESCRIPTION:
LOCATION:
SUMMARY:Board Meeting/Board Room
END:VEVENT
BEGIN:VEVENT
DTSTAMP:20260419T195958Z
UID:542784a9-e130-4ccf-987c-bee09e3a8d0e
DTSTART;VALUE=DATE:20261106
DTEND;VALUE=DATE:20261107
DESCRIPTION:
LOCATION:
SUMMARY:Blood Drive
END:VEVENT
BEGIN:VEVENT
DTSTAMP:20260419T195958Z
UID:5169fc49-1b10-4e38-ada9-fd8bec18ec6d
DTSTART:20261118T190000
DTEND:20261118T190000
DESCRIPTION:
LOCATION:
SUMMARY:Fall Musical-Staff preview
END:VEVENT
BEGIN:VEVENT
DTSTAMP:20260419T195958Z
UID:e7b4f0d6-2d85-4c02-9754-bd6d3e939c80
DTSTART:20261119T190000
DTEND:20261119T190000
DESCRIPTION:
LOCATION:
SUMMARY:Fall Musical
END:VEVENT
BEGIN:VEVENT
DTSTAMP:20260419T195958Z
UID:1653cb6d-3353-49ae-86fc-0bcdb172bf54
DTSTART:20261120T190000
DTEND:20261120T190000
DESCRIPTION:
LOCATION:
SUMMARY:Fall Musical
END:VEVENT
BEGIN:VEVENT
DTSTAMP:20260419T195958Z
UID:5cf89c67-a98e-4d68-8184-ffa2b47df549
DTSTART:20261121T190000
DTEND:20261121T190000
DESCRIPTION:
LOCATION:
SUMMARY:Fall Musical
END:VEVENT
BEGIN:VEVENT
DTSTAMP:20260419T195958Z
UID:0b140fc5-a6ff-4752-98d3-f46236a45982
DTSTART:20261122T150000
DTEND:20261122T150000
DESCRIPTION:
LOCATION:
SUMMARY:Fall Musical
END:VEVENT
BEGIN:VEVENT
DTSTAMP:20260419T195958Z
UID:fee01364-f4ac-447f-b148-a84c62cf3cd2
DTSTART;VALUE=DATE:20270208
DTEND;VALUE=DATE:20270212
DESCRIPTION:
LOCATION:
SUMMARY:Black History Week
END:VEVENT
BEGIN:VEVENT
DTSTAMP:20260419T195958Z
UID:886f30e8-28da-4dd7-954a-e34a1f11c0df
DTSTART;VALUE=DATE:20270304
DTEND;VALUE=DATE:20270305
DESCRIPTION:
LOCATION:
SUMMARY:Blood Drive
END:VEVENT
BEGIN:VEVENT
DTSTAMP:20260419T195958Z
UID:9583e43a-5bfc-4b42-b31a-95a2ae529bac
DTSTART:20270317T190000
DTEND:20270317T190000
DESCRIPTION:
LOCATION:
SUMMARY:Spring Musical/Staff Preview
END:VEVENT
BEGIN:VEVENT
DTSTAMP:20260419T195958Z
UID:e0107b72-104a-4057-89b2-e50b0bd6de66
DTSTART:20270318T190000
DTEND:20270318T190000
DESCRIPTION:
LOCATION:
SUMMARY:Spring Musical
END:VEVENT
BEGIN:VEVENT
DTSTAMP:20260419T195958Z
UID:f2b4421a-7d3f-46a0-939f-994819563dfb
DTSTART:20270319T190000
DTEND:20270319T190000
DESCRIPTION:
LOCATION:
SUMMARY:Spring Musical
END:VEVENT
BEGIN:VEVENT
DTSTAMP:20260419T195958Z
UID:93feddc1-47db-49bd-bc65-cdc79e3c91f8
DTSTART:20270320T190000
DTEND:20270320T190000
DESCRIPTION:
LOCATION:
SUMMARY:Spring Musical
END:VEVENT
BEGIN:VEVENT
DTSTAMP:20260419T195958Z
UID:465b003c-1fc5-4fda-82c3-aae025407910
DTSTART:20270321T150000
DTEND:20270321T150000
DESCRIPTION:
LOCATION:
SUMMARY:Spring Musical
END:VEVENT
END:VCALENDAR
