BEGIN:VCALENDAR
VERSION:2.0
PRODID:icalendar-ruby
CALSCALE:GREGORIAN
BEGIN:VTIMEZONE
TZID:America/Chicago
BEGIN:DAYLIGHT
DTSTART:20260308T030000
TZOFFSETFROM:-0600
TZOFFSETTO:-0500
RRULE:FREQ=YEARLY;BYDAY=2SU;BYMONTH=3
TZNAME:CDT
END:DAYLIGHT
BEGIN:STANDARD
DTSTART:20261101T010000
TZOFFSETFROM:-0500
TZOFFSETTO:-0600
RRULE:FREQ=YEARLY;BYDAY=1SU;BYMONTH=11
TZNAME:CST
END:STANDARD
END:VTIMEZONE
BEGIN:VEVENT
DTSTAMP:20260423T180052Z
UID:498145a6-72f1-4616-b3de-e132f7d200ef
DTSTART:20260428T083000
DTEND:20260428T103000
DESCRIPTION:<p>Aloe\, Mission Valley &amp\; ECC</p>
LOCATION:
SUMMARY:Taco Tuesday Family Field Trip Fun
END:VEVENT
BEGIN:VEVENT
DTSTAMP:20260423T180052Z
UID:e37b52a1-8456-4af5-acbf-57f1b63caafb
DTSTART;VALUE=DATE:20260502
DTEND;VALUE=DATE:20260503
DESCRIPTION:
LOCATION:www.visd.net/bond2026
SUMMARY:Election Day
END:VEVENT
BEGIN:VEVENT
DTSTAMP:20260423T180052Z
UID:f53b1d65-c769-4069-8f39-f34112c1b838
DTSTART:20260505T130000
DTEND:20260505T140000
DESCRIPTION:
LOCATION:VISD Renaissance Center (102 Profit Dr. - rear entrance)
SUMMARY:VISD Equitable Services Meeting
END:VEVENT
BEGIN:VEVENT
DTSTAMP:20260423T180052Z
UID:c2aeeb88-06ca-41b6-8d39-ee06f449d04f
DTSTART:20260521T180000
DTEND:20260521T200000
DESCRIPTION:<p>For Board Meeting Agenda:</p><p><a target="_blank" rel="noop
 ener noreferrer nofollow" href="https://www.visd.net/documents/about-visd/
 school-board/upcoming-meetings-%26-agendas/2025/742713">https://www.visd.n
 et/documents/about-visd/school-board/upcoming-meetings-%26-agendas/2025/74
 2713</a></p>
LOCATION:102 Profit St\, Victoria\, TX 77901\, USA
SUMMARY:Regular Monthly VISD Board of Trustees Meeting
END:VEVENT
BEGIN:VEVENT
DTSTAMP:20260423T180052Z
UID:6a9691b1-94c3-4103-ad1d-f4d78565eadb
DTSTART;VALUE=DATE:20260525
DTEND;VALUE=DATE:20260526
DESCRIPTION:
LOCATION:
SUMMARY:Memorial Day - Student/Staff Holiday
END:VEVENT
BEGIN:VEVENT
DTSTAMP:20260423T180052Z
UID:cc568abb-751e-4568-ac9c-fc323e6b4f7c
DTSTART;VALUE=DATE:20260528
DTEND;VALUE=DATE:20260529
DESCRIPTION:
LOCATION:
SUMMARY:Last Day of School for Students
END:VEVENT
BEGIN:VEVENT
DTSTAMP:20260423T180052Z
UID:b3f35a63-a61b-4f37-80ad-455f2e0a131c
DTSTART:20260528T190000
DTEND:20260528T210000
DESCRIPTION:
LOCATION:
SUMMARY:VISD Success Academy Graduation
END:VEVENT
BEGIN:VEVENT
DTSTAMP:20260423T180052Z
UID:b3615d81-25f2-4111-9310-95ca4799ecbc
DTSTART;VALUE=DATE:20260529
DTEND;VALUE=DATE:20260530
DESCRIPTION:
LOCATION:
SUMMARY:Teacher Work Day
END:VEVENT
BEGIN:VEVENT
DTSTAMP:20260423T180052Z
UID:c3012af0-c6bc-45d5-93af-1d42a3ec4dce
DTSTART:20260529T200000
DTEND:20260529T220000
DESCRIPTION:
LOCATION:Frost Field at Memorial Stadium
SUMMARY:Victoria West High School Graduation
END:VEVENT
BEGIN:VEVENT
DTSTAMP:20260423T180052Z
UID:256889cc-d2f3-4005-bf82-795faf4aed77
DTSTART:20260530T200000
DTEND:20260530T220000
DESCRIPTION:
LOCATION:Frost Field at Memorial Stadium 
SUMMARY:Victoria East High School Graduation
END:VEVENT
BEGIN:VEVENT
DTSTAMP:20260423T180052Z
UID:bf274f45-9659-4f84-ba80-f91ee47c459d
DTSTART:20260602T033000
DTEND:20260602T183000
DESCRIPTION:<p><a target="_blank" rel="noopener noreferrer" href="https://n
 am11.safelinks.protection.outlook.com/?url=http%3A%2F%2Fwww.visd.net%2Fjob
 s&amp\;data=05%7C02%7Crebecka.tom%40visd.net%7Ceee34f6f23c34a105d4408de21f
 45002%7C7da967f5510a4778be675967ec3f5b1e%7C0%7C0%7C638985530375259506%7CUn
 known%7CTWFpbGZsb3d8eyJFbXB0eU1hcGkiOnRydWUsIlYiOiIwLjAuMDAwMCIsIlAiOiJXaW
 4zMiIsIkFOIjoiTWFpbCIsIldUIjoyfQ%3D%3D%7C0%7C%7C%7C&amp\;sdata=DK0taxYhd3r
 24e9zNrBwL%2FwT7vvXczX4BAcNukc%2FlNk%3D&amp\;reserved=0">www.visd.net/jobs
 </a></p>
LOCATION:1002 Sam Houston Dr\, Victoria\, TX 77901\, USA
SUMMARY:VISD Career Fair
END:VEVENT
BEGIN:VEVENT
DTSTAMP:20260423T180052Z
UID:5304b056-5184-4885-ad0f-6277f01ba686
DTSTART:20260618T180000
DTEND:20260618T200000
DESCRIPTION:<p>For Board Meeting Agenda:</p><p><a target="_blank" rel="noop
 ener noreferrer nofollow" href="https://www.visd.net/documents/about-visd/
 school-board/upcoming-meetings-%26-agendas/2025/742713">https://www.visd.n
 et/documents/about-visd/school-board/upcoming-meetings-%26-agendas/2025/74
 2713</a></p>
LOCATION:102 Profit St\, Victoria\, TX 77901\, USA
SUMMARY:Regular Monthly VISD Board of Trustees Meeting
END:VEVENT
BEGIN:VEVENT
DTSTAMP:20260423T180052Z
UID:0ca1c504-a4c2-427e-a424-cdbacd18a7ad
DTSTART:20260716T180000
DTEND:20260716T200000
DESCRIPTION:<p>For Board Meeting Agenda:</p><p><a target="_blank" rel="noop
 ener noreferrer nofollow" href="https://www.visd.net/documents/about-visd/
 school-board/upcoming-meetings-%26-agendas/2025/742713">https://www.visd.n
 et/documents/about-visd/school-board/upcoming-meetings-%26-agendas/2025/74
 2713</a></p>
LOCATION:102 Profit St\, Victoria\, TX 77901\, USA
SUMMARY:Regular Monthly VISD Board of Trustees Meeting
END:VEVENT
END:VCALENDAR
