BEGIN:VCALENDAR
VERSION:2.0
PRODID:icalendar-ruby
CALSCALE:GREGORIAN
BEGIN:VTIMEZONE
TZID:America/New_York
BEGIN:DAYLIGHT
DTSTART:20260308T030000
TZOFFSETFROM:-0500
TZOFFSETTO:-0400
RRULE:FREQ=YEARLY;BYDAY=2SU;BYMONTH=3
TZNAME:EDT
END:DAYLIGHT
BEGIN:STANDARD
DTSTART:20261101T010000
TZOFFSETFROM:-0400
TZOFFSETTO:-0500
RRULE:FREQ=YEARLY;BYDAY=1SU;BYMONTH=11
TZNAME:EST
END:STANDARD
END:VTIMEZONE
BEGIN:VEVENT
DTSTAMP:20260423T092329Z
UID:19b07339-fb07-418b-a109-9fba9dee1e03
DTSTART:20260423T100000
DTEND:20260423T110000
DESCRIPTION:
LOCATION:445 W Barkley St\, Topton\, PA 19562\, USA
SUMMARY:Bullet Academy Yoga (with Miss April)
END:VEVENT
BEGIN:VEVENT
DTSTAMP:20260423T092329Z
UID:78b6083c-1d36-4ac1-b580-76e4e4f55399
DTSTART:20260424T090000
DTEND:20260424T140000
DESCRIPTION:<html><head><meta http-equiv="Content-Type" content="text/html\
 ; charset=utf-8"></head><body><ul><li><p>students should wear their teal B
 HES t-shirt</p></li><li><p>send a jacket or sweatshirt if weather seems ch
 illy</p></li><li><p>wear sneakers&nbsp\;</p></li><li><p>send an extra snac
 k and drink(<strong>everything packed must be disposable)</strong></p></li
 ></ul></body></html>
LOCATION:
SUMMARY:Kindergarten (Hoff\, Dirsa\, Schaller) Field Trip (Imagi Nation and
  Cedar Beach Park) 🛝
END:VEVENT
BEGIN:VEVENT
DTSTAMP:20260423T092329Z
UID:21df917b-a55f-49d0-8b65-a9e17b2cef2c
DTSTART:20260424T110000
DTEND:20260424T130000
DESCRIPTION:
LOCATION:205 S Callowhill St\, Topton\, PA 19562\, USA
SUMMARY:Bullet Academy Busy Bs in the Park
END:VEVENT
BEGIN:VEVENT
DTSTAMP:20260423T092329Z
UID:00a07c9f-f6fe-4b71-b194-c34a4bc6afb2
DTSTART;VALUE=DATE:20260427
DTEND;VALUE=DATE:20260429
DESCRIPTION:
LOCATION:
SUMMARY:3rd Grade Math PSSAs📝
END:VEVENT
BEGIN:VEVENT
DTSTAMP:20260423T092329Z
UID:8f002cef-b6fb-43a4-860b-9fbcd34012fd
DTSTART:20260427T100000
DTEND:20260427T110000
DESCRIPTION:
LOCATION:445 W Barkley St\, Topton\, PA 19562\, USA
SUMMARY:Bullet Academy Play and Learn
END:VEVENT
BEGIN:VEVENT
DTSTAMP:20260423T092329Z
UID:48ca742e-f53c-4dc1-a11f-e217819c5479
DTSTART:20260427T153000
DTEND:20260427T170000
DESCRIPTION:<html><head><meta http-equiv="Content-Type" content="text/html\
 ; charset=utf-8"></head><body><p>3rd-5th Grade Girls</p><p>Third grade gir
 ls who are signed up will be bussed over to the IS/MS Auditorium after ES 
 dismissal. Parents will need to sign their student out at 5:00pm for pick 
 up at the IS/MS Auditorium.</p></body></html>
LOCATION:
SUMMARY:🤩Girls on the Run 🏃🏼‍♀️‍➡️
END:VEVENT
BEGIN:VEVENT
DTSTAMP:20260423T092329Z
UID:1fe6c701-249b-4900-a492-1e237b2cd00c
DTSTART:20260428T100000
DTEND:20260428T110000
DESCRIPTION:
LOCATION:445 W Barkley St\, Topton\, PA 19562\, USA
SUMMARY:Bullet Academy Kindermusik
END:VEVENT
BEGIN:VEVENT
DTSTAMP:20260423T092329Z
UID:6dd15e0a-aa6d-4cf3-b9a3-e3ebd82708ca
DTSTART:20260429T153000
DTEND:20260429T170000
DESCRIPTION:<html><head><meta http-equiv="Content-Type" content="text/html\
 ; charset=utf-8"></head><body><p>3rd-5th Grade Girls</p><p>Third grade gir
 ls who are signed up will be bussed over to the IS/MS Auditorium after ES 
 dismissal. Parents will need to sign their student out at 5:00pm for pick 
 up at the IS/MS Auditorium.</p></body></html>
LOCATION:
SUMMARY:🤩Girls on the Run 🏃🏼‍♀️‍➡️
END:VEVENT
BEGIN:VEVENT
DTSTAMP:20260423T092329Z
UID:a9986b3c-0aab-4ffb-b657-099eaa42652d
DTSTART:20260429T170000
DTEND:20260429T180000
DESCRIPTION:
LOCATION:445 W Barkley St\, Topton\, PA 19562\, USA
SUMMARY:Bullet Academy Open Gym
END:VEVENT
BEGIN:VEVENT
DTSTAMP:20260423T092329Z
UID:3b0f6514-6b63-4ab0-a329-d6c3c2d2e78b
DTSTART:20260430T173000
DTEND:20260430T183000
DESCRIPTION:<html><head><meta http-equiv="Content-Type" content="text/html\
 ; charset=utf-8"></head><body><p><span>&nbsp\;On Thursday\, April 30th\, f
 rom 5:30-6:30pm\, we will host a Kindergarten Orientation/Camp Kindergarte
 n experience for incoming kindergarten families.&nbsp\; Parents will meet 
 with Dr. Kelly to learn more about our Kindergarten program and our Elemen
 tary School/District.&nbsp\; While the parents join Dr. Kelly for an infor
 mational session\, incoming kindergarteners will participate in Camp Kinde
 rgarten with teachers! They will meet some of our teachers\, participate i
 n a variety of fun activities/stations\, and see different areas of their 
 new school! More information to come the week of April 6th!</span></p><p><
 span>We look forward to seeing you soon!</span></p></body></html>
LOCATION:
SUMMARY:26-27 Kindergarten Orientation 🏫🚸
END:VEVENT
BEGIN:VEVENT
DTSTAMP:20260423T092329Z
UID:09ca0c68-1c1e-42e2-b598-d0f1d4433d6e
DTSTART;VALUE=DATE:20260501
DTEND;VALUE=DATE:20260502
DESCRIPTION:<html><head><meta http-equiv="Content-Type" content="text/html\
 ; charset=utf-8"></head><body><p>Wear Brandywine Gear or Colors to Show Sc
 hool Spirit </p></body></html>
LOCATION:
SUMMARY:District Spirit Day 📣
END:VEVENT
BEGIN:VEVENT
DTSTAMP:20260423T092329Z
UID:49947da3-8930-49b0-8b43-8341cd0d6956
DTSTART:20260501T090000
DTEND:20260501T140000
DESCRIPTION:<html><head><meta http-equiv="Content-Type" content="text/html\
 ; charset=utf-8"></head><body><ul><li><p>students should wear their teal B
 HES t-shirt</p></li><li><p>send a jacket or sweatshirt if weather seems ch
 illy</p></li><li><p>wear sneakers&nbsp\;</p></li><li><p>send an extra snac
 k and drink(<strong>everything packed must be disposable)</strong></p></li
 ></ul></body></html>
LOCATION:
SUMMARY:Kindergarten (Adam\, Kistler) Field Trip (Imagi Nation and Cedar Be
 ach Park) 🛝
END:VEVENT
BEGIN:VEVENT
DTSTAMP:20260423T092329Z
UID:af2ff2a5-a866-4c7b-a045-9a9db6cea8c6
DTSTART:20260504T153000
DTEND:20260504T170000
DESCRIPTION:<html><head><meta http-equiv="Content-Type" content="text/html\
 ; charset=utf-8"></head><body><p>3rd-5th Grade Girls</p><p>Third grade gir
 ls who are signed up will be bussed over to the IS/MS Auditorium after ES 
 dismissal. Parents will need to sign their student out at 5:00pm for pick 
 up at the IS/MS Auditorium.</p></body></html>
LOCATION:
SUMMARY:🤩Girls on the Run 🏃🏼‍♀️‍➡️
END:VEVENT
BEGIN:VEVENT
DTSTAMP:20260423T092329Z
UID:7eca34bb-364e-4367-a5c2-fcca9f949c7e
DTSTART;VALUE=DATE:20260506
DTEND;VALUE=DATE:20260507
DESCRIPTION:<html><head><meta http-equiv="Content-Type" content="text/html\
 ; charset=utf-8"></head><body><p>@ the High School</p><ul><li><p>students 
 should wear their blue Victory Day t-shirt</p></li><li><p>apply sunscreen 
 in the morning before school</p></li><li><p>wear sneakers&nbsp\;</p></li><
 li><p>students may bring a hat for the sun</p></li><li><p>bring a towel fo
 r students to eat lunch on</p></li><li><p>bring a water bottle</p></li></u
 l></body></html>
LOCATION:
SUMMARY:Victory Day 🏃🏼‍♂️
END:VEVENT
BEGIN:VEVENT
DTSTAMP:20260423T092329Z
UID:6271a670-2c58-4b2d-98e0-a3c772b30302
DTSTART:20260506T153000
DTEND:20260506T170000
DESCRIPTION:<html><head><meta http-equiv="Content-Type" content="text/html\
 ; charset=utf-8"></head><body><p>3rd-5th Grade Girls</p><p>Third grade gir
 ls who are signed up will be bussed over to the IS/MS Auditorium after ES 
 dismissal. Parents will need to sign their student out at 5:00pm for pick 
 up at the IS/MS Auditorium.</p></body></html>
LOCATION:
SUMMARY:🤩Girls on the Run 🏃🏼‍♀️‍➡️
END:VEVENT
BEGIN:VEVENT
DTSTAMP:20260423T092329Z
UID:6162d047-cab3-4423-af10-9b9e60cf5540
DTSTART:20260506T183000
DTEND:20260506T193000
DESCRIPTION:<html><head><meta http-equiv="Content-Type" content="text/html\
 ; charset=utf-8"></head><body><p>6:30-7:30 Elementary School Library </p><
 p>Child care will be provided. </p></body></html>
LOCATION:
SUMMARY:PTC Meeting
END:VEVENT
BEGIN:VEVENT
DTSTAMP:20260423T092329Z
UID:01ed2f26-06a0-4f2f-a105-a1f6bf70e169
DTSTART:20260508T125000
DTEND:20260508T130500
DESCRIPTION:<html><head><meta http-equiv="Content-Type" content="text/html\
 ; charset=utf-8"></head><body><p>Car Riders Dismissed @ 12:50pm</p><p>Bus 
 Riders + Walkers Dismissed @ 1:05pm</p></body></html>
LOCATION:
SUMMARY:Early Dismissal  ⏰
END:VEVENT
BEGIN:VEVENT
DTSTAMP:20260423T092329Z
UID:40fb5734-6dd6-4869-819d-3f30e4978dbc
DTSTART;VALUE=DATE:20260511
DTEND;VALUE=DATE:20260512
DESCRIPTION:<html><head><meta http-equiv="Content-Type" content="text/html\
 ; charset=utf-8"></head><body><p><span>Third Grade “Step-Up Day” is sc
 heduled for Monday\, May 11th.&nbsp\; The third grade students will be wal
 king across the street\, to the Intermediate School\, to join our 4th grad
 e classes.&nbsp\; This will help our students become better prepared with 
 the transition of starting next school year in a new school.&nbsp\; <stron
 g>Mrs. Snyder\, IS/MS Principal\,&nbsp\; will also be holding an event for
  3rd Grade Parents on May 11th at 6PM in the IS Auditorium to showcase the
  opportunities available for our students and families next year.</strong>
 </span></p><p><span><strong>Our schedule for the Step-Up Day is as follows
 :</strong></span></p><p><span><strong>10:15-10:30 </strong>- 3rd grade stu
 dents and teachers will walk across the street.</span></p><p><span><strong
 >10:30-11:00 </strong>- 3rd graders will meet in the IS/MS Auditorium for 
 a Band Demonstration:&nbsp\; Introduction to instruments they can play in 
 4th grade.&nbsp\;</span></p><p><span><strong>11:00-11:40</strong> – The 
 Middle School Student Council will review and assist students in completin
 g a Scavenger Hunt to help acclimate the third graders to their new buildi
 ng.&nbsp\;</span></p><p><span><strong>11:40-12:10</strong> – Each 3rd gr
 ade class will buddy up with a 4th grade class. Here they will have the op
 portunity to ask questions\, check out the classroom\, see the lockers\, e
 tc.&nbsp\;</span></p><p><span><strong>12:10-1:00</strong> – &nbsp\; The 
 MS Student Council members will walk 3rd graders to the cafeteria and help
  students with new lunchroom procedures.&nbsp\; Students may pack or buy l
 unch on this day.&nbsp\; If buying\, they will be accompanied through the 
 line with a slightly different lunch procedure.&nbsp\;</span></p><p><span>
 <strong>1:00-1:15 </strong>–&nbsp\; 3rd grade students and teachers will
  walk back to the Elementary School.&nbsp\;&nbsp\;</span></p></body></html
 >
LOCATION:
SUMMARY:🏫3rd Grade Step Up Day 4️⃣
END:VEVENT
BEGIN:VEVENT
DTSTAMP:20260423T092329Z
UID:eef9f655-fcba-4f66-b1bb-1a893e7fdeda
DTSTART;VALUE=DATE:20260511
DTEND;VALUE=DATE:20260512
DESCRIPTION:<html><head><meta http-equiv="Content-Type" content="text/html\
 ; charset=utf-8"></head><body><p>@ the High School</p></body></html>
LOCATION:
SUMMARY:Victory Day Rain Date
END:VEVENT
BEGIN:VEVENT
DTSTAMP:20260423T092329Z
UID:3b17c218-a471-4d09-9377-76f8ef2a5b1d
DTSTART:20260511T080000
DTEND:20260511T090000
DESCRIPTION:<html><head><meta http-equiv="Content-Type" content="text/html\
 ; charset=utf-8"></head><body><p>Located at the IS/MS Auditorium </p><p><s
 trong>Mrs. Snyder\, IS/MS Principal\,&nbsp\; will also be holding an event
  for 3rd Grade Parents on May 11th at 6PM in the IS Auditorium to showcase
  the opportunities available for our students and families next year.</str
 ong></p></body></html>
LOCATION:200 W Weis St\, Topton\, PA 19562\, USA
SUMMARY:3rd Grade Parents Meeting for Fourth Grade 
END:VEVENT
BEGIN:VEVENT
DTSTAMP:20260423T092329Z
UID:18c2487a-250b-48ed-9e64-6e61fa2fae6c
DTSTART:20260511T153000
DTEND:20260511T170000
DESCRIPTION:<html><head><meta http-equiv="Content-Type" content="text/html\
 ; charset=utf-8"></head><body><p>3rd-5th Grade Girls</p><p>Third grade gir
 ls who are signed up will be bussed over to the IS/MS Auditorium after ES 
 dismissal. Parents will need to sign their student out at 5:00pm for pick 
 up at the IS/MS Auditorium.</p></body></html>
LOCATION:
SUMMARY:🤩Girls on the Run 🏃🏼‍♀️‍➡️
END:VEVENT
BEGIN:VEVENT
DTSTAMP:20260423T092329Z
UID:79240dfa-74b2-48d7-905c-7e52fb741c38
DTSTART:20260513T153000
DTEND:20260513T170000
DESCRIPTION:<html><head><meta http-equiv="Content-Type" content="text/html\
 ; charset=utf-8"></head><body><p>3rd-5th Grade Girls</p><p>Third grade gir
 ls who are signed up will be bussed over to the IS/MS Auditorium after ES 
 dismissal. Parents will need to sign their student out at 5:00pm for pick 
 up at the IS/MS Auditorium.</p></body></html>
LOCATION:
SUMMARY:🤩Girls on the Run 🏃🏼‍♀️‍➡️
END:VEVENT
BEGIN:VEVENT
DTSTAMP:20260423T092329Z
UID:bb04c852-3630-4fae-b741-0a22baf65ff8
DTSTART:20260518T153000
DTEND:20260518T170000
DESCRIPTION:<html><head><meta http-equiv="Content-Type" content="text/html\
 ; charset=utf-8"></head><body><p>3rd-5th Grade Girls</p><p>Third grade gir
 ls who are signed up will be bussed over to the IS/MS Auditorium after ES 
 dismissal. Parents will need to sign their student out at 5:00pm for pick 
 up at the IS/MS Auditorium.</p></body></html>
LOCATION:
SUMMARY:🤩Girls on the Run 🏃🏼‍♀️‍➡️
END:VEVENT
BEGIN:VEVENT
DTSTAMP:20260423T092329Z
UID:69f2b410-0846-4e6b-aa0e-9d30535bea96
DTSTART:20260518T173000
DTEND:20260518T191500
DESCRIPTION:<html><head><meta http-equiv="Content-Type" content="text/html\
 ; charset=utf-8"></head><body><p>PreK--5:30-6:15</p><p>Kindergarten--5:30-
 6:15</p><p>First--5:30-6:15</p><p>Second--6:30-7:15</p><p>Third--6:30-7:15
 </p></body></html>
LOCATION:
SUMMARY:Open House + Art Show 🎨🏫
END:VEVENT
BEGIN:VEVENT
DTSTAMP:20260423T092329Z
UID:104e8007-c27c-4d63-ac92-4b09ed6904f1
DTSTART;VALUE=DATE:20260521
DTEND;VALUE=DATE:20260522
DESCRIPTION:<html><head><meta http-equiv="Content-Type" content="text/html\
 ; charset=utf-8"></head><body><p>Details to follow</p></body></html>
LOCATION:
SUMMARY:FIeld Day 🎾🏈🏃🏼‍♀️‍➡️
END:VEVENT
BEGIN:VEVENT
DTSTAMP:20260423T092329Z
UID:8061ccdd-9859-4149-a47a-67a42eea6b4a
DTSTART;VALUE=DATE:20260522
DTEND;VALUE=DATE:20260523
DESCRIPTION:<html><head><meta http-equiv="Content-Type" content="text/html\
 ; charset=utf-8"></head><body><p>School Closed--May 22-May 25</p></body></
 html>
LOCATION:
SUMMARY:School Closed 🚫
END:VEVENT
BEGIN:VEVENT
DTSTAMP:20260423T092329Z
UID:f2934a87-aae8-431b-a45f-8abd0dcba03e
DTSTART;VALUE=DATE:20260525
DTEND;VALUE=DATE:20260526
DESCRIPTION:<html><head><meta http-equiv="Content-Type" content="text/html\
 ; charset=utf-8"></head><body><p>School Closed--May 22-May 25</p></body></
 html>
LOCATION:
SUMMARY:School Closed 🚫
END:VEVENT
BEGIN:VEVENT
DTSTAMP:20260423T092329Z
UID:f7f5225a-d508-440a-b5b0-ac5aebf847cb
DTSTART;VALUE=DATE:20260529
DTEND;VALUE=DATE:20260530
DESCRIPTION:<html><head><meta http-equiv="Content-Type" content="text/html\
 ; charset=utf-8"></head><body><p></p></body></html>
LOCATION:
SUMMARY:Device Collection Day 💻
END:VEVENT
BEGIN:VEVENT
DTSTAMP:20260423T092329Z
UID:0c9d4a1b-af69-46fe-9cd0-2a4f10767e4a
DTSTART:20260529T080000
DTEND:20260529T090000
DESCRIPTION:
LOCATION:
SUMMARY:Yearbook Signing 🖊️📓
END:VEVENT
BEGIN:VEVENT
DTSTAMP:20260423T092329Z
UID:50a621ab-d355-4e30-aab1-9ce6ff23629e
DTSTART;VALUE=DATE:20260603
DTEND;VALUE=DATE:20260604
DESCRIPTION:<html><head><meta http-equiv="Content-Type" content="text/html\
 ; charset=utf-8"></head><body><p>1st Marking Period--August 20-October 24<
 /p><p>2nd Marking Period--October 27-January 14</p><p>3rd Marking Period--
 January 15-March 20</p><p>4th Marking Period--March 23-June 3</p></body></
 html>
LOCATION:
SUMMARY:End of 4th Marking Period 
END:VEVENT
BEGIN:VEVENT
DTSTAMP:20260423T092329Z
UID:37d7612e-57ad-449e-a28e-de7298165b07
DTSTART:20260603T111500
DTEND:20260603T113000
DESCRIPTION:<html><head><meta http-equiv="Content-Type" content="text/html\
 ; charset=utf-8"></head><body><p>Car Riders Dismiss @ 11:15am</p><p>Bus Ri
 ders + Walkers Dismiss @ 11:30am</p><p>HAVE A GREAT SUMMER! 🌞</p></body
 ></html>
LOCATION:
SUMMARY:Last Day of School❗Earlier\, Early Dismissal 🌞
END:VEVENT
BEGIN:VEVENT
DTSTAMP:20260423T092329Z
UID:d7b6a0ad-b246-4d62-84e7-768d30e97751
DTSTART;VALUE=DATE:20260604
DTEND;VALUE=DATE:20260605
DESCRIPTION:
LOCATION:
SUMMARY:School Closed-Teacher In-service 🚫
END:VEVENT
BEGIN:VEVENT
DTSTAMP:20260423T092329Z
UID:a40baf74-0962-4b56-90ae-db4abd24520a
DTSTART:20260608T083000
DTEND:20260612T150000
DESCRIPTION:<html><head><meta http-equiv="Content-Type" content="text/html\
 ; charset=utf-8"></head><body><p><span><strong>Location:</strong></span><s
 trong> 200 West Weis Street\, Topton\, PA 19562</strong></p><p style="text
 -align:left"><span><strong>2026 Program Dates:</strong></span><strong> 6/8
 /2026 - 6/12/2026</strong></p><p style="text-align:left"><span><strong>202
 6 Program Times:</strong></span><strong> 8:30 AM - 3:00 PM</strong></p><p>
 <strong>For children entering grades K-6</strong></p><p style="text-align:
 left"><span><strong>Camper Price:</strong></span><strong> $285*</strong></
 p><p><strong>Leaders-in-Training spots for grades 7-9</strong></p><p style
 ="text-align:left"><span><strong>Leaders-in-Training Price:</strong></span
 ><strong> $185*</strong></p><p><strong>Before and After Care Available</st
 rong></p></body></html>
LOCATION:
SUMMARY:🧪Camp Invention 🧠
END:VEVENT
BEGIN:VEVENT
DTSTAMP:20260423T092329Z
UID:b2a93514-e2e6-42b1-9878-e7bed71570e9
DTSTART:20260608T140000
DTEND:20260608T140000
DESCRIPTION:<html><head><meta http-equiv="Content-Type" content="text/html\
 ; charset=utf-8"></head><body><p>4th Marking Period Report Cards will be V
 iewable on the Parent Portal @ 2:00pm</p></body></html>
LOCATION:
SUMMARY:Report Cards Go Live 📝
END:VEVENT
BEGIN:VEVENT
DTSTAMP:20260423T092329Z
UID:ba4b584a-1f48-4e99-97b0-ce86f38b8b4f
DTSTART:20260706T090000
DTEND:20260723T120000
DESCRIPTION:<html><head><meta http-equiv="Content-Type" content="text/html\
 ; charset=utf-8"></head><body><p>Located at the IS/MS</p><p>Monday through
  Thursday 9:00am-12:00pm</p></body></html>
LOCATION:200 W Weis St\, Topton\, PA 19562\, USA
SUMMARY:Camp Spark ✨
END:VEVENT
BEGIN:VEVENT
DTSTAMP:20260423T092329Z
UID:ed77ed93-259e-40ea-aea2-0778ad4a0274
DTSTART:20260825T080000
DTEND:20260825T090000
DESCRIPTION:
LOCATION:
SUMMARY:✨First Day of School 🏫
END:VEVENT
END:VCALENDAR
