BEGIN:VCALENDAR
VERSION:2.0
PRODID:icalendar-ruby
CALSCALE:GREGORIAN
BEGIN:VTIMEZONE
TZID:America/New_York
BEGIN:DAYLIGHT
DTSTART:20260308T030000
TZOFFSETFROM:-0500
TZOFFSETTO:-0400
RRULE:FREQ=YEARLY;BYDAY=2SU;BYMONTH=3
TZNAME:EDT
END:DAYLIGHT
BEGIN:STANDARD
DTSTART:20261101T010000
TZOFFSETFROM:-0400
TZOFFSETTO:-0500
RRULE:FREQ=YEARLY;BYDAY=1SU;BYMONTH=11
TZNAME:EST
END:STANDARD
END:VTIMEZONE
BEGIN:VEVENT
DTSTAMP:20260423T092322Z
UID:2ca29cc8-6b96-4e33-8d01-f3833e7f5c77
DTSTART;VALUE=DATE:20260421
DTEND;VALUE=DATE:20260424
DESCRIPTION:
LOCATION:
SUMMARY:PSSA Testing - ELA
END:VEVENT
BEGIN:VEVENT
DTSTAMP:20260423T092322Z
UID:70683151-f6fb-4fb7-97d5-f24be46abb3c
DTSTART;VALUE=DATE:20260428
DTEND;VALUE=DATE:20260430
DESCRIPTION:
LOCATION:
SUMMARY:PSSA Testing - Math
END:VEVENT
BEGIN:VEVENT
DTSTAMP:20260423T092322Z
UID:71f92bff-aca4-4489-8c71-d71a3bd54812
DTSTART;VALUE=DATE:20260430
DTEND;VALUE=DATE:20260501
DESCRIPTION:
LOCATION:
SUMMARY:PSSA Testing - Science
END:VEVENT
BEGIN:VEVENT
DTSTAMP:20260423T092322Z
UID:539fca1c-1a30-4acc-8861-148c74ced353
DTSTART:20260507T180000
DTEND:20260507T200000
DESCRIPTION:<html><head><meta http-equiv="Content-Type" content="text/html\
 ; charset=utf-8"></head><body><p>Grades 4-5</p><p>Open House 6 - 7 PM</p><
 p>Concert 7 PM</p><p>Auditorium Doors will open at 6 PM</p></body></html>
LOCATION:200 W Weis St\, Topton\, PA 19562\, USA
SUMMARY:IS Spring Concert & Open House
END:VEVENT
BEGIN:VEVENT
DTSTAMP:20260423T092322Z
UID:ab2220f4-bdd6-4abd-900e-c6aed6fbfc81
DTSTART;VALUE=DATE:20260508
DTEND;VALUE=DATE:20260509
DESCRIPTION:
LOCATION:
SUMMARY:Early Dismissal HS 11:45\, MS 12:00\, IS 1:00\, ES 1:05
END:VEVENT
BEGIN:VEVENT
DTSTAMP:20260423T092322Z
UID:b49f3a3d-200e-4c52-89a2-41310ee4e4b8
DTSTART:20260511T180000
DTEND:20260511T183000
DESCRIPTION:<html><head><meta http-equiv="Content-Type" content="text/html\
 ; charset=utf-8"></head><body><p>Parent meeting with 3rd grade parents and
  IS/MS Principal will be held in the IS/MS Auditorium at 6 PM on 5/11/26.<
 /p></body></html>
LOCATION:IS/MS Auditorium
SUMMARY:3rd Grade Step  Up Parent Meeting
END:VEVENT
BEGIN:VEVENT
DTSTAMP:20260423T092322Z
UID:cb90dedd-3b53-4161-b210-5408303402fb
DTSTART;VALUE=DATE:20260520
DTEND;VALUE=DATE:20260521
DESCRIPTION:<html><head><meta http-equiv="Content-Type" content="text/html\
 ; charset=utf-8"></head><body><p></p></body></html>
LOCATION:
SUMMARY:5th Grade Field Trip
END:VEVENT
BEGIN:VEVENT
DTSTAMP:20260423T092322Z
UID:33298af3-630e-442a-8a76-97b1ac51a5fc
DTSTART;VALUE=DATE:20260522
DTEND;VALUE=DATE:20260523
DESCRIPTION:
LOCATION:
SUMMARY:No School (snow make up if needed)
END:VEVENT
BEGIN:VEVENT
DTSTAMP:20260423T092322Z
UID:dd823914-c836-4839-8c2a-2f005dfa4bdb
DTSTART;VALUE=DATE:20260525
DTEND;VALUE=DATE:20260526
DESCRIPTION:
LOCATION:
SUMMARY:No School
END:VEVENT
BEGIN:VEVENT
DTSTAMP:20260423T092322Z
UID:cfecec7d-db6e-4e68-a628-e232440d4b08
DTSTART;VALUE=DATE:20260528
DTEND;VALUE=DATE:20260529
DESCRIPTION:
LOCATION:
SUMMARY:4th Grade Field Trip 
END:VEVENT
BEGIN:VEVENT
DTSTAMP:20260423T092322Z
UID:b8ab19cb-41da-4543-a366-d657680f223f
DTSTART;VALUE=DATE:20260603
DTEND;VALUE=DATE:20260604
DESCRIPTION:
LOCATION:
SUMMARY:Last Day of School\, Early Dismissal
END:VEVENT
BEGIN:VEVENT
DTSTAMP:20260423T092322Z
UID:c3ae3273-ff22-497f-9672-896265869889
DTSTART:20260605T140000
DTEND:20260605T141500
DESCRIPTION:
LOCATION:
SUMMARY:MP4 Grades Live 2 PM
END:VEVENT
BEGIN:VEVENT
DTSTAMP:20260423T092322Z
UID:51ea740b-2b6d-475a-8b01-04f8fc0bdaae
DTSTART;VALUE=DATE:20260921
DTEND;VALUE=DATE:20260922
DESCRIPTION:
LOCATION:
SUMMARY:IS/MS Picture Day
END:VEVENT
BEGIN:VEVENT
DTSTAMP:20260423T092322Z
UID:734547ca-728c-4406-9e48-94f38e3fddbb
DTSTART;VALUE=DATE:20261007
DTEND;VALUE=DATE:20261010
DESCRIPTION:
LOCATION:
SUMMARY:5th Grade Camp
END:VEVENT
BEGIN:VEVENT
DTSTAMP:20260423T092322Z
UID:8e6e1033-04d6-41bf-b99d-bef015f5a911
DTSTART;VALUE=DATE:20261102
DTEND;VALUE=DATE:20261103
DESCRIPTION:
LOCATION:
SUMMARY:IS/MS Picture Retake Day
END:VEVENT
END:VCALENDAR
