BEGIN:VCALENDAR
VERSION:2.0
PRODID:icalendar-ruby
CALSCALE:GREGORIAN
BEGIN:VTIMEZONE
TZID:America/New_York
BEGIN:DAYLIGHT
DTSTART:20260308T030000
TZOFFSETFROM:-0500
TZOFFSETTO:-0400
RRULE:FREQ=YEARLY;BYDAY=2SU;BYMONTH=3
TZNAME:EDT
END:DAYLIGHT
BEGIN:STANDARD
DTSTART:20261101T010000
TZOFFSETFROM:-0400
TZOFFSETTO:-0500
RRULE:FREQ=YEARLY;BYDAY=1SU;BYMONTH=11
TZNAME:EST
END:STANDARD
END:VTIMEZONE
BEGIN:VEVENT
DTSTAMP:20260423T092210Z
UID:5fe60ce5-7ade-42ec-b9cd-beb186ae1802
DTSTART:20260501T144500
DTEND:20260501T170000
DESCRIPTION:
LOCATION:103 Old Topton Rd\, Mertztown\, PA 19539\, USA
SUMMARY:High School Senior Citizen Spring Concert
END:VEVENT
BEGIN:VEVENT
DTSTAMP:20260423T092210Z
UID:a8246503-377a-4849-87b5-ea006e119b39
DTSTART:20260505T190000
DTEND:20260505T210000
DESCRIPTION:
LOCATION:103 Old Topton Rd\, Mertztown\, PA 19539\, USA
SUMMARY:High School Spring Concert
END:VEVENT
BEGIN:VEVENT
DTSTAMP:20260423T092210Z
UID:2009e17d-5af5-4360-bb1a-f3852a05ef67
DTSTART;VALUE=DATE:20260508
DTEND;VALUE=DATE:20260509
DESCRIPTION:
LOCATION:
SUMMARY:District Early Dismissal: HS 11:45\, MS 12:00\, IS 1:00\, ES 1:05
END:VEVENT
BEGIN:VEVENT
DTSTAMP:20260423T092210Z
UID:070b9bdf-16e8-414d-8500-8d11f9bdc043
DTSTART:20260508T180000
DTEND:20260508T220000
DESCRIPTION:<html><head><meta http-equiv="Content-Type" content="text/html\
 ; charset=utf-8"></head><body><p>The Aster Event Center\, located within t
 he Hyatt Place</p></body></html>
LOCATION:621 Grange Rd\, Allentown\, PA 18106\, USA
SUMMARY:High School Junior/Senior Prom
END:VEVENT
BEGIN:VEVENT
DTSTAMP:20260423T092210Z
UID:4702b8e0-7eac-484a-acf4-98aca0d36503
DTSTART:20260512T073000
DTEND:20260513T093000
DESCRIPTION:
LOCATION:
SUMMARY:Keystone Testing- Literature 
END:VEVENT
BEGIN:VEVENT
DTSTAMP:20260423T092210Z
UID:9780c10f-0883-4611-bd11-e9e81173e509
DTSTART:20260514T073000
DTEND:20260515T093000
DESCRIPTION:
LOCATION:
SUMMARY:Keystone Testing-Biology
END:VEVENT
BEGIN:VEVENT
DTSTAMP:20260423T092210Z
UID:e3e3a9ec-fccc-4846-add3-f163d04dbd0b
DTSTART:20260515T190000
DTEND:20260515T200000
DESCRIPTION:<html><head><meta http-equiv="Content-Type" content="text/html\
 ; charset=utf-8"></head><body><p><strong>Location:</strong> High School Au
 ditorium</p></body></html>
LOCATION:103 Old Topton Rd\, Mertztown\, PA 19539\, USA
SUMMARY:High School Senior Showcase Recital
END:VEVENT
BEGIN:VEVENT
DTSTAMP:20260423T092210Z
UID:3941e7f7-bc27-45b2-8fef-2b09ee663ffb
DTSTART:20260518T073000
DTEND:20260518T093000
DESCRIPTION:
LOCATION:
SUMMARY:Keystone Makeup Date
END:VEVENT
BEGIN:VEVENT
DTSTAMP:20260423T092210Z
UID:b37582e9-7d44-4926-86f8-97731e85ace3
DTSTART:20260518T180000
DTEND:20260518T203000
DESCRIPTION:
LOCATION:103 Old Topton Rd\, Mertztown\, PA 19539\, USA
SUMMARY:High School Fine Arts Banquet & Awards Ceremony
END:VEVENT
BEGIN:VEVENT
DTSTAMP:20260423T092210Z
UID:4e697b1d-c277-49f6-94e3-856048508011
DTSTART:20260519T073000
DTEND:20260520T093000
DESCRIPTION:
LOCATION:
SUMMARY:Keystone Testing- Algebra 
END:VEVENT
BEGIN:VEVENT
DTSTAMP:20260423T092210Z
UID:417e3d69-0a62-4215-b507-9cc32a380bf5
DTSTART:20260521T073000
DTEND:20260521T093000
DESCRIPTION:
LOCATION:
SUMMARY:Keystone Makeup Date
END:VEVENT
BEGIN:VEVENT
DTSTAMP:20260423T092210Z
UID:36d22fc2-bcb3-4ad9-b57f-b47d09a78cc2
DTSTART;VALUE=DATE:20260522
DTEND;VALUE=DATE:20260523
DESCRIPTION:
LOCATION:
SUMMARY:District CLOSED (Snow Make-up Day)
END:VEVENT
BEGIN:VEVENT
DTSTAMP:20260423T092210Z
UID:083eabf8-0212-462d-b649-8d04a5a9cc78
DTSTART;VALUE=DATE:20260525
DTEND;VALUE=DATE:20260526
DESCRIPTION:
LOCATION:
SUMMARY:District CLOSED
END:VEVENT
BEGIN:VEVENT
DTSTAMP:20260423T092210Z
UID:3510aff1-29f5-438f-baf1-9f32a1708822
DTSTART:20260528T083000
DTEND:20260528T103000
DESCRIPTION:
LOCATION:103 Old Topton Rd\, Mertztown\, PA 19539\, USA
SUMMARY:Senior Class Awards Ceremony
END:VEVENT
BEGIN:VEVENT
DTSTAMP:20260423T092210Z
UID:f764c4e7-5830-4bf5-9fbc-b3c4c592944d
DTSTART:20260531T150000
DTEND:20260531T170000
DESCRIPTION:
LOCATION:16 Fleetwood Rd\, Fleetwood\, PA 19522\, USA
SUMMARY:Baccalaureate Service 
END:VEVENT
BEGIN:VEVENT
DTSTAMP:20260423T092210Z
UID:61e651a1-f502-4ca9-be8b-0dc8b0cf5a18
DTSTART;VALUE=DATE:20260602
DTEND;VALUE=DATE:20260603
DESCRIPTION:
LOCATION:103 Old Topton Rd\, Mertztown\, PA 19539\, USA
SUMMARY:High School Graduation
END:VEVENT
BEGIN:VEVENT
DTSTAMP:20260423T092210Z
UID:8d96e467-9ab5-4653-beab-881fc1960b7a
DTSTART;VALUE=DATE:20260603
DTEND;VALUE=DATE:20260604
DESCRIPTION:
LOCATION:
SUMMARY:LAST STUDENT DAY! 
END:VEVENT
BEGIN:VEVENT
DTSTAMP:20260423T092210Z
UID:fa3aa9d6-8bb3-40b1-934d-f7ec6f926e4c
DTSTART:20260609T140000
DTEND:20260609T141500
DESCRIPTION:
LOCATION:
SUMMARY:Report Cards Live 
END:VEVENT
END:VCALENDAR
