BEGIN:VCALENDAR
VERSION:2.0
PRODID:icalendar-ruby
CALSCALE:GREGORIAN
BEGIN:VTIMEZONE
TZID:America/Los_Angeles
BEGIN:DAYLIGHT
DTSTART:20260308T030000
TZOFFSETFROM:-0800
TZOFFSETTO:-0700
RRULE:FREQ=YEARLY;BYDAY=2SU;BYMONTH=3
TZNAME:PDT
END:DAYLIGHT
BEGIN:STANDARD
DTSTART:20261101T010000
TZOFFSETFROM:-0700
TZOFFSETTO:-0800
RRULE:FREQ=YEARLY;BYDAY=1SU;BYMONTH=11
TZNAME:PST
END:STANDARD
END:VTIMEZONE
BEGIN:VEVENT
DTSTAMP:20260419T123538Z
UID:c8b26d07-2cda-45e4-9440-f0e55a86d48e
DTSTART;VALUE=DATE:20260424
DTEND;VALUE=DATE:20260425
DESCRIPTION:
LOCATION:
SUMMARY:5th gd College & Career Day
END:VEVENT
BEGIN:VEVENT
DTSTAMP:20260419T123538Z
UID:eff51b6d-5fb7-436b-b845-1f439d16a11b
DTSTART:20260514T183000
DTEND:20260514T200000
DESCRIPTION:
LOCATION:Carl Lind Board Room at BUHS - 301 N. Fowler St\, Bishop\, CA
SUMMARY:School Board Meeting
END:VEVENT
BEGIN:VEVENT
DTSTAMP:20260419T123538Z
UID:634cf003-4361-4552-8b41-1ec8095b7230
DTSTART;VALUE=DATE:20260521
DTEND;VALUE=DATE:20260522
DESCRIPTION:
LOCATION:
SUMMARY:TK-12 Minimum Day 
END:VEVENT
BEGIN:VEVENT
DTSTAMP:20260419T123538Z
UID:98950b3a-01db-410c-8f07-f90ebf2071b8
DTSTART;VALUE=DATE:20260522
DTEND;VALUE=DATE:20260526
DESCRIPTION:
LOCATION:
SUMMARY:Memorial Day Weekend (No School)
END:VEVENT
BEGIN:VEVENT
DTSTAMP:20260419T123538Z
UID:036eb3d5-201e-4324-aa83-8b9bf0e70327
DTSTART:20260602T180000
DTEND:20260602T193000
DESCRIPTION:
LOCATION:Bishop Activity Center (BAC)
SUMMARY:English Learner Celebration & DELAC/ELAC Meeting
END:VEVENT
BEGIN:VEVENT
DTSTAMP:20260419T123538Z
UID:3b08e63f-64e4-4f15-a191-80985f2031d1
DTSTART;VALUE=DATE:20260605
DTEND;VALUE=DATE:20260606
DESCRIPTION:
LOCATION:
SUMMARY:Last Day of 25/26 School Year (TK-12 Minimum Day)
END:VEVENT
BEGIN:VEVENT
DTSTAMP:20260419T123538Z
UID:d92e5b8f-6679-4a21-bcbc-54f430108c9c
DTSTART;VALUE=DATE:20260609
DTEND;VALUE=DATE:20260610
DESCRIPTION:
LOCATION:
SUMMARY:1st day of Summer School
END:VEVENT
BEGIN:VEVENT
DTSTAMP:20260419T123538Z
UID:d628e053-9e58-495d-8e67-f2b1802ff7bd
DTSTART:20260609T183000
DTEND:20260609T200000
DESCRIPTION:
LOCATION:Carl Lind Board Room at BUHS - 301 N. Fowler St. Bishop\, CA
SUMMARY:School Board Meeting
END:VEVENT
BEGIN:VEVENT
DTSTAMP:20260419T123538Z
UID:39cb7e43-a249-44ce-bb2f-9cd873601c43
DTSTART:20260611T183000
DTEND:20260611T190000
DESCRIPTION:
LOCATION:Carl Lind Board Room at BUHS - 301 N. Fowler St. Bishop\, CA
SUMMARY:Special Board Meeting
END:VEVENT
BEGIN:VEVENT
DTSTAMP:20260419T123538Z
UID:9f320089-8e8d-44ff-bfd5-b2600584a714
DTSTART;VALUE=DATE:20260619
DTEND;VALUE=DATE:20260620
DESCRIPTION:
LOCATION:
SUMMARY:Juneteenth (No School)
END:VEVENT
BEGIN:VEVENT
DTSTAMP:20260419T123538Z
UID:cb69be78-4d49-4ff2-a0bc-5392ae2b5072
DTSTART;VALUE=DATE:20260701
DTEND;VALUE=DATE:20260702
DESCRIPTION:
LOCATION:
SUMMARY:Last Day of Summer School
END:VEVENT
END:VCALENDAR
