BEGIN:VCALENDAR
VERSION:2.0
PRODID:icalendar-ruby
CALSCALE:GREGORIAN
BEGIN:VTIMEZONE
TZID:America/New_York
BEGIN:DAYLIGHT
DTSTART:20260308T030000
TZOFFSETFROM:-0500
TZOFFSETTO:-0400
RRULE:FREQ=YEARLY;BYDAY=2SU;BYMONTH=3
TZNAME:EDT
END:DAYLIGHT
BEGIN:STANDARD
DTSTART:20261101T010000
TZOFFSETFROM:-0400
TZOFFSETTO:-0500
RRULE:FREQ=YEARLY;BYDAY=1SU;BYMONTH=11
TZNAME:EST
END:STANDARD
END:VTIMEZONE
BEGIN:VEVENT
DTSTAMP:20260426T002709Z
UID:8a3d08d8-e379-47ac-8b4e-7bd1c5765b99
DTSTART;VALUE=DATE:20260420
DTEND;VALUE=DATE:20260427
DESCRIPTION:<b>Monday</b><br>Varsity BB/SB at Bishop Brady 4:30<br><br><b>T
 uesday</b><br>Track at Kennett 4:00<br><br><b>Wednesday</b><br>Varsity BB/
 SB vs. Berlin 4:00<br>Boys Tennis vs. Prospect Mt. 4:00 (Gorham)<br>Girls 
 Tennis at Prospect Mt. 4:00<br><br><b>Thursday</b><br>N/A<br><br><b>Friday
 </b><br>Varsity BB/SB vs. Littleton 4:00<br><br><b>Saturday</b><br>N/A<br>
 <br><b>Sunday</b><br>Track at Campbell 9:00<br><br><b><i>Times &amp\; Date
 s are Subject to Change. </i></b>
LOCATION:
SUMMARY:Athletics (click title for schedule)
END:VEVENT
BEGIN:VEVENT
DTSTAMP:20260426T002709Z
UID:4141fe5a-74ea-41a7-b3ab-92182f9f1fd6
DTSTART;VALUE=DATE:20260427
DTEND;VALUE=DATE:20260502
DESCRIPTION:
LOCATION:
SUMMARY:Spring Recess
END:VEVENT
BEGIN:VEVENT
DTSTAMP:20260426T002709Z
UID:6908c60a-a1fb-461d-b52f-9b2baa1a8582
DTSTART:20260506T173000
DTEND:20260506T183000
DESCRIPTION:
LOCATION:
SUMMARY:Granite Advance: Applying to College
END:VEVENT
BEGIN:VEVENT
DTSTAMP:20260426T002709Z
UID:f8e58446-9fc3-4416-81f2-835417778d8a
DTSTART;VALUE=DATE:20260516
DTEND;VALUE=DATE:20260517
DESCRIPTION:<b>Grand March begins at 5:00 pm </b>
LOCATION:Maplewood Golf Course & Inn\, 5:00 pm - 9:00 pm
SUMMARY:Class of 2027 Junior Prom 
END:VEVENT
BEGIN:VEVENT
DTSTAMP:20260426T002709Z
UID:c4dc4652-6f14-4deb-b5a4-3e9ed96305f7
DTSTART:20260519T183000
DTEND:20260519T193000
DESCRIPTION:
LOCATION:WMRHS Auditorium
SUMMARY:WMRHS Progressive Styles Concert
END:VEVENT
BEGIN:VEVENT
DTSTAMP:20260426T002709Z
UID:b7380ad6-c421-4978-9ed6-3e27156c4b83
DTSTART:20260520T180000
DTEND:20260520T193000
DESCRIPTION:
LOCATION:
SUMMARY:Academic Awards Ceremony
END:VEVENT
BEGIN:VEVENT
DTSTAMP:20260426T002709Z
UID:f787776f-437e-4018-9b48-81b40fa78985
DTSTART;VALUE=DATE:20260525
DTEND;VALUE=DATE:20260526
DESCRIPTION:
LOCATION:
SUMMARY:No School - Memorial Day
END:VEVENT
BEGIN:VEVENT
DTSTAMP:20260426T002709Z
UID:b1868cf1-8bc2-4be4-9260-e5295eb0a6af
DTSTART:20260526T070000
DTEND:20260526T210000
DESCRIPTION:
LOCATION:
SUMMARY:Senior Class Trip
END:VEVENT
BEGIN:VEVENT
DTSTAMP:20260426T002709Z
UID:7d235803-7bf8-4e97-94fd-1b92a27b3435
DTSTART:20260531T183000
DTEND:20260531T203000
DESCRIPTION:<b>WMRHS SENIORS ONLY EVENT</b>
LOCATION:WMRHS SENIORS ONLY EVENT
SUMMARY:Senior Sunset
END:VEVENT
BEGIN:VEVENT
DTSTAMP:20260426T002709Z
UID:57c34bea-a916-494b-b948-476b2a5c468a
DTSTART;VALUE=DATE:20260601
DTEND;VALUE=DATE:20260602
DESCRIPTION:<b>WMRHS Auditorium 6:00 pm</b>
LOCATION:WMRHS Auditorium 6:00 pm
SUMMARY:High School Spring Sports Awards
END:VEVENT
BEGIN:VEVENT
DTSTAMP:20260426T002709Z
UID:93f5d1d4-5e7b-4506-8396-6de9a3342174
DTSTART;VALUE=DATE:20260602
DTEND;VALUE=DATE:20260603
DESCRIPTION:<b>WMRHS Auditorium 6:00 pm</b>
LOCATION:WMRHS Auditorium 6:00 pm
SUMMARY:Senior Recognitions and Class Night
END:VEVENT
BEGIN:VEVENT
DTSTAMP:20260426T002709Z
UID:35a49c57-91ce-49ef-a10f-493f7f17e321
DTSTART;VALUE=DATE:20260604
DTEND;VALUE=DATE:20260605
DESCRIPTION:<b>WMRHS Auditorium 5:30 pm</b>
LOCATION:WMRHS Auditorium 5:30 pm
SUMMARY:Senior Awards & Scholarship Night
END:VEVENT
BEGIN:VEVENT
DTSTAMP:20260426T002709Z
UID:1707387b-a22c-4d54-8e60-959b76e18836
DTSTART;VALUE=DATE:20260605
DTEND;VALUE=DATE:20260607
DESCRIPTION:
LOCATION:WMRHS
SUMMARY:Senior Chem-Free Night 
END:VEVENT
BEGIN:VEVENT
DTSTAMP:20260426T002709Z
UID:b8b4f736-76da-4b07-93ce-6c9a890a5dae
DTSTART;VALUE=DATE:20260605
DTEND;VALUE=DATE:20260606
DESCRIPTION:
LOCATION:Commencement will begin at 6:00 pm 
SUMMARY:WMRHS Graduation 
END:VEVENT
BEGIN:VEVENT
DTSTAMP:20260426T002709Z
UID:eb56307d-eeb3-455e-8672-4aa72fd85414
DTSTART;VALUE=DATE:20260612
DTEND;VALUE=DATE:20260613
DESCRIPTION:
LOCATION:
SUMMARY:Early Release & Last Day of School
END:VEVENT
BEGIN:VEVENT
DTSTAMP:20260426T002709Z
UID:97604248-6baa-4806-a878-28f94d9f0310
DTSTART;VALUE=DATE:20260612
DTEND;VALUE=DATE:20260613
DESCRIPTION:
LOCATION:
SUMMARY:Quarter 4 Ends
END:VEVENT
BEGIN:VEVENT
DTSTAMP:20260426T002709Z
UID:d5556929-90bc-4a78-80af-b0897f2a5485
DTSTART;VALUE=DATE:20260619
DTEND;VALUE=DATE:20260620
DESCRIPTION:
LOCATION:
SUMMARY:Quarter 4 Report Cards
END:VEVENT
END:VCALENDAR
