BEGIN:VCALENDAR
VERSION:2.0
PRODID:icalendar-ruby
CALSCALE:GREGORIAN
BEGIN:VTIMEZONE
TZID:America/New_York
BEGIN:DAYLIGHT
DTSTART:20260308T030000
TZOFFSETFROM:-0500
TZOFFSETTO:-0400
RRULE:FREQ=YEARLY;BYDAY=2SU;BYMONTH=3
TZNAME:EDT
END:DAYLIGHT
BEGIN:STANDARD
DTSTART:20261101T010000
TZOFFSETFROM:-0400
TZOFFSETTO:-0500
RRULE:FREQ=YEARLY;BYDAY=1SU;BYMONTH=11
TZNAME:EST
END:STANDARD
END:VTIMEZONE
BEGIN:VEVENT
DTSTAMP:20260422T213336Z
UID:e09d4146-0ea5-4e7a-b8ba-ac9b3560cf92
DTSTART;VALUE=DATE:20260422
DTEND;VALUE=DATE:20260423
DESCRIPTION:
LOCATION:
SUMMARY:End of the Year Assessment- IReady Make up Day 
END:VEVENT
BEGIN:VEVENT
DTSTAMP:20260422T213336Z
UID:9634cef6-6caf-4667-a2d2-478d8bb8dbea
DTSTART:20260428T160000
DTEND:20260428T170000
DESCRIPTION:
LOCATION:510 Riverview Dr\, Belmont\, WV 26134\, USA
SUMMARY:PTO Meeting 
END:VEVENT
BEGIN:VEVENT
DTSTAMP:20260422T213336Z
UID:459b1c3a-7a72-4a73-85be-1f4ad92a4da7
DTSTART;VALUE=DATE:20260501
DTEND;VALUE=DATE:20260502
DESCRIPTION:
LOCATION:
SUMMARY:End of the Year Assessment- IXL Science 
END:VEVENT
BEGIN:VEVENT
DTSTAMP:20260422T213336Z
UID:69167b11-8bef-4a94-97fd-d856eda2f9c7
DTSTART;VALUE=DATE:20260504
DTEND;VALUE=DATE:20260505
DESCRIPTION:
LOCATION:
SUMMARY:End of the Year Assessment- GSA Writing 
END:VEVENT
BEGIN:VEVENT
DTSTAMP:20260422T213336Z
UID:b91ad37d-24ba-4ca6-8eb2-0709e1d3c93a
DTSTART:20260504T080000
DTEND:20260508T090000
DESCRIPTION:
LOCATION:
SUMMARY:Teacher and Staff Appreciation Week 
END:VEVENT
BEGIN:VEVENT
DTSTAMP:20260422T213336Z
UID:a908e4b5-4951-494e-9dc6-93af29c02fdd
DTSTART;VALUE=DATE:20260505
DTEND;VALUE=DATE:20260506
DESCRIPTION:
LOCATION:
SUMMARY:End of the Year Assessment- GSA ELA 
END:VEVENT
BEGIN:VEVENT
DTSTAMP:20260422T213336Z
UID:49a4ea0d-8eeb-491e-aba4-c6f76045b138
DTSTART;VALUE=DATE:20260507
DTEND;VALUE=DATE:20260508
DESCRIPTION:
LOCATION:
SUMMARY:End of the Year Assessment- GSA Math 
END:VEVENT
BEGIN:VEVENT
DTSTAMP:20260422T213336Z
UID:84d2c293-4e4a-4e16-b5ff-f59a7fc578f9
DTSTART;VALUE=DATE:20260508
DTEND;VALUE=DATE:20260509
DESCRIPTION:
LOCATION:
SUMMARY:End of the Year Assessment- GSA Science 
END:VEVENT
BEGIN:VEVENT
DTSTAMP:20260422T213336Z
UID:a5696715-1b5a-4a55-86a4-febfe3dd9d28
DTSTART;VALUE=DATE:20260512
DTEND;VALUE=DATE:20260513
DESCRIPTION:
LOCATION:
SUMMARY:No School- Election Day 
END:VEVENT
BEGIN:VEVENT
DTSTAMP:20260422T213336Z
UID:8810a7aa-a6fc-4ed2-aedd-422f10c9f96d
DTSTART;VALUE=DATE:20260513
DTEND;VALUE=DATE:20260514
DESCRIPTION:
LOCATION:
SUMMARY:End of the Year Assesment- IXL Social Studies 
END:VEVENT
BEGIN:VEVENT
DTSTAMP:20260422T213336Z
UID:74723c65-27f7-42c2-aeed-915e0f631083
DTSTART:20260514T160000
DTEND:20260514T210000
DESCRIPTION:
LOCATION:
SUMMARY:8th Grade Cruise- Valley Gem 
END:VEVENT
BEGIN:VEVENT
DTSTAMP:20260422T213336Z
UID:cf5046d7-f269-45e9-8818-fe4e66fadf00
DTSTART;VALUE=DATE:20260515
DTEND;VALUE=DATE:20260516
DESCRIPTION:
LOCATION:
SUMMARY:7th Grade Field Trip 
END:VEVENT
BEGIN:VEVENT
DTSTAMP:20260422T213336Z
UID:0f6b5182-e572-4ee0-8875-d9e084322ea4
DTSTART;VALUE=DATE:20260518
DTEND;VALUE=DATE:20260523
DESCRIPTION:
LOCATION:
SUMMARY:STEAM Minded Week 
END:VEVENT
BEGIN:VEVENT
DTSTAMP:20260422T213336Z
UID:f5622fc5-afff-49f7-a956-2d454d31da11
DTSTART:20260518T180000
DTEND:20260518T210000
DESCRIPTION:
LOCATION:
SUMMARY:Spring Band and Choir Concert 
END:VEVENT
BEGIN:VEVENT
DTSTAMP:20260422T213336Z
UID:624b6152-77e4-441e-b13a-4fd228bff076
DTSTART;VALUE=DATE:20260519
DTEND;VALUE=DATE:20260520
DESCRIPTION:
LOCATION:
SUMMARY:4th Grade Step Up Day 
END:VEVENT
BEGIN:VEVENT
DTSTAMP:20260422T213336Z
UID:86fce528-434c-4766-af71-4ef6f649abe9
DTSTART;VALUE=DATE:20260520
DTEND;VALUE=DATE:20260521
DESCRIPTION:
LOCATION:
SUMMARY:4th 9 Weeks Closing 
END:VEVENT
BEGIN:VEVENT
DTSTAMP:20260422T213336Z
UID:a239975a-e159-47f4-bded-b70caa55bb9d
DTSTART:20260520T090000
DTEND:20260520T120000
DESCRIPTION:
LOCATION:
SUMMARY:Get  A Life Simulation 
END:VEVENT
BEGIN:VEVENT
DTSTAMP:20260422T213336Z
UID:b7cab9eb-8a23-4196-ab2c-2c178187ca2b
DTSTART;VALUE=DATE:20260521
DTEND;VALUE=DATE:20260522
DESCRIPTION:
LOCATION:
SUMMARY:8th Grade Band Going to SMHS
END:VEVENT
BEGIN:VEVENT
DTSTAMP:20260422T213336Z
UID:977c269f-f8bd-4496-9552-78ac49548145
DTSTART;VALUE=DATE:20260525
DTEND;VALUE=DATE:20260526
DESCRIPTION:
LOCATION:
SUMMARY:No School- Memorial Day 
END:VEVENT
BEGIN:VEVENT
DTSTAMP:20260422T213336Z
UID:e8662ce0-87b5-4634-96f4-d88e7a2fed5c
DTSTART:20260829T110000
DTEND:20260831T140000
DESCRIPTION:
LOCATION:9817 Shortline Hwy\, Reader\, WV 26167\, USA
SUMMARY:Football Scrimmage at Shortline (Valley-Wretzel)
END:VEVENT
BEGIN:VEVENT
DTSTAMP:20260422T213336Z
UID:c3c22f45-16f5-415b-9271-5b90dac84900
DTSTART:20260903T180000
DTEND:20260903T210000
DESCRIPTION:
LOCATION:2330 N Pleasants Hwy\, St Marys\, WV 26170\, USA
SUMMARY:Football vs Calhoun
END:VEVENT
BEGIN:VEVENT
DTSTAMP:20260422T213336Z
UID:7eb3b0f8-155e-4e06-91a9-289fa539ee8a
DTSTART:20260910T180000
DTEND:20260910T210000
DESCRIPTION:
LOCATION:201 Ritchie County School Rd\, Ellenboro\, WV 26346\, USA
SUMMARY:Football at Ritchie County
END:VEVENT
BEGIN:VEVENT
DTSTAMP:20260422T213336Z
UID:8011fc2f-3741-433b-a04c-3d4224f0e886
DTSTART:20260916T180000
DTEND:20260916T210000
DESCRIPTION:
LOCATION:2330 N Pleasants Hwy\, St Marys\, WV 26170\, USA
SUMMARY:Football vs New Martinsville
END:VEVENT
BEGIN:VEVENT
DTSTAMP:20260422T213336Z
UID:cd856ae8-d865-4ad2-a030-72f45089bf2f
DTSTART:20260924T190000
DTEND:20260924T220000
DESCRIPTION:
LOCATION:300 Pine St\, Glenville\, WV 26351\, USA
SUMMARY:Football at Gilmer
END:VEVENT
BEGIN:VEVENT
DTSTAMP:20260422T213336Z
UID:e6ff453d-475f-482e-b6e6-4a6b9e71f237
DTSTART:20261001T180000
DTEND:20261001T210000
DESCRIPTION:
LOCATION:1993 Silver Knight Dr\, Sistersville\, WV 26175\, USA
SUMMARY:Football at Tyler Consolidated
END:VEVENT
BEGIN:VEVENT
DTSTAMP:20260422T213336Z
UID:64f94f6d-528b-4ef2-9021-5a7ed79ce941
DTSTART:20261008T180000
DTEND:20261008T210000
DESCRIPTION:
LOCATION:44870 OH-7\, Matamoras\, OH 45767\, USA
SUMMARY:Football at Frontier
END:VEVENT
BEGIN:VEVENT
DTSTAMP:20260422T213336Z
UID:c563a75d-aace-4803-beae-c6305f8e9bc1
DTSTART:20261015T180000
DTEND:20261015T210000
DESCRIPTION:
LOCATION:2330 N Pleasants Hwy\, St Marys\, WV 26170\, USA
SUMMARY:Football vs Doddridge
END:VEVENT
BEGIN:VEVENT
DTSTAMP:20260422T213336Z
UID:8b15748f-7c3b-4d11-bf5e-de7b8edb8f86
DTSTART:20261022T180000
DTEND:20261022T210000
DESCRIPTION:
LOCATION:2330 N Pleasants Hwy\, St Marys\, WV 26170\, USA
SUMMARY:Football vs Wirt County
END:VEVENT
BEGIN:VEVENT
DTSTAMP:20260422T213336Z
UID:844e3ec6-747d-454b-aa7c-ed92a4ccbd97
DTSTART:20261029T180000
DTEND:20261029T210000
DESCRIPTION:
LOCATION:TBA
SUMMARY:Football LKC Placement Game TBA
END:VEVENT
END:VCALENDAR
