BEGIN:VCALENDAR
VERSION:2.0
PRODID:icalendar-ruby
CALSCALE:GREGORIAN
BEGIN:VTIMEZONE
TZID:America/New_York
BEGIN:DAYLIGHT
DTSTART:20260308T030000
TZOFFSETFROM:-0500
TZOFFSETTO:-0400
RRULE:FREQ=YEARLY;BYDAY=2SU;BYMONTH=3
TZNAME:EDT
END:DAYLIGHT
BEGIN:STANDARD
DTSTART:20261101T010000
TZOFFSETFROM:-0400
TZOFFSETTO:-0500
RRULE:FREQ=YEARLY;BYDAY=1SU;BYMONTH=11
TZNAME:EST
END:STANDARD
END:VTIMEZONE
BEGIN:VEVENT
DTSTAMP:20260421T165135Z
UID:5e89a380-bd8c-420f-9dfa-883506d752d4
DTSTART:20260513T193000
DTEND:20260513T203000
DESCRIPTION:
LOCATION:
SUMMARY:MM Spring Concert
END:VEVENT
BEGIN:VEVENT
DTSTAMP:20260421T165135Z
UID:7daab735-57eb-40a2-9aad-8d75a83b9c80
DTSTART:20260514T183000
DTEND:20260514T193000
DESCRIPTION:
LOCATION:
SUMMARY:MMPTA Meeting 
END:VEVENT
BEGIN:VEVENT
DTSTAMP:20260421T165135Z
UID:bebd3203-f947-4311-ad8e-2e065432086f
DTSTART:20260520T193000
DTEND:20260520T203000
DESCRIPTION:
LOCATION:
SUMMARY:MM Spring Concert
END:VEVENT
BEGIN:VEVENT
DTSTAMP:20260421T165135Z
UID:47d1da8e-21e9-49a5-b11d-9ccc23f7800a
DTSTART;VALUE=DATE:20260528
DTEND;VALUE=DATE:20260529
DESCRIPTION:
LOCATION:
SUMMARY:MM Race for Education 
END:VEVENT
END:VCALENDAR
