BEGIN:VCALENDAR
VERSION:2.0
PRODID:icalendar-ruby
CALSCALE:GREGORIAN
BEGIN:VTIMEZONE
TZID:America/Chicago
BEGIN:DAYLIGHT
DTSTART:20260308T030000
TZOFFSETFROM:-0600
TZOFFSETTO:-0500
RRULE:FREQ=YEARLY;BYDAY=2SU;BYMONTH=3
TZNAME:CDT
END:DAYLIGHT
BEGIN:STANDARD
DTSTART:20261101T010000
TZOFFSETFROM:-0500
TZOFFSETTO:-0600
RRULE:FREQ=YEARLY;BYDAY=1SU;BYMONTH=11
TZNAME:CST
END:STANDARD
END:VTIMEZONE
BEGIN:VEVENT
DTSTAMP:20260423T132804Z
UID:ef151615-f088-46b9-aa22-cd20fe077dec
DTSTART:20260428T070000
DTEND:20260428T083000
DESCRIPTION:<p>Swing into The Bakery Unlimited for a sweet treat and connec
 t with Superintendent Gross! Don't miss this opportunity to hear about all
  the exciting things happening in WCSD!</p>
LOCATION:119 N John Wayne Dr\, Winterset\, IA 50273\, USA
SUMMARY:Coffee with the Superintendent 🍩
END:VEVENT
BEGIN:VEVENT
DTSTAMP:20260423T132804Z
UID:affef210-0eeb-4078-b2bb-02a64402a902
DTSTART:20260429T153000
DTEND:20260429T193000
DESCRIPTION:
LOCATION:
SUMMARY:High School Conferences
END:VEVENT
BEGIN:VEVENT
DTSTAMP:20260423T132804Z
UID:60248612-8acc-46d8-9dcc-0953741965dd
DTSTART:20260501T190000
DTEND:20260501T210000
DESCRIPTION:
LOCATION:624 Husky Dr\, Winterset\, IA 50273\, USA
SUMMARY:Husky Drama Spring Play 🎭
END:VEVENT
BEGIN:VEVENT
DTSTAMP:20260423T132804Z
UID:998e9230-99e7-485c-b3c5-5e0b0867f994
DTSTART:20260502T190000
DTEND:20260502T210000
DESCRIPTION:
LOCATION:624 Husky Dr\, Winterset\, IA 50273\, USA
SUMMARY:Husky Drama Spring Play 🎭
END:VEVENT
BEGIN:VEVENT
DTSTAMP:20260423T132804Z
UID:3a9ab16f-8bf4-4d09-a0c6-1793709e66e5
DTSTART;VALUE=DATE:20260504
DTEND;VALUE=DATE:20260509
DESCRIPTION:
LOCATION:
SUMMARY:Teacher Appreciation Week 🍎
END:VEVENT
BEGIN:VEVENT
DTSTAMP:20260423T132804Z
UID:d1a88ea8-f4e6-4ac2-84c1-4bca4dac6bcf
DTSTART:20260504T190000
DTEND:20260504T200000
DESCRIPTION:
LOCATION:624 Husky Dr\, Winterset\, IA 50273\, USA
SUMMARY:3rd Grade Concert 🎶
END:VEVENT
BEGIN:VEVENT
DTSTAMP:20260423T132804Z
UID:09e3ed4c-f610-42f4-b01a-18dce256717f
DTSTART:20260505T190000
DTEND:20260505T200000
DESCRIPTION:
LOCATION:624 Husky Dr\, Winterset\, IA 50273\, USA
SUMMARY:2nd Grade Concert 🎶
END:VEVENT
BEGIN:VEVENT
DTSTAMP:20260423T132804Z
UID:631b9f30-45cc-4cfd-b503-ef116e53c616
DTSTART;VALUE=DATE:20260506
DTEND;VALUE=DATE:20260507
DESCRIPTION:
LOCATION:
SUMMARY:Nurse Appreciation Day 👩🏻‍⚕️
END:VEVENT
BEGIN:VEVENT
DTSTAMP:20260423T132804Z
UID:5585b898-bf6d-41d0-b768-fc51f2de064b
DTSTART:20260506T190000
DTEND:20260506T200000
DESCRIPTION:
LOCATION:624 Husky Dr\, Winterset\, IA 50273\, USA
SUMMARY:1st Grade Concert 🎶
END:VEVENT
BEGIN:VEVENT
DTSTAMP:20260423T132804Z
UID:76efee3a-cf6a-433a-8c68-1e535deb994d
DTSTART:20260507T190000
DTEND:20260507T200000
DESCRIPTION:
LOCATION:624 Husky Dr\, Winterset\, IA 50273\, USA
SUMMARY:4th Grade Concert 🎶
END:VEVENT
BEGIN:VEVENT
DTSTAMP:20260423T132804Z
UID:2f1d1849-f75c-4c84-a783-966638f462d3
DTSTART:20260511T170000
DTEND:20260511T180000
DESCRIPTION:
LOCATION:303 Wambold Dr\, Winterset\, IA 50273\, USA
SUMMARY:WCSD Board Meeting
END:VEVENT
BEGIN:VEVENT
DTSTAMP:20260423T132804Z
UID:98dbfe46-c97c-4078-a67b-894c5c25b28e
DTSTART:20260511T190000
DTEND:20260511T210000
DESCRIPTION:
LOCATION:624 Husky Dr\, Winterset\, IA 50273\, USA
SUMMARY:High School Band and Choir Concert 🎶
END:VEVENT
BEGIN:VEVENT
DTSTAMP:20260423T132804Z
UID:7aa7f37e-0a26-4314-8c3d-e1081fc77b98
DTSTART;VALUE=DATE:20260512
DTEND;VALUE=DATE:20260513
DESCRIPTION:
LOCATION:
SUMMARY:Husky Help Day 🐾
END:VEVENT
BEGIN:VEVENT
DTSTAMP:20260423T132804Z
UID:8c863458-c2cb-4daa-88f8-cb2435f6b8d3
DTSTART:20260512T190000
DTEND:20260512T200000
DESCRIPTION:
LOCATION:624 Husky Dr\, Winterset\, IA 50273\, USA
SUMMARY:Kindergarten Concert 🎶
END:VEVENT
BEGIN:VEVENT
DTSTAMP:20260423T132804Z
UID:b47442ff-2334-4bd4-9793-9c55f8a83046
DTSTART:20260513T190000
DTEND:20260513T210000
DESCRIPTION:<p>WHS Competition Gym</p>
LOCATION:624 Husky Dr\, Winterset\, IA 50273\, USA
SUMMARY:Senior Awards Night 🎓
END:VEVENT
BEGIN:VEVENT
DTSTAMP:20260423T132804Z
UID:4c7cd909-43f4-4a1e-9ef4-4fae10bf2325
DTSTART:20260514T190000
DTEND:20260514T200000
DESCRIPTION:
LOCATION:624 Husky Dr\, Winterset\, IA 50273\, USA
SUMMARY:Middle School Spring Band Concert 🎺
END:VEVENT
BEGIN:VEVENT
DTSTAMP:20260423T132804Z
UID:84b4f9be-6fe5-47b7-bd7c-acc27afaa2f1
DTSTART;VALUE=DATE:20260515
DTEND;VALUE=DATE:20260516
DESCRIPTION:
LOCATION:
SUMMARY:Last Day of Preschool
END:VEVENT
BEGIN:VEVENT
DTSTAMP:20260423T132804Z
UID:0d9c502f-4b1e-4c45-ba89-8065c30e9c3e
DTSTART;VALUE=DATE:20260515
DTEND;VALUE=DATE:20260516
DESCRIPTION:<p>Registration for the 2026-2027 school year opens! Registerin
 g early helps us plan and you get to check it off your to-do list! ✔️ 
 New students register through our <a target="_blank" rel="noopener norefer
 rer nofollow" href="https://wintersetia.infinitecampus.org/campus/apps/olr
 /application/login/kiosk-app-type" relative-link="">website</a>\; returnin
 g students are registered through the <a target="_blank" rel="noopener nor
 eferrer nofollow" href="https://wintersetia.infinitecampus.org/campus/port
 al/parents/winterset.jsp" relative-link="">Parent Portal</a>.</p>
LOCATION:
SUMMARY:🚨 Online Registration Opens 
END:VEVENT
BEGIN:VEVENT
DTSTAMP:20260423T132804Z
UID:71f20bc7-a295-47a9-b77b-4980695342a1
DTSTART;VALUE=DATE:20260520
DTEND;VALUE=DATE:20260521
DESCRIPTION:
LOCATION:
SUMMARY:Seniors' Last Day
END:VEVENT
BEGIN:VEVENT
DTSTAMP:20260423T132804Z
UID:fe62909c-22fe-4654-b643-3e7c151ffc23
DTSTART:20260521T190000
DTEND:20260521T200000
DESCRIPTION:
LOCATION:624 Husky Dr\, Winterset\, IA 50273\, USA
SUMMARY:Junior High Choir Concert
END:VEVENT
BEGIN:VEVENT
DTSTAMP:20260423T132804Z
UID:a3a692eb-1692-44b1-ad6d-3629011e2283
DTSTART:20260524T143000
DTEND:20260524T153000
DESCRIPTION:<p>WHS Competition Gym</p>
LOCATION:624 Husky Dr\, Winterset\, IA 50273\, USA
SUMMARY:Class of 2026 Commencement 🎓
END:VEVENT
BEGIN:VEVENT
DTSTAMP:20260423T132804Z
UID:234a06c6-fdf5-4292-83a4-cd12746e14df
DTSTART;VALUE=DATE:20260525
DTEND;VALUE=DATE:20260526
DESCRIPTION:
LOCATION:
SUMMARY:No School - Memorial Day 🇺🇸
END:VEVENT
BEGIN:VEVENT
DTSTAMP:20260423T132804Z
UID:70624458-8ff6-4cbc-8d52-946887949163
DTSTART;VALUE=DATE:20260529
DTEND;VALUE=DATE:20260530
DESCRIPTION:
LOCATION:
SUMMARY:Last Day of School - 2 Hour Early Dismissal 🔔
END:VEVENT
BEGIN:VEVENT
DTSTAMP:20260423T132804Z
UID:0d58aa69-bc1f-4aa5-ac5c-da3ad2cb6153
DTSTART;VALUE=DATE:20260717
DTEND;VALUE=DATE:20260718
DESCRIPTION:<p>Last day to register your student online for the 26-27 schoo
 l year</p>
LOCATION:
SUMMARY:🚨 Online Registration Closes
END:VEVENT
END:VCALENDAR
