BEGIN:VCALENDAR
VERSION:2.0
PRODID:icalendar-ruby
CALSCALE:GREGORIAN
BEGIN:VTIMEZONE
TZID:America/New_York
BEGIN:DAYLIGHT
DTSTART:20260308T030000
TZOFFSETFROM:-0500
TZOFFSETTO:-0400
RRULE:FREQ=YEARLY;BYDAY=2SU;BYMONTH=3
TZNAME:EDT
END:DAYLIGHT
BEGIN:STANDARD
DTSTART:20261101T010000
TZOFFSETFROM:-0400
TZOFFSETTO:-0500
RRULE:FREQ=YEARLY;BYDAY=1SU;BYMONTH=11
TZNAME:EST
END:STANDARD
END:VTIMEZONE
BEGIN:VEVENT
DTSTAMP:20260419T183347Z
UID:ad1f824c-2509-4588-b577-35dabd8e311e
DTSTART:20260420T083000
DTEND:20260420T103000
DESCRIPTION:Hurricane Invitational Tournament
LOCATION:AWAY
SUMMARY:V Boys Golf
END:VEVENT
BEGIN:VEVENT
DTSTAMP:20260419T183347Z
UID:253e3d13-5cc7-45a2-9afd-8ea029818a69
DTSTART:20260420T164500
DTEND:20260420T184500
DESCRIPTION:Travelers Rest
LOCATION:HOME
SUMMARY:V Boys Tennis
END:VEVENT
BEGIN:VEVENT
DTSTAMP:20260419T183347Z
UID:d014cd98-9a0a-4ec2-bded-41b98f3b9aa4
DTSTART:20260421T083000
DTEND:20260421T103000
DESCRIPTION:Hurricane Invitational Tournament
LOCATION:AWAY
SUMMARY:V Boys Golf
END:VEVENT
BEGIN:VEVENT
DTSTAMP:20260419T183347Z
UID:2e3f1084-a07b-4537-a402-cb06a830ef73
DTSTART:20260421T170000
DTEND:20260421T190000
DESCRIPTION:Riverside
LOCATION:AWAY
SUMMARY:V Boys Tennis
END:VEVENT
BEGIN:VEVENT
DTSTAMP:20260419T183347Z
UID:98c47a7a-2a0c-4fd8-ba41-3a69ae5cf9fc
DTSTART:20260421T170000
DTEND:20260421T190000
DESCRIPTION:Tri County Championships (Walhalla/Seneca)
LOCATION:AWAY
SUMMARY:V Track
END:VEVENT
BEGIN:VEVENT
DTSTAMP:20260419T183347Z
UID:7fba80a9-7300-4a61-baa5-b3bafffe7bfa
DTSTART:20260421T173000
DTEND:20260421T193000
DESCRIPTION:Travelers Rest
LOCATION:AWAY
SUMMARY:JV & V Boys Soccer
END:VEVENT
BEGIN:VEVENT
DTSTAMP:20260419T183347Z
UID:88e4b850-e4dd-4476-9385-452c32c31b41
DTSTART:20260421T173000
DTEND:20260421T193000
DESCRIPTION:Travelers Rest
LOCATION:AWAY
SUMMARY:JV & V Softball
END:VEVENT
BEGIN:VEVENT
DTSTAMP:20260419T183347Z
UID:5bff31bd-be54-40ee-8014-50ddd697d0ec
DTSTART:20260421T180000
DTEND:20260421T200000
DESCRIPTION:Travelers Rest (varsity only)
LOCATION:HOME
SUMMARY:V Girls Soccer
END:VEVENT
BEGIN:VEVENT
DTSTAMP:20260419T183347Z
UID:ba31cd44-2c88-40ea-ad13-29f8567a58fe
DTSTART:20260421T183000
DTEND:20260421T203000
DESCRIPTION:Blue Ridge
LOCATION:AWAY
SUMMARY:V Baseball
END:VEVENT
BEGIN:VEVENT
DTSTAMP:20260419T183347Z
UID:bc27c584-447f-4ef5-a7ec-b19f29f42768
DTSTART;VALUE=DATE:20260422
DTEND;VALUE=DATE:20260423
DESCRIPTION:
LOCATION:
SUMMARY:4th Quarter Interims
END:VEVENT
BEGIN:VEVENT
DTSTAMP:20260419T183347Z
UID:f4164082-699e-406a-bd55-0f60f2ef6355
DTSTART:20260422T170000
DTEND:20260422T190000
DESCRIPTION:Tri County Championships (Walhalla/Seneca)
LOCATION:AWAY
SUMMARY:V Track
END:VEVENT
BEGIN:VEVENT
DTSTAMP:20260419T183347Z
UID:a930b4b9-06f1-491d-be32-4d399b0d364b
DTSTART:20260422T173000
DTEND:20260422T193000
DESCRIPTION:Blue Ridge (DH)
LOCATION:HOME
SUMMARY:JV Baseball
END:VEVENT
BEGIN:VEVENT
DTSTAMP:20260419T183347Z
UID:bbb9adcd-3a1c-4c77-a3e1-8cc3a2a8aa47
DTSTART;VALUE=DATE:20260423
DTEND;VALUE=DATE:20260424
DESCRIPTION:
LOCATION:
SUMMARY:Adminstrative Professionals Day
END:VEVENT
BEGIN:VEVENT
DTSTAMP:20260419T183347Z
UID:52eb1bf7-10ad-47d9-999b-84840ad01311
DTSTART;VALUE=DATE:20260423
DTEND;VALUE=DATE:20260424
DESCRIPTION:
LOCATION:
SUMMARY:All County String Orchestra
END:VEVENT
BEGIN:VEVENT
DTSTAMP:20260419T183347Z
UID:f1c59e5e-0159-479d-a8b5-975be7835b01
DTSTART:20260423T164500
DTEND:20260423T184500
DESCRIPTION:PIckens
LOCATION:AWAY
SUMMARY:V Boys Tennis
END:VEVENT
BEGIN:VEVENT
DTSTAMP:20260419T183347Z
UID:7860d6d6-0828-4ffc-bdb4-95a9c4d458f5
DTSTART:20260423T183000
DTEND:20260423T203000
DESCRIPTION:Easley
LOCATION:HOME
SUMMARY:V Baseball
END:VEVENT
BEGIN:VEVENT
DTSTAMP:20260419T183347Z
UID:02ad70b1-ebb9-4833-92ee-7ce86e1440eb
DTSTART;VALUE=DATE:20260424
DTEND;VALUE=DATE:20260425
DESCRIPTION:
LOCATION:
SUMMARY:JROTC Inspection
END:VEVENT
BEGIN:VEVENT
DTSTAMP:20260419T183347Z
UID:ac8db271-fa59-4ad1-bd1d-82c9f3885f87
DTSTART:20260424T173000
DTEND:20260424T193000
DESCRIPTION:Pickens (Senior Night)
LOCATION:HOME
SUMMARY:JV & V Boys Soccer
END:VEVENT
BEGIN:VEVENT
DTSTAMP:20260419T183347Z
UID:9326c88e-a026-4a64-b7c4-eea4b2367bae
DTSTART:20260424T173000
DTEND:20260424T193000
DESCRIPTION:Pickens
LOCATION:AWAY
SUMMARY:JV & V Girls Soccer
END:VEVENT
BEGIN:VEVENT
DTSTAMP:20260419T183347Z
UID:b59fc66b-d91e-4adb-99fd-b4a212b42278
DTSTART:20260424T173000
DTEND:20260424T193000
DESCRIPTION:Pickens
LOCATION:HOME
SUMMARY:JV & V Softball
END:VEVENT
BEGIN:VEVENT
DTSTAMP:20260419T183347Z
UID:af2276a7-2d81-46d3-bf78-d64aba4abfc4
DTSTART:20260424T183000
DTEND:20260424T203000
DESCRIPTION:Blue Ridge
LOCATION:HOME
SUMMARY:V Baseball
END:VEVENT
BEGIN:VEVENT
DTSTAMP:20260419T183347Z
UID:30858ca9-85db-4bb9-ad22-a72cded42cc4
DTSTART:20260425T120000
DTEND:20260425T140000
DESCRIPTION:Eastside
LOCATION:AWAY
SUMMARY:JV & V Girls Soccer
END:VEVENT
BEGIN:VEVENT
DTSTAMP:20260419T183347Z
UID:bbe073b0-af29-4689-9430-94d713d2ffa2
DTSTART;VALUE=DATE:20260427
DTEND;VALUE=DATE:20260501
DESCRIPTION:
LOCATION:
SUMMARY:EOC TDW
END:VEVENT
BEGIN:VEVENT
DTSTAMP:20260419T183347Z
UID:83c12f54-6119-45e1-98b7-26b61db386a4
DTSTART:20260427T074500
DTEND:20260427T094500
DESCRIPTION:Bobcat Invitational 
LOCATION:AWAY
SUMMARY:V Boys Golf
END:VEVENT
BEGIN:VEVENT
DTSTAMP:20260419T183347Z
UID:20cf555d-1a31-4a78-b8f0-eaa88c058d5b
DTSTART:20260427T113500
DTEND:20260427T120500
DESCRIPTION:
LOCATION:
SUMMARY:Class Meetings 12th
END:VEVENT
BEGIN:VEVENT
DTSTAMP:20260419T183347Z
UID:0f59be2f-d6dc-47e8-bbe5-419d9f8e8408
DTSTART:20260427T113500
DTEND:20260427T120500
DESCRIPTION:
LOCATION:
SUMMARY:Senior Meeting
END:VEVENT
BEGIN:VEVENT
DTSTAMP:20260419T183347Z
UID:ff1a5dcc-3705-41fc-aaab-7e1608a85b23
DTSTART:20260427T180000
DTEND:20260427T193000
DESCRIPTION:
LOCATION:
SUMMARY:High School Chorus Concert
END:VEVENT
BEGIN:VEVENT
DTSTAMP:20260419T183347Z
UID:6dca7f77-3297-461e-866c-f704d91a787b
DTSTART:20260427T183000
DTEND:20260427T203000
DESCRIPTION:Pickens
LOCATION:AWAY
SUMMARY:V Baseball
END:VEVENT
BEGIN:VEVENT
DTSTAMP:20260419T183347Z
UID:cc58cdb4-6324-48a6-968c-6bd65bc24881
DTSTART;VALUE=DATE:20260428
DTEND;VALUE=DATE:20260429
DESCRIPTION:
LOCATION:
SUMMARY:English 2 Writing EOC
END:VEVENT
BEGIN:VEVENT
DTSTAMP:20260419T183347Z
UID:897241b1-dc46-4ac8-96f5-df745781af50
DTSTART;VALUE=DATE:20260428
DTEND;VALUE=DATE:20260429
DESCRIPTION:
LOCATION:
SUMMARY:JROTC Awards Night
END:VEVENT
BEGIN:VEVENT
DTSTAMP:20260419T183347Z
UID:5aea6d8d-dd97-4842-9aff-92ad55391dba
DTSTART:20260428T074500
DTEND:20260428T094500
DESCRIPTION:Bobcat Invitational 
LOCATION:AWAY
SUMMARY:V Boys Golf
END:VEVENT
BEGIN:VEVENT
DTSTAMP:20260419T183347Z
UID:5ddb6e99-3185-4ca8-ab88-391191a12dc4
DTSTART:20260428T163000
DTEND:20260428T183000
DESCRIPTION:Berea
LOCATION:HOME
SUMMARY:V Boys Golf
END:VEVENT
BEGIN:VEVENT
DTSTAMP:20260419T183347Z
UID:152f15f4-61c6-47e7-833c-f150f201cc9f
DTSTART:20260428T173000
DTEND:20260428T193000
DESCRIPTION:Blue Ridge
LOCATION:AWAY
SUMMARY:JV & V Boys Soccer
END:VEVENT
BEGIN:VEVENT
DTSTAMP:20260419T183347Z
UID:2b4eadec-c18c-4d06-b851-be5050b86184
DTSTART:20260428T173000
DTEND:20260428T193000
DESCRIPTION:Blue Ridge
LOCATION:HOME
SUMMARY:JV & V Girls Soccer
END:VEVENT
BEGIN:VEVENT
DTSTAMP:20260419T183347Z
UID:c52e59bf-bcf2-4715-8aed-0bb8b917f0a1
DTSTART:20260428T173000
DTEND:20260428T193000
DESCRIPTION:Blue Ridge
LOCATION:AWAY
SUMMARY:JV & V Softball
END:VEVENT
BEGIN:VEVENT
DTSTAMP:20260419T183347Z
UID:00ac24b5-f384-4925-ab2c-fd401f8b2790
DTSTART;VALUE=DATE:20260429
DTEND;VALUE=DATE:20260430
DESCRIPTION:
LOCATION:
SUMMARY:English 2 Writing EOC
END:VEVENT
BEGIN:VEVENT
DTSTAMP:20260419T183347Z
UID:5778327e-b9f5-4c00-b1e8-621344cfa24a
DTSTART;VALUE=DATE:20260429
DTEND;VALUE=DATE:20260430
DESCRIPTION:
LOCATION:
SUMMARY:Student of the Month Breakfast
END:VEVENT
BEGIN:VEVENT
DTSTAMP:20260419T183347Z
UID:2fd35208-caea-4977-b5b2-1397e99b28a6
DTSTART:20260429T170000
DTEND:20260429T190000
DESCRIPTION:Region Championship
LOCATION:AWAY
SUMMARY:V Track
END:VEVENT
BEGIN:VEVENT
DTSTAMP:20260419T183347Z
UID:4d67aab0-2eeb-4785-a099-7246d78a2ace
DTSTART:20260429T183000
DTEND:20260429T203000
DESCRIPTION:Pickens
LOCATION:HOME
SUMMARY:V Baseball
END:VEVENT
BEGIN:VEVENT
DTSTAMP:20260419T183347Z
UID:cae9b848-f739-433b-a0aa-1b3fed96416f
DTSTART;VALUE=DATE:20260430
DTEND;VALUE=DATE:20260501
DESCRIPTION:
LOCATION:
SUMMARY:AP Computer Science Principles 
END:VEVENT
BEGIN:VEVENT
DTSTAMP:20260419T183347Z
UID:c45d0341-8640-4912-aafe-3f39475c43bc
DTSTART;VALUE=DATE:20260430
DTEND;VALUE=DATE:20260501
DESCRIPTION:
LOCATION:
SUMMARY:AP Seminar and Research Portfolio Deadline
END:VEVENT
BEGIN:VEVENT
DTSTAMP:20260419T183347Z
UID:444d7de5-7b0a-4c51-b02b-ac31eb6915d5
DTSTART:20260430T163000
DTEND:20260430T183000
DESCRIPTION:Wren
LOCATION:AWAY
SUMMARY:V Boys Golf
END:VEVENT
BEGIN:VEVENT
DTSTAMP:20260419T183347Z
UID:4c65c2fa-cb2a-4488-bc83-1d78c64bd5ef
DTSTART:20260430T180000
DTEND:20260430T200000
DESCRIPTION:Greer (varsity only)
LOCATION:HOME
SUMMARY:V Girls Soccer
END:VEVENT
BEGIN:VEVENT
DTSTAMP:20260419T183347Z
UID:9d555d4e-e9a8-4db4-a5b1-2b014578e0ba
DTSTART:20260430T180000
DTEND:20260430T200000
DESCRIPTION:Palmetto
LOCATION:HOME
SUMMARY:V Softball
END:VEVENT
BEGIN:VEVENT
DTSTAMP:20260419T183347Z
UID:bdde914d-b1d8-4e4a-81cb-ec3542e30239
DTSTART;VALUE=DATE:20260501
DTEND;VALUE=DATE:20260502
DESCRIPTION:
LOCATION:
SUMMARY:Awards Day
END:VEVENT
BEGIN:VEVENT
DTSTAMP:20260419T183347Z
UID:b84be455-a2ea-4479-8175-79ec722f06b9
DTSTART;VALUE=DATE:20260501
DTEND;VALUE=DATE:20260502
DESCRIPTION:
LOCATION:
SUMMARY:Lip Dub
END:VEVENT
BEGIN:VEVENT
DTSTAMP:20260419T183347Z
UID:9ba2aa57-d2f3-4578-9306-ee7890586bbb
DTSTART;VALUE=DATE:20260501
DTEND;VALUE=DATE:20260502
DESCRIPTION:
LOCATION:
SUMMARY:Senior Fest
END:VEVENT
BEGIN:VEVENT
DTSTAMP:20260419T183347Z
UID:f2cf4579-5145-4cf1-82ad-950c086141e2
DTSTART;VALUE=DATE:20260501
DTEND;VALUE=DATE:20260507
DESCRIPTION:
LOCATION:
SUMMARY:Virtual SC Finals
END:VEVENT
BEGIN:VEVENT
DTSTAMP:20260419T183347Z
UID:a633c4fe-705f-4aad-bc1d-87255ced4f97
DTSTART;VALUE=DATE:20260501
DTEND;VALUE=DATE:20260502
DESCRIPTION:
LOCATION:
SUMMARY:Yearbook Distribution
END:VEVENT
BEGIN:VEVENT
DTSTAMP:20260419T183347Z
UID:15154cbb-4d72-4390-9271-89345d0c711f
DTSTART:20260501T173000
DTEND:20260501T193000
DESCRIPTION:Greer
LOCATION:AWAY
SUMMARY:JV & V Boys Soccer
END:VEVENT
BEGIN:VEVENT
DTSTAMP:20260419T183347Z
UID:0f7cddeb-3124-48c5-bbf0-77e68c86907e
DTSTART:20260501T173000
DTEND:20260501T193000
DESCRIPTION:Greer
LOCATION:AWAY
SUMMARY:JV & V Softball
END:VEVENT
BEGIN:VEVENT
DTSTAMP:20260419T183347Z
UID:f1ab7240-cd44-4301-9ffa-9b3e680d95a3
DTSTART;VALUE=DATE:20260502
DTEND;VALUE=DATE:20260522
DESCRIPTION:
LOCATION:
SUMMARY:EOC
END:VEVENT
BEGIN:VEVENT
DTSTAMP:20260419T183347Z
UID:918fa6a2-d350-450c-8798-80633e1128be
DTSTART;VALUE=DATE:20260504
DTEND;VALUE=DATE:20260505
DESCRIPTION:
LOCATION:
SUMMARY:Community Awards Night
END:VEVENT
BEGIN:VEVENT
DTSTAMP:20260419T183347Z
UID:4f93e76f-2dc9-4ad1-a23d-7b512557bd04
DTSTART;VALUE=DATE:20260504
DTEND;VALUE=DATE:20260505
DESCRIPTION:
LOCATION:
SUMMARY:Daniel Foundation Meetings
END:VEVENT
BEGIN:VEVENT
DTSTAMP:20260419T183347Z
UID:fcfeffef-f8d1-491f-a18f-9442d35fbff1
DTSTART;VALUE=DATE:20260504
DTEND;VALUE=DATE:20260508
DESCRIPTION:
LOCATION:
SUMMARY:Teacher Appreciation Week
END:VEVENT
BEGIN:VEVENT
DTSTAMP:20260419T183347Z
UID:27a92c0c-364b-45c0-9a73-339cd586ad98
DTSTART:20260504T080000
DTEND:20260504T120000
DESCRIPTION:
LOCATION:
SUMMARY:AP Biology
END:VEVENT
BEGIN:VEVENT
DTSTAMP:20260419T183347Z
UID:f3595500-3309-463d-8601-da853dbbc56b
DTSTART:20260504T120000
DTEND:20260504T160000
DESCRIPTION:
LOCATION:
SUMMARY:AP European History
END:VEVENT
BEGIN:VEVENT
DTSTAMP:20260419T183347Z
UID:f74a5b61-e2d7-491d-9ea1-b7e78094915b
DTSTART;VALUE=DATE:20260505
DTEND;VALUE=DATE:20260506
DESCRIPTION:Region Championship 
LOCATION:HOME
SUMMARY:V Boys Golf
END:VEVENT
BEGIN:VEVENT
DTSTAMP:20260419T183347Z
UID:11a517a6-7926-4568-b1de-e1b0b269dba0
DTSTART:20260505T080000
DTEND:20260505T120000
DESCRIPTION:
LOCATION:
SUMMARY:AP Chemistry
END:VEVENT
BEGIN:VEVENT
DTSTAMP:20260419T183347Z
UID:84702228-44dc-4616-b5ea-378b3ee61d95
DTSTART:20260505T080000
DTEND:20260505T120000
DESCRIPTION:
LOCATION:
SUMMARY:AP Human Geography
END:VEVENT
BEGIN:VEVENT
DTSTAMP:20260419T183347Z
UID:9fab2ff9-926b-490f-9482-88be6f599d58
DTSTART:20260505T100000
DTEND:20260505T120000
DESCRIPTION:Region Championship (Walker Course)
LOCATION:HOME
SUMMARY:V Boys Golf
END:VEVENT
BEGIN:VEVENT
DTSTAMP:20260419T183347Z
UID:43c1d437-c2bb-4926-a1a0-462f4e0b8e40
DTSTART:20260505T153000
DTEND:20260505T200000
DESCRIPTION:
LOCATION:
SUMMARY:HS Band Concert
END:VEVENT
BEGIN:VEVENT
DTSTAMP:20260419T183347Z
UID:74200efd-393e-464e-90a8-fc9e37b7fbc7
DTSTART:20260506T080000
DTEND:20260506T120000
DESCRIPTION:
LOCATION:
SUMMARY:AP Lit
END:VEVENT
BEGIN:VEVENT
DTSTAMP:20260419T183347Z
UID:54a1f3c1-0ebf-4fcf-b565-9732c7214f56
DTSTART:20260506T120000
DTEND:20260506T160000
DESCRIPTION:
LOCATION:
SUMMARY:AP Comperative Government
END:VEVENT
BEGIN:VEVENT
DTSTAMP:20260419T183347Z
UID:a8f8fd7a-b0dd-4612-9294-193b96e012d3
DTSTART:20260506T120000
DTEND:20260506T160000
DESCRIPTION:
LOCATION:
SUMMARY:AP Physics 1
END:VEVENT
BEGIN:VEVENT
DTSTAMP:20260419T183347Z
UID:17751238-8d11-4df6-9a70-c38c7a2730af
DTSTART:20260507T080000
DTEND:20260507T120000
DESCRIPTION:
LOCATION:
SUMMARY:AP World History
END:VEVENT
BEGIN:VEVENT
DTSTAMP:20260419T183347Z
UID:520a24a3-fdcc-4302-a1da-6df4a90711b3
DTSTART:20260507T120000
DTEND:20260507T160000
DESCRIPTION:
LOCATION:
SUMMARY:AP Statistics 
END:VEVENT
BEGIN:VEVENT
DTSTAMP:20260419T183347Z
UID:28293984-8b52-4f02-a7f2-110de8f3df8e
DTSTART:20260507T153000
DTEND:20260507T160000
DESCRIPTION:
LOCATION:
SUMMARY:Beta Club Meeting
END:VEVENT
BEGIN:VEVENT
DTSTAMP:20260419T183347Z
UID:80c1f86e-04e0-49a9-bd7a-41af1c4bfbce
DTSTART:20260508T080000
DTEND:20260508T120000
DESCRIPTION:
LOCATION:
SUMMARY:AP Art and Design
END:VEVENT
BEGIN:VEVENT
DTSTAMP:20260419T183347Z
UID:8e8d54cb-4cca-4d00-90fa-829f45504c02
DTSTART:20260508T080000
DTEND:20260508T120000
DESCRIPTION:
LOCATION:
SUMMARY:AP United States History
END:VEVENT
BEGIN:VEVENT
DTSTAMP:20260419T183347Z
UID:79a86795-a245-45e9-9da2-f21ce9fc13af
DTSTART:20260508T120000
DTEND:20260508T160000
DESCRIPTION:
LOCATION:
SUMMARY:AP Macroeconomics
END:VEVENT
BEGIN:VEVENT
DTSTAMP:20260419T183347Z
UID:8c693231-20b3-4a5f-9bb6-9c6feaa51d9d
DTSTART:20260509T100000
DTEND:20260509T120000
DESCRIPTION:AAAA Qualifier (Seneca)
LOCATION:AWAY
SUMMARY:V Track
END:VEVENT
BEGIN:VEVENT
DTSTAMP:20260419T183347Z
UID:b7731765-4ed2-4925-99f7-a4f0b4f93c4c
DTSTART;VALUE=DATE:20260511
DTEND;VALUE=DATE:20260512
DESCRIPTION:
LOCATION:
SUMMARY:English 2 Reading EOC
END:VEVENT
BEGIN:VEVENT
DTSTAMP:20260419T183347Z
UID:6c8c9844-3583-4697-a9d4-887b29f80905
DTSTART;VALUE=DATE:20260511
DTEND;VALUE=DATE:20260512
DESCRIPTION:
LOCATION:
SUMMARY:Last Day with Seniors
END:VEVENT
BEGIN:VEVENT
DTSTAMP:20260419T183347Z
UID:8cefe06c-0b78-42d2-80af-2a81b2df0717
DTSTART;VALUE=DATE:20260511
DTEND;VALUE=DATE:20260512
DESCRIPTION:Upperstate Qualifier 
LOCATION:AWAY
SUMMARY:V Boys Golf
END:VEVENT
BEGIN:VEVENT
DTSTAMP:20260419T183347Z
UID:9052f7f7-08c4-493e-ba51-522830d01bc0
DTSTART:20260511T080000
DTEND:20260511T120000
DESCRIPTION:
LOCATION:
SUMMARY:AP Calculus AB/BC
END:VEVENT
BEGIN:VEVENT
DTSTAMP:20260419T183347Z
UID:0842d0c0-1ac2-4e29-80f7-4eb59bffc6c7
DTSTART:20260511T120000
DTEND:20260511T160000
DESCRIPTION:
LOCATION:
SUMMARY:AP Music Theory
END:VEVENT
BEGIN:VEVENT
DTSTAMP:20260419T183347Z
UID:dbcf318e-3633-4c0b-9674-779f1fe6894e
DTSTART;VALUE=DATE:20260512
DTEND;VALUE=DATE:20260513
DESCRIPTION:
LOCATION:
SUMMARY:English 2 Reading EOC
END:VEVENT
BEGIN:VEVENT
DTSTAMP:20260419T183347Z
UID:97b4b3f2-7c32-4a7d-9d11-f2cfe0a48e50
DTSTART;VALUE=DATE:20260512
DTEND;VALUE=DATE:20260513
DESCRIPTION:
LOCATION:
SUMMARY:Senior Exams- 1/2
END:VEVENT
BEGIN:VEVENT
DTSTAMP:20260419T183347Z
UID:ec42cb6f-fcbb-44c2-a09a-866ee268fe9c
DTSTART:20260512T120000
DTEND:20260512T160000
DESCRIPTION:
LOCATION:
SUMMARY:AP Psychology
END:VEVENT
BEGIN:VEVENT
DTSTAMP:20260419T183347Z
UID:c5da8f5d-c7fe-45a5-a776-985b828597ff
DTSTART;VALUE=DATE:20260513
DTEND;VALUE=DATE:20260514
DESCRIPTION:
LOCATION:
SUMMARY:Biology 1 EOC
END:VEVENT
BEGIN:VEVENT
DTSTAMP:20260419T183347Z
UID:22180ea3-2107-486e-a497-848e9f52540f
DTSTART;VALUE=DATE:20260513
DTEND;VALUE=DATE:20260514
DESCRIPTION:
LOCATION:
SUMMARY:Senior Exams 3A/4A
END:VEVENT
BEGIN:VEVENT
DTSTAMP:20260419T183347Z
UID:3277cb56-3bcf-4908-a141-793c9925b1e2
DTSTART:20260513T080000
DTEND:20260513T120000
DESCRIPTION:
LOCATION:
SUMMARY:AP German
END:VEVENT
BEGIN:VEVENT
DTSTAMP:20260419T183347Z
UID:70f200dc-e279-4585-a5fc-9ecb9d265cf4
DTSTART:20260513T080000
DTEND:20260513T120000
DESCRIPTION:
LOCATION:
SUMMARY:AP Lang
END:VEVENT
BEGIN:VEVENT
DTSTAMP:20260419T183347Z
UID:ef72a993-8a89-4fc1-8ce5-728464689549
DTSTART:20260513T120000
DTEND:20260513T160000
DESCRIPTION:
LOCATION:
SUMMARY:AP Physics C - Mechanics
END:VEVENT
BEGIN:VEVENT
DTSTAMP:20260419T183347Z
UID:cfcd84d4-9ff3-4551-8eeb-2a155d2dfe90
DTSTART:20260513T120000
DTEND:20260513T160000
DESCRIPTION:
LOCATION:
SUMMARY:AP Spanish Lit
END:VEVENT
BEGIN:VEVENT
DTSTAMP:20260419T183347Z
UID:eb7fd4e2-10a9-475d-9ab6-77d33f0645e8
DTSTART;VALUE=DATE:20260514
DTEND;VALUE=DATE:20260515
DESCRIPTION:
LOCATION:
SUMMARY:Senior Exams 3B/4B
END:VEVENT
BEGIN:VEVENT
DTSTAMP:20260419T183347Z
UID:9398fe96-4001-4173-9f66-e43fa60ea9af
DTSTART;VALUE=DATE:20260514
DTEND;VALUE=DATE:20260515
DESCRIPTION:
LOCATION:
SUMMARY:US History EOC
END:VEVENT
BEGIN:VEVENT
DTSTAMP:20260419T183347Z
UID:bd900a6f-cb72-43cf-99cc-910490283076
DTSTART;VALUE=DATE:20260514
DTEND;VALUE=DATE:20260515
DESCRIPTION:AAAA State Championship (RNE)
LOCATION:AWAY
SUMMARY:V Track
END:VEVENT
BEGIN:VEVENT
DTSTAMP:20260419T183347Z
UID:ae9c16ed-a8bc-43df-8d21-f867acb89bd6
DTSTART:20260514T080000
DTEND:20260514T120000
DESCRIPTION:
LOCATION:
SUMMARY:AP Art History
END:VEVENT
BEGIN:VEVENT
DTSTAMP:20260419T183347Z
UID:429b62eb-0607-4aa4-99cd-4c9864aa2abc
DTSTART:20260514T080000
DTEND:20260514T120000
DESCRIPTION:
LOCATION:
SUMMARY:AP Spanish Lang
END:VEVENT
BEGIN:VEVENT
DTSTAMP:20260419T183347Z
UID:81c1c895-3ee2-443d-ade8-6948d5f9b4ee
DTSTART:20260514T120000
DTEND:20260514T160000
DESCRIPTION:
LOCATION:
SUMMARY:AP Computer Science
END:VEVENT
BEGIN:VEVENT
DTSTAMP:20260419T183347Z
UID:baf539a4-48bc-4892-9146-8bacb49d12dc
DTSTART;VALUE=DATE:20260515
DTEND;VALUE=DATE:20260516
DESCRIPTION:
LOCATION:
SUMMARY:Algebra 1 EOC
END:VEVENT
BEGIN:VEVENT
DTSTAMP:20260419T183347Z
UID:b4d06362-4ccc-4048-b798-3e9865702668
DTSTART;VALUE=DATE:20260515
DTEND;VALUE=DATE:20260516
DESCRIPTION:
LOCATION:
SUMMARY:US History EOC
END:VEVENT
BEGIN:VEVENT
DTSTAMP:20260419T183347Z
UID:e7f3bedc-f76b-4cd1-9c73-17ae11f8a747
DTSTART:20260515T080000
DTEND:20260515T120000
DESCRIPTION:
LOCATION:
SUMMARY:AP Environmental 
END:VEVENT
BEGIN:VEVENT
DTSTAMP:20260419T183347Z
UID:82886aba-e8f3-4cf5-a5e1-5df9e628fdb7
DTSTART;VALUE=DATE:20260518
DTEND;VALUE=DATE:20260522
DESCRIPTION:
LOCATION:
SUMMARY:AP Makeup Exams
END:VEVENT
BEGIN:VEVENT
DTSTAMP:20260419T183347Z
UID:e3f016b2-17a0-4cad-8f95-9e2be698325c
DTSTART;VALUE=DATE:20260518
DTEND;VALUE=DATE:20260519
DESCRIPTION:
LOCATION:
SUMMARY:Interact Club Leader Retreat
END:VEVENT
BEGIN:VEVENT
DTSTAMP:20260419T183347Z
UID:6aeebff2-feec-40fe-8a01-0bed4672a080
DTSTART;VALUE=DATE:20260518
DTEND;VALUE=DATE:20260519
DESCRIPTION:
LOCATION:
SUMMARY:Makeup EOCs
END:VEVENT
BEGIN:VEVENT
DTSTAMP:20260419T183347Z
UID:791d9bbd-3a28-46f2-9daf-c52c113e6002
DTSTART;VALUE=DATE:20260518
DTEND;VALUE=DATE:20260519
DESCRIPTION:State Championship
LOCATION:AWAY
SUMMARY:V Boys Golf
END:VEVENT
BEGIN:VEVENT
DTSTAMP:20260419T183347Z
UID:850db0cb-8bc4-41b7-9a8a-5efe3292f853
DTSTART;VALUE=DATE:20260519
DTEND;VALUE=DATE:20260520
DESCRIPTION:
LOCATION:
SUMMARY:Makeup EOCs
END:VEVENT
BEGIN:VEVENT
DTSTAMP:20260419T183347Z
UID:8c94f271-373b-45df-a384-16a1b7562d05
DTSTART;VALUE=DATE:20260519
DTEND;VALUE=DATE:20260520
DESCRIPTION:
LOCATION:
SUMMARY:Underclassmen Exams 1/2
END:VEVENT
BEGIN:VEVENT
DTSTAMP:20260419T183347Z
UID:6df8b884-6088-4193-9c13-bc9dd78de7f2
DTSTART;VALUE=DATE:20260519
DTEND;VALUE=DATE:20260520
DESCRIPTION:State Championship
LOCATION:AWAY
SUMMARY:V Boys Golf
END:VEVENT
BEGIN:VEVENT
DTSTAMP:20260419T183347Z
UID:c7732797-6231-417c-ab36-f14f78262a5b
DTSTART:20260519T120000
DTEND:20260519T140000
DESCRIPTION:
LOCATION:
SUMMARY:Pride Walk
END:VEVENT
BEGIN:VEVENT
DTSTAMP:20260419T183347Z
UID:eaedd352-40f1-463b-aa5f-b872ccfa6ae0
DTSTART:20260519T140000
DTEND:20260519T150000
DESCRIPTION:
LOCATION:
SUMMARY:Academic Signing Day
END:VEVENT
BEGIN:VEVENT
DTSTAMP:20260419T183347Z
UID:ea15baa6-b995-4b0f-8ae7-5e4a3bb0cb76
DTSTART;VALUE=DATE:20260520
DTEND;VALUE=DATE:20260521
DESCRIPTION:
LOCATION:
SUMMARY:Makeup EOCs
END:VEVENT
BEGIN:VEVENT
DTSTAMP:20260419T183347Z
UID:41a1d4a0-a856-4309-83e3-864d7836d1db
DTSTART;VALUE=DATE:20260520
DTEND;VALUE=DATE:20260521
DESCRIPTION:
LOCATION:
SUMMARY:Underclassmen Exams 3B/4B
END:VEVENT
BEGIN:VEVENT
DTSTAMP:20260419T183347Z
UID:675c074b-5aa9-43e2-8d7b-d11a0f548dd3
DTSTART;VALUE=DATE:20260521
DTEND;VALUE=DATE:20260522
DESCRIPTION:
LOCATION:
SUMMARY:Underclassmen Exams 3A/4A
END:VEVENT
BEGIN:VEVENT
DTSTAMP:20260419T183347Z
UID:d318da16-684c-4cbd-96cc-a5f1c984b959
DTSTART;VALUE=DATE:20260522
DTEND;VALUE=DATE:20260523
DESCRIPTION:
LOCATION:
SUMMARY:End of 4th Quarter- 1/2 Day
END:VEVENT
BEGIN:VEVENT
DTSTAMP:20260419T183347Z
UID:632d39fa-3ee7-43cf-932a-197b32c62bdc
DTSTART;VALUE=DATE:20260617
DTEND;VALUE=DATE:20260620
DESCRIPTION:
LOCATION:
SUMMARY:HOSA International Leadership Conference
END:VEVENT
END:VCALENDAR
