BEGIN:VCALENDAR
VERSION:2.0
PRODID:icalendar-ruby
CALSCALE:GREGORIAN
BEGIN:VTIMEZONE
TZID:America/New_York
BEGIN:DAYLIGHT
DTSTART:20260308T030000
TZOFFSETFROM:-0500
TZOFFSETTO:-0400
RRULE:FREQ=YEARLY;BYDAY=2SU;BYMONTH=3
TZNAME:EDT
END:DAYLIGHT
BEGIN:STANDARD
DTSTART:20261101T010000
TZOFFSETFROM:-0400
TZOFFSETTO:-0500
RRULE:FREQ=YEARLY;BYDAY=1SU;BYMONTH=11
TZNAME:EST
END:STANDARD
END:VTIMEZONE
BEGIN:VEVENT
DTSTAMP:20260421T085155Z
UID:01b79b6b-0cc1-4ad2-b855-a8417763954b
DTSTART;VALUE=DATE:20260421
DTEND;VALUE=DATE:20260422
DESCRIPTION:
LOCATION:
SUMMARY:Spring Pictures
END:VEVENT
BEGIN:VEVENT
DTSTAMP:20260421T085155Z
UID:baa16b68-0368-45f1-9409-627723361952
DTSTART;VALUE=DATE:20260428
DTEND;VALUE=DATE:20260429
DESCRIPTION:
LOCATION:
SUMMARY:SC Ready Testing: 3rd Grade Reading Part A
END:VEVENT
BEGIN:VEVENT
DTSTAMP:20260421T085155Z
UID:4b1974f2-d1b4-48ab-8144-16091d4b679d
DTSTART;VALUE=DATE:20260429
DTEND;VALUE=DATE:20260430
DESCRIPTION:
LOCATION:
SUMMARY:SC Ready Testing: 3rd Grade Reading Part B
END:VEVENT
BEGIN:VEVENT
DTSTAMP:20260421T085155Z
UID:2371d200-5a4b-486d-9df0-ca7caa4547df
DTSTART;VALUE=DATE:20260501
DTEND;VALUE=DATE:20260502
DESCRIPTION:
LOCATION:
SUMMARY:SC Ready Testing: 3rd Grade Writing
END:VEVENT
BEGIN:VEVENT
DTSTAMP:20260421T085155Z
UID:2ca243d7-45f6-41f1-b325-fc3d1dcaf5e7
DTSTART;VALUE=DATE:20260504
DTEND;VALUE=DATE:20260505
DESCRIPTION:
LOCATION:
SUMMARY:SC Ready Testing: 4th & 5th  Grades Reading Part A
END:VEVENT
BEGIN:VEVENT
DTSTAMP:20260421T085155Z
UID:55535c61-7967-46aa-b82d-f0431e6b7f2c
DTSTART;VALUE=DATE:20260505
DTEND;VALUE=DATE:20260506
DESCRIPTION:
LOCATION:
SUMMARY:SC Ready Testing: 4th & 5th  Grades Reading Part B
END:VEVENT
BEGIN:VEVENT
DTSTAMP:20260421T085155Z
UID:03b20b32-be55-41df-a08b-5a3caadc73ab
DTSTART;VALUE=DATE:20260506
DTEND;VALUE=DATE:20260507
DESCRIPTION:
LOCATION:
SUMMARY:SC Ready Testing: 3rd  Grade Math Part A
END:VEVENT
BEGIN:VEVENT
DTSTAMP:20260421T085155Z
UID:f47b479e-0eea-416e-992c-f293cb3bf400
DTSTART;VALUE=DATE:20260507
DTEND;VALUE=DATE:20260508
DESCRIPTION:
LOCATION:
SUMMARY:SC Ready Testing: 3rd  Grade Math Part B
END:VEVENT
BEGIN:VEVENT
DTSTAMP:20260421T085155Z
UID:1a96335f-6b43-4e53-9f02-d32aee44e290
DTSTART;VALUE=DATE:20260508
DTEND;VALUE=DATE:20260509
DESCRIPTION:
LOCATION:
SUMMARY:SC Ready Testing: 4th & 5th  Grade Writing
END:VEVENT
BEGIN:VEVENT
DTSTAMP:20260421T085155Z
UID:fa988f6b-1239-4205-83fd-208a217e8049
DTSTART;VALUE=DATE:20260511
DTEND;VALUE=DATE:20260512
DESCRIPTION:
LOCATION:
SUMMARY:SC Ready Testing: 4th & 5th  Grade Math Part A
END:VEVENT
BEGIN:VEVENT
DTSTAMP:20260421T085155Z
UID:2e3cebe0-0e8f-46b8-a7bf-b78699e09fef
DTSTART;VALUE=DATE:20260512
DTEND;VALUE=DATE:20260513
DESCRIPTION:
LOCATION:
SUMMARY:SC Ready Testing: 4th & 5th  Grade Math Part B
END:VEVENT
BEGIN:VEVENT
DTSTAMP:20260421T085155Z
UID:e7b8cea1-cb04-49e1-9b6d-69bcd62e11ea
DTSTART;VALUE=DATE:20260514
DTEND;VALUE=DATE:20260515
DESCRIPTION:
LOCATION:
SUMMARY:SC Ready Testing: 4th  Grade Science
END:VEVENT
END:VCALENDAR
