BEGIN:VCALENDAR
VERSION:2.0
PRODID:icalendar-ruby
CALSCALE:GREGORIAN
BEGIN:VTIMEZONE
TZID:America/Chicago
BEGIN:DAYLIGHT
DTSTART:20260308T030000
TZOFFSETFROM:-0600
TZOFFSETTO:-0500
RRULE:FREQ=YEARLY;BYDAY=2SU;BYMONTH=3
TZNAME:CDT
END:DAYLIGHT
BEGIN:STANDARD
DTSTART:20261101T010000
TZOFFSETFROM:-0500
TZOFFSETTO:-0600
RRULE:FREQ=YEARLY;BYDAY=1SU;BYMONTH=11
TZNAME:CST
END:STANDARD
END:VTIMEZONE
BEGIN:VEVENT
DTSTAMP:20260420T084327Z
UID:87f0dfea-aa5a-4f25-85f2-25ad515d58dc
DTSTART:20260507T080000
DTEND:20260507T234500
DESCRIPTION:<p>May 7th is the last day for students who plan to graduate on
  May 15th to turn in course work.</p>
LOCATION:
SUMMARY:Last day for students to complete Acellus work to graduate
END:VEVENT
BEGIN:VEVENT
DTSTAMP:20260420T084327Z
UID:47b98fe1-b998-4bce-ab16-6f4e616c83e9
DTSTART:20260514T083000
DTEND:20260514T153000
DESCRIPTION:<p>Students graduating may pick up caps and gowns between 8:30 
 AM and 3:30 PM.</p><p>Students graduating should also turn in Chromebooks 
 and chargers in the HVS classroom.</p>
LOCATION:1500 Plaza Way\, Hutchinson\, KS 67501\, USA
SUMMARY:Cap and Gown Pick up day at HVS
END:VEVENT
BEGIN:VEVENT
DTSTAMP:20260420T084327Z
UID:7eeb22af-3cdf-4ad0-a016-29763fd38e69
DTSTART:20260515T180000
DTEND:20260515T190000
DESCRIPTION:<p>Hutchinson Virtual School and Midtown graduation will be hel
 d at 6 PM in the Hutchinson HS Performing Arts Center. </p><p>Students gra
 duating should arrive by 5 PM for graduation practice with cap and gown on
  and ready to go. </p><p>Family and friends can enter at 5:30 PM. No food 
 or drink allowed inside the Performing Arts Center. </p><p></p>
LOCATION:810 E 13th Ave\, Hutchinson\, KS 67501\, USA
SUMMARY:Hutchinson Virtual School (HVS) Graduation
END:VEVENT
BEGIN:VEVENT
DTSTAMP:20260420T084327Z
UID:4b6a3326-0ba6-4482-a786-4d02c360cc13
DTSTART:20260518T080000
DTEND:20260518T160000
DESCRIPTION:<p>Students must have paid all HHS/HVS fees and turned in borro
 wed caps and gowns\, library books\, Chromebook and chargers in order to r
 eceive their diplomas. </p>
LOCATION:1500 Plaza Way\, Hutchinson\, KS 67501\, USA
SUMMARY:HVS Diploma Pick Up
END:VEVENT
BEGIN:VEVENT
DTSTAMP:20260420T084327Z
UID:fa8b128b-22d6-4cff-858c-c809b3d3ac54
DTSTART:20260521T080000
DTEND:20260521T090000
DESCRIPTION:
LOCATION:
SUMMARY:Last Day of School
END:VEVENT
BEGIN:VEVENT
DTSTAMP:20260420T084327Z
UID:c5f50023-2fc7-45fe-9140-6e94c6500499
DTSTART:20260522T080000
DTEND:20260522T090000
DESCRIPTION:
LOCATION:
SUMMARY:Teacher Workday
END:VEVENT
END:VCALENDAR
