BEGIN:VCALENDAR
VERSION:2.0
PRODID:icalendar-ruby
CALSCALE:GREGORIAN
BEGIN:VTIMEZONE
TZID:America/Chicago
BEGIN:DAYLIGHT
DTSTART:20260308T030000
TZOFFSETFROM:-0600
TZOFFSETTO:-0500
RRULE:FREQ=YEARLY;BYDAY=2SU;BYMONTH=3
TZNAME:CDT
END:DAYLIGHT
BEGIN:STANDARD
DTSTART:20261101T010000
TZOFFSETFROM:-0500
TZOFFSETTO:-0600
RRULE:FREQ=YEARLY;BYDAY=1SU;BYMONTH=11
TZNAME:CST
END:STANDARD
END:VTIMEZONE
BEGIN:VEVENT
DTSTAMP:20260422T085434Z
UID:f375fc8d-5093-4588-8577-b4487d063278
DTSTART:20260423T100000
DTEND:20260423T160000
DESCRIPTION:
LOCATION:6791 20th St NE\, New Rockford\, ND 58356\, USA
SUMMARY:Boys Golf: New Rockford Golf Course
END:VEVENT
BEGIN:VEVENT
DTSTAMP:20260422T085434Z
UID:318084f3-978b-4180-b444-6b1e8daa2966
DTSTART:20260423T140000
DTEND:20260423T170000
DESCRIPTION:<p>Varsity Track Team</p>
LOCATION:101 College St SE\, Valley City\, ND 58072\, USA
SUMMARY:Track: VCSU High School Open
END:VEVENT
BEGIN:VEVENT
DTSTAMP:20260422T085434Z
UID:4dfc459c-d65c-47e4-b685-9dd60a012beb
DTSTART:20260423T153000
DTEND:20260423T183000
DESCRIPTION:<p>Junior High Track Team</p>
LOCATION:575 5th St SW\, Forman\, ND 58032\, USA
SUMMARY:Track: Forman JH Meet
END:VEVENT
BEGIN:VEVENT
DTSTAMP:20260422T085434Z
UID:f9385b07-b54e-43a1-baa3-555c356c507f
DTSTART:20260423T160000
DTEND:20260423T160000
DESCRIPTION:<p></p>
LOCATION:LaMoure High School  LaMoure Softball Field- Sunset Park
SUMMARY:Softball: Girls Varsity  vs. Valley City (Home)
END:VEVENT
BEGIN:VEVENT
DTSTAMP:20260422T085434Z
UID:1d6c4e06-c1de-4094-889d-85e5da73a3cd
DTSTART:20260423T163000
DTEND:20260423T163000
DESCRIPTION:<p></p>
LOCATION:LaMoure High School  LaMoure Baseball Field
SUMMARY:Baseball: Boys Varsity  vs. South Border (Home)
END:VEVENT
BEGIN:VEVENT
DTSTAMP:20260422T085434Z
UID:af665e10-7f0f-40f4-934a-4367c65c254e
DTSTART:20260423T163000
DTEND:20260423T193000
DESCRIPTION:<p>Junior High Baseball</p>
LOCATION:Gwinner\, ND\, USA
SUMMARY:JH Baseball: Junior High vs. Sargent Co. (Away)
END:VEVENT
BEGIN:VEVENT
DTSTAMP:20260422T085434Z
UID:1deba361-0160-4c3e-81db-b9e7509ddb79
DTSTART:20260423T190000
DTEND:20260423T200000
DESCRIPTION:
LOCATION:LaMoure Public School District 8\, ND\, USA
SUMMARY:K-3 Spring Concert
END:VEVENT
BEGIN:VEVENT
DTSTAMP:20260422T085434Z
UID:779a238c-91af-4a88-a78f-0893f0e08df8
DTSTART:20260424T110000
DTEND:20260424T110000
DESCRIPTION:<p></p>
LOCATION:Carrington High School  
SUMMARY:Baseball: Boys Varsity  vs. Nelson County (Away)
END:VEVENT
BEGIN:VEVENT
DTSTAMP:20260422T085434Z
UID:ffb3cba0-dc4a-4131-a629-95c3d4bed1e4
DTSTART:20260424T120000
DTEND:20260424T150000
DESCRIPTION:<p>Varsity Track Team</p><p>NDSU</p>
LOCATION:1701 15th Ave N\, Fargo\, ND 58102\, USA
SUMMARY:Track: Fargo Elite Meet
END:VEVENT
BEGIN:VEVENT
DTSTAMP:20260422T085434Z
UID:d86a8aa0-ea7f-4c4e-b10a-30fe9cc295b5
DTSTART:20260424T150000
DTEND:20260424T150000
DESCRIPTION:<p></p>
LOCATION:Carrington High School  
SUMMARY:Baseball: Boys Varsity  vs. Park River (Away)
END:VEVENT
BEGIN:VEVENT
DTSTAMP:20260422T085434Z
UID:95c142d3-4b81-4fb3-8503-91c6dacd485e
DTSTART:20260424T173000
DTEND:20260424T183000
DESCRIPTION:<p>RESCHEDULED FROM 04/17/26</p>
LOCATION:Kindred High School  
SUMMARY:Softball: Girls Varsity  vs. Kindred (Away)
END:VEVENT
BEGIN:VEVENT
DTSTAMP:20260422T085434Z
UID:cd1f0cd3-d589-450a-bb97-2c191085ccc3
DTSTART;VALUE=DATE:20260425
DTEND;VALUE=DATE:20260426
DESCRIPTION:
LOCATION:905 8th Ave NW\, Mandan\, ND 58554\, USA
SUMMARY:State Speech Competition
END:VEVENT
BEGIN:VEVENT
DTSTAMP:20260422T085434Z
UID:f6b4d2e1-84e3-4784-a98f-70b3d57d49db
DTSTART:20260425T120000
DTEND:20260425T120000
DESCRIPTION:<p></p>
LOCATION:Shiloh Christian High School  
SUMMARY:Baseball: Boys Varsity vs.  Shiloh Christian (Away)
END:VEVENT
BEGIN:VEVENT
DTSTAMP:20260422T085434Z
UID:c315c2be-ec2b-4602-a2bf-0798a4946770
DTSTART:20260425T120000
DTEND:20260425T150000
DESCRIPTION:
LOCATION:Ipswich\, SD 57451\, USA
SUMMARY:Track: Ipswich Tiger Relays
END:VEVENT
BEGIN:VEVENT
DTSTAMP:20260422T085434Z
UID:f48d13f3-7b48-4f63-8dc6-a9d9fc37d83e
DTSTART:20260425T130000
DTEND:20260425T163000
DESCRIPTION:<p>RESCHEDULED FROM 04/09/25</p><p>Varsity Game @ 1:00pm\, foll
 owed by JV Game</p>
LOCATION:LaMoure High School  LaMoure Softball Field- Sunset Park
SUMMARY:Softball: Girls Varsity  vs. Lisbon (Home)
END:VEVENT
BEGIN:VEVENT
DTSTAMP:20260422T085434Z
UID:940030c1-dbbe-4699-9df5-b2feb1feba96
DTSTART:20260428T140000
DTEND:20260428T170000
DESCRIPTION:
LOCATION:Kindred Public School District 2\, ND\, USA
SUMMARY:Track : Joan Halland Classic
END:VEVENT
BEGIN:VEVENT
DTSTAMP:20260422T085434Z
UID:611ac0c5-bedc-4068-8917-ffe8c6b07f04
DTSTART:20260428T160000
DTEND:20260428T160000
DESCRIPTION:<p></p>
LOCATION:Sargent Central High School  
SUMMARY:Softball: Girls Varsity  vs.  Sargent Central (Away)
END:VEVENT
BEGIN:VEVENT
DTSTAMP:20260422T085434Z
UID:06d449b1-795b-497d-ab0b-d72e0306afdb
DTSTART:20260428T163000
DTEND:20260428T163000
DESCRIPTION:<p></p>
LOCATION:LaMoure High School  LaMoure Baseball Field
SUMMARY:Baseball: Boys Varsity  vs. Valley City (Home)
END:VEVENT
BEGIN:VEVENT
DTSTAMP:20260422T085434Z
UID:6d1d3240-bb3b-4a82-80bb-d003389a3c0c
DTSTART:20260430T160000
DTEND:20260430T160000
DESCRIPTION:<p></p>
LOCATION:LaMoure High School  LaMoure Softball Field- Sunset Park
SUMMARY:Softball: Girls Varsity  vs. Enderlin (Home)
END:VEVENT
BEGIN:VEVENT
DTSTAMP:20260422T085434Z
UID:0b68e778-df67-4bcc-806b-88551e979e03
DTSTART:20260430T163000
DTEND:20260430T163000
DESCRIPTION:<p></p>
LOCATION:New Rockford High School  
SUMMARY:Baseball: Boys Varsity vs.  New Rockford/Sheyenne (Away)
END:VEVENT
BEGIN:VEVENT
DTSTAMP:20260422T085434Z
UID:5a947c06-ad1a-404f-8ad5-ab4af2d654c9
DTSTART:20260430T190000
DTEND:20260430T210000
DESCRIPTION:
LOCATION:LaMoure School Gym
SUMMARY:Grades 7-12 Spring Concert & Fine Arts Awards
END:VEVENT
BEGIN:VEVENT
DTSTAMP:20260422T085434Z
UID:8cacacc7-f836-459e-a210-28663586ed5b
DTSTART;VALUE=DATE:20260502
DTEND;VALUE=DATE:20260503
DESCRIPTION:
LOCATION:Minot State University 
SUMMARY:State Music Contest
END:VEVENT
BEGIN:VEVENT
DTSTAMP:20260422T085434Z
UID:1bf0133a-5c77-4edc-8106-440a1a896f83
DTSTART:20260502T110000
DTEND:20260502T140000
DESCRIPTION:
LOCATION:6th St S\, Ellendale\, ND 58436\, USA
SUMMARY:Track : Ellendale QB Club
END:VEVENT
BEGIN:VEVENT
DTSTAMP:20260422T085434Z
UID:46932e46-6b26-4d3f-b926-d206e5f53f9d
DTSTART:20260504T150000
DTEND:20260504T180000
DESCRIPTION:
LOCATION:Oakes Public School District 41\, ND\, USA
SUMMARY:Track : Oakes Invite II
END:VEVENT
BEGIN:VEVENT
DTSTAMP:20260422T085434Z
UID:8683b94b-a392-453c-b099-261f8f06767e
DTSTART:20260505T160000
DTEND:20260505T160000
DESCRIPTION:<p></p>
LOCATION:Central Cass High School  
SUMMARY:Softball: Girls Varsity vs.  Central Cass (Away)
END:VEVENT
BEGIN:VEVENT
DTSTAMP:20260422T085434Z
UID:881c9e7b-65a2-4ed0-8510-d701e852596c
DTSTART:20260505T163000
DTEND:20260505T163000
DESCRIPTION:<p></p>
LOCATION:Kidder County School  
SUMMARY:Baseball: Boys Varsity  vs. Kidder County Wolves (Away)
END:VEVENT
BEGIN:VEVENT
DTSTAMP:20260422T085434Z
UID:f58f0c11-f1ea-491d-91c2-ec42dee45f4b
DTSTART:20260507T163000
DTEND:20260507T163000
DESCRIPTION:<p></p>
LOCATION:LaMoure High School  LaMoure Baseball Field
SUMMARY:Baseball: Boys Varsity  vs. New Rockford/Sheyenne (Home)
END:VEVENT
BEGIN:VEVENT
DTSTAMP:20260422T085434Z
UID:e7468bf0-efcb-4dce-923e-6c35f1c47959
DTSTART:20260508T000000
DTEND:20260508T000000
DESCRIPTION:<p></p>
LOCATION:North Softball Complex  
SUMMARY:Softball: Girls Varsity  vs. TBA (Away)
END:VEVENT
BEGIN:VEVENT
DTSTAMP:20260422T085434Z
UID:818007ae-5783-4d8f-9105-26f0713bbfc6
DTSTART:20260508T130000
DTEND:20260508T160000
DESCRIPTION:
LOCATION:6000 College Ln\, Jamestown\, ND 58405\, USA
SUMMARY:Track : 701 Apparel Invitational
END:VEVENT
BEGIN:VEVENT
DTSTAMP:20260422T085434Z
UID:fe952009-c81c-45f0-aa98-c81a09f78f5e
DTSTART:20260509T000000
DTEND:20260509T000000
DESCRIPTION:<p></p>
LOCATION:North Softball Complex  
SUMMARY:Softball: Girls Varsity  vs. TBA (Away)
END:VEVENT
BEGIN:VEVENT
DTSTAMP:20260422T085434Z
UID:bb11d52e-9a5a-4530-b0f9-c064ffae1698
DTSTART:20260511T150000
DTEND:20260511T180000
DESCRIPTION:
LOCATION:493 Central Ave N\, Valley City\, ND 58072\, USA
SUMMARY:Track : Bill Jansen Last Chance
END:VEVENT
BEGIN:VEVENT
DTSTAMP:20260422T085434Z
UID:e7ca4d5f-9f7a-41ab-b24f-340f38f407e2
DTSTART:20260511T163000
DTEND:20260511T163000
DESCRIPTION:<p></p>
LOCATION:LaMoure High School  
SUMMARY:Baseball: Boys Varsity  vs. Kidder County Wolves (Home)
END:VEVENT
BEGIN:VEVENT
DTSTAMP:20260422T085434Z
UID:2d1ff74d-429b-4392-8db6-64916dd79214
DTSTART:20260514T000000
DTEND:20260514T000000
DESCRIPTION:<p>Regional Play Ins</p>
LOCATION:TBA  
SUMMARY:Softball: Girls Varsity  vs. TBA (Away)
END:VEVENT
BEGIN:VEVENT
DTSTAMP:20260422T085434Z
UID:57e2f7ce-eb14-4a9b-a413-6dde6f3f7653
DTSTART:20260516T000000
DTEND:20260516T000000
DESCRIPTION:<p>Regional Tournament</p>
LOCATION:Hillsboro High School  
SUMMARY:Softball: Girls Varsity  vs. TBA (Away)
END:VEVENT
BEGIN:VEVENT
DTSTAMP:20260422T085434Z
UID:2f1a099b-b66d-4044-9f51-36e1b9e06c94
DTSTART:20260516T100000
DTEND:20260516T150000
DESCRIPTION:
LOCATION:Kindred Public School District 2\, ND\, USA
SUMMARY:Track : SE Regionals
END:VEVENT
BEGIN:VEVENT
DTSTAMP:20260422T085434Z
UID:d8cd161e-fa6c-407c-bb88-5a427455b7ef
DTSTART:20260518T000000
DTEND:20260518T000000
DESCRIPTION:<p>Regional Tournament</p>
LOCATION:LaMoure High School  
SUMMARY:Baseball: Boys Varsity  vs. TBA (Away)
END:VEVENT
BEGIN:VEVENT
DTSTAMP:20260422T085434Z
UID:58fa8f89-412a-4428-bccc-a7f8289b1e64
DTSTART:20260518T000000
DTEND:20260518T000000
DESCRIPTION:<p>Regional Tournament</p>
LOCATION:Hillsboro High School  
SUMMARY:Softball: Girls Varsity  vs. TBA (Away)
END:VEVENT
BEGIN:VEVENT
DTSTAMP:20260422T085434Z
UID:578ee0d0-ac2c-4e41-8f17-565cb9211be1
DTSTART:20260519T000000
DTEND:20260519T000000
DESCRIPTION:<p>Regional Tournament</p>
LOCATION:LaMoure High School  
SUMMARY:Baseball: Boys Varsity  vs. TBA (Away)
END:VEVENT
BEGIN:VEVENT
DTSTAMP:20260422T085434Z
UID:1097bb79-31cd-47b7-9316-83cf68d08945
DTSTART:20260519T000000
DTEND:20260519T000000
DESCRIPTION:<p>Regional Tournament</p>
LOCATION:Hillsboro High School  
SUMMARY:Softball: Girls Varsity  vs. TBA (Away)
END:VEVENT
BEGIN:VEVENT
DTSTAMP:20260422T085434Z
UID:62f909fd-0daa-434a-94c4-25e98fa2bbbb
DTSTART:20260520T000000
DTEND:20260520T000000
DESCRIPTION:<p>Regional Tournament</p>
LOCATION:LaMoure High School  
SUMMARY:Baseball: Boys Varsity vs. TBA (Away)
END:VEVENT
BEGIN:VEVENT
DTSTAMP:20260422T085434Z
UID:119a0f3b-7e1d-435d-916b-f10b445db3ff
DTSTART;VALUE=DATE:20260521
DTEND;VALUE=DATE:20260522
DESCRIPTION:
LOCATION:1701 Canary Ave\, Bismarck\, ND 58501\, USA
SUMMARY:Track : State Tournament
END:VEVENT
BEGIN:VEVENT
DTSTAMP:20260422T085434Z
UID:a4c5ff4a-f5c3-44db-a5c1-4723ac887386
DTSTART;VALUE=DATE:20260522
DTEND;VALUE=DATE:20260523
DESCRIPTION:
LOCATION:1701 Canary Ave\, Bismarck\, ND 58501\, USA
SUMMARY:Track : State Tournament
END:VEVENT
BEGIN:VEVENT
DTSTAMP:20260422T085434Z
UID:b1d98ed3-60f8-4a38-8a9f-83d5b632214d
DTSTART;VALUE=DATE:20260523
DTEND;VALUE=DATE:20260524
DESCRIPTION:
LOCATION:1701 Canary Ave\, Bismarck\, ND 58501\, USA
SUMMARY:Track : State Tournament
END:VEVENT
BEGIN:VEVENT
DTSTAMP:20260422T085434Z
UID:ea3c93ff-66fd-4608-8cae-8be1fff8c464
DTSTART;VALUE=DATE:20260528
DTEND;VALUE=DATE:20260529
DESCRIPTION:<p>State</p>
LOCATION:Jack Brown Stadium  
SUMMARY:Baseball : State Tournament
END:VEVENT
BEGIN:VEVENT
DTSTAMP:20260422T085434Z
UID:00dc35c8-efc8-45ef-a70f-3e8c8ee09b3d
DTSTART;VALUE=DATE:20260528
DTEND;VALUE=DATE:20260529
DESCRIPTION:<p>State</p>
LOCATION:Jack Brown Stadium  
SUMMARY:Softball : State Tournament
END:VEVENT
BEGIN:VEVENT
DTSTAMP:20260422T085434Z
UID:289eee6a-1f03-40e2-ac62-f1e1e8be66fd
DTSTART;VALUE=DATE:20260529
DTEND;VALUE=DATE:20260530
DESCRIPTION:<p>State</p>
LOCATION:Jack Brown Stadium  
SUMMARY:Baseball : State Tournament
END:VEVENT
BEGIN:VEVENT
DTSTAMP:20260422T085434Z
UID:4f607521-038e-4a38-b7f7-17ab0fb905d1
DTSTART;VALUE=DATE:20260529
DTEND;VALUE=DATE:20260530
DESCRIPTION:<p>State</p>
LOCATION:Jack Brown Stadium  
SUMMARY:Softball : State Tournament
END:VEVENT
BEGIN:VEVENT
DTSTAMP:20260422T085434Z
UID:95213f60-cede-4482-b2ce-56849825bf35
DTSTART;VALUE=DATE:20260530
DTEND;VALUE=DATE:20260531
DESCRIPTION:<p>State</p>
LOCATION:Jack Brown Stadium  
SUMMARY:Baseball : State Tournament
END:VEVENT
BEGIN:VEVENT
DTSTAMP:20260422T085434Z
UID:0135d93f-ca11-4a8c-811f-c82f5bcb846e
DTSTART;VALUE=DATE:20260530
DTEND;VALUE=DATE:20260531
DESCRIPTION:<p>State</p>
LOCATION:Jack Brown Stadium  
SUMMARY:Softball : State Tournament
END:VEVENT
END:VCALENDAR
