BEGIN:VCALENDAR
VERSION:2.0
PRODID:icalendar-ruby
CALSCALE:GREGORIAN
BEGIN:VTIMEZONE
TZID:America/New_York
BEGIN:DAYLIGHT
DTSTART:20260308T030000
TZOFFSETFROM:-0500
TZOFFSETTO:-0400
RRULE:FREQ=YEARLY;BYDAY=2SU;BYMONTH=3
TZNAME:EDT
END:DAYLIGHT
BEGIN:STANDARD
DTSTART:20261101T010000
TZOFFSETFROM:-0400
TZOFFSETTO:-0500
RRULE:FREQ=YEARLY;BYDAY=1SU;BYMONTH=11
TZNAME:EST
END:STANDARD
END:VTIMEZONE
BEGIN:VEVENT
DTSTAMP:20260424T092956Z
UID:670beed7-6ec7-497a-9f5a-ec8a74dad64d
DTSTART;VALUE=DATE:20260508
DTEND;VALUE=DATE:20260509
DESCRIPTION:
LOCATION:
SUMMARY:Gilkey 5th Grade Bike Trip
END:VEVENT
BEGIN:VEVENT
DTSTAMP:20260424T092956Z
UID:8a15b066-f5e9-46fc-9313-185f0b381788
DTSTART:20260514T180000
DTEND:20260514T190000
DESCRIPTION:
LOCATION:
SUMMARY:Gilkey Parent Club Meeting
END:VEVENT
BEGIN:VEVENT
DTSTAMP:20260424T092956Z
UID:fb514c74-345f-486d-8b4b-dc8658e5a343
DTSTART;VALUE=DATE:20260521
DTEND;VALUE=DATE:20260522
DESCRIPTION:
LOCATION:
SUMMARY:Gilkey 1/2 Day of School
END:VEVENT
BEGIN:VEVENT
DTSTAMP:20260424T092956Z
UID:df2cea7e-fe57-4f1a-8735-7cab5b4fab84
DTSTART;VALUE=DATE:20260522
DTEND;VALUE=DATE:20260523
DESCRIPTION:
LOCATION:
SUMMARY:Gilkey No School
END:VEVENT
BEGIN:VEVENT
DTSTAMP:20260424T092956Z
UID:515564f3-bb0a-49a0-acca-70f2f97aadd8
DTSTART;VALUE=DATE:20260525
DTEND;VALUE=DATE:20260526
DESCRIPTION:
LOCATION:
SUMMARY:Gilkey No School
END:VEVENT
BEGIN:VEVENT
DTSTAMP:20260424T092956Z
UID:3752e02f-33a2-45aa-be07-2a5edf971f87
DTSTART;VALUE=DATE:20260603
DTEND;VALUE=DATE:20260604
DESCRIPTION:
LOCATION:
SUMMARY:Gilkey 1/2 Day of School
END:VEVENT
BEGIN:VEVENT
DTSTAMP:20260424T092956Z
UID:955cf908-e3e6-4f02-bf0b-9fc5683731e8
DTSTART;VALUE=DATE:20260604
DTEND;VALUE=DATE:20260605
DESCRIPTION:
LOCATION:
SUMMARY:Gilkey Last Day of School (1/2 day)
END:VEVENT
BEGIN:VEVENT
DTSTAMP:20260424T092956Z
UID:16d4c127-1580-4d75-877c-2f06a13e29d4
DTSTART:20260604T101500
DTEND:20260604T104500
DESCRIPTION:
LOCATION:
SUMMARY:Gilkey 5th Grade Graduation
END:VEVENT
END:VCALENDAR
