BEGIN:VCALENDAR
VERSION:2.0
PRODID:icalendar-ruby
CALSCALE:GREGORIAN
BEGIN:VTIMEZONE
TZID:America/New_York
BEGIN:DAYLIGHT
DTSTART:20260308T030000
TZOFFSETFROM:-0500
TZOFFSETTO:-0400
RRULE:FREQ=YEARLY;BYDAY=2SU;BYMONTH=3
TZNAME:EDT
END:DAYLIGHT
BEGIN:STANDARD
DTSTART:20261101T010000
TZOFFSETFROM:-0400
TZOFFSETTO:-0500
RRULE:FREQ=YEARLY;BYDAY=1SU;BYMONTH=11
TZNAME:EST
END:STANDARD
END:VTIMEZONE
BEGIN:VEVENT
DTSTAMP:20260423T094459Z
UID:cc4d0e81-6a26-402e-9a81-f5724d27fa30
DTSTART;VALUE=DATE:20260424
DTEND;VALUE=DATE:20260425
DESCRIPTION:Students share a favorite book\, followed by an “Open Mic” 
 style book review during lunch or in the classroom.
LOCATION:
SUMMARY: Reflection & Sharing Day. 
END:VEVENT
BEGIN:VEVENT
DTSTAMP:20260423T094459Z
UID:217ff7fb-9c02-4f14-b0f8-84e25cd551ea
DTSTART:20260429T170000
DTEND:20260429T190000
DESCRIPTION:
LOCATION:
SUMMARY:Cooper Pool Party Family Night
END:VEVENT
BEGIN:VEVENT
DTSTAMP:20260423T094459Z
UID:dc2bcadc-6ea1-4d8e-a6d2-f85ba6bf94a0
DTSTART;VALUE=DATE:20260513
DTEND;VALUE=DATE:20260528
DESCRIPTION:
LOCATION:
SUMMARY:The Book Bus Comes to Cooper!
END:VEVENT
BEGIN:VEVENT
DTSTAMP:20260423T094459Z
UID:999557a5-661f-4e6c-9d8a-7463e9bbcabf
DTSTART:20260513T154500
DTEND:20260513T164500
DESCRIPTION:
LOCATION:Cooper Library
SUMMARY:Cooper Parents Club
END:VEVENT
BEGIN:VEVENT
DTSTAMP:20260423T094459Z
UID:91bc0977-f48e-4fca-9f0b-77f77e78f6b2
DTSTART;VALUE=DATE:20260514
DTEND;VALUE=DATE:20260515
DESCRIPTION:
LOCATION:
SUMMARY:Mobile Dentist
END:VEVENT
BEGIN:VEVENT
DTSTAMP:20260423T094459Z
UID:ac764191-d474-44d4-a023-1e0bece8926b
DTSTART;VALUE=DATE:20260515
DTEND;VALUE=DATE:20260516
DESCRIPTION:3rd grade bike trip to the Nature Center
LOCATION:
SUMMARY:3rd Grade Bike Trip
END:VEVENT
BEGIN:VEVENT
DTSTAMP:20260423T094459Z
UID:c63a5b4a-a502-455f-ba00-53125f2f169a
DTSTART:20260519T093000
DTEND:20260519T113000
DESCRIPTION:Depart from Cooper at: 9:30\n\nLeave Plainwell Ice Cream at 11:
 30 to Cooper.
LOCATION:
SUMMARY:2nd Grade Field Trip: Ransom Library/Plainwell Ice Cream
END:VEVENT
BEGIN:VEVENT
DTSTAMP:20260423T094459Z
UID:b703dbd6-4fbd-4a1c-9e85-1cb051d5810d
DTSTART;VALUE=DATE:20260521
DTEND;VALUE=DATE:20260522
DESCRIPTION:Dismissal: 11:50am
LOCATION:
SUMMARY:Half Day
END:VEVENT
BEGIN:VEVENT
DTSTAMP:20260423T094459Z
UID:7615f25d-a464-425a-a214-d40774fa8ebe
DTSTART;VALUE=DATE:20260522
DTEND;VALUE=DATE:20260526
DESCRIPTION:
LOCATION:
SUMMARY:NO SCHOOL
END:VEVENT
BEGIN:VEVENT
DTSTAMP:20260423T094459Z
UID:5b655aff-573b-4015-8f27-2dcd40a4d614
DTSTART;VALUE=DATE:20260526
DTEND;VALUE=DATE:20260527
DESCRIPTION:Depart Cooper at 8:30\;\nReturn to Cooper School: 2:00\;
LOCATION:
SUMMARY:1st grade field trip to Charlton Park 
END:VEVENT
BEGIN:VEVENT
DTSTAMP:20260423T094459Z
UID:8e4b82b0-7cae-45c5-8c0d-8c62b939506b
DTSTART:20260527T084500
DTEND:20260527T123000
DESCRIPTION:
LOCATION:
SUMMARY:2nd grade Field Trip to Boulder Ridge
END:VEVENT
BEGIN:VEVENT
DTSTAMP:20260423T094459Z
UID:f724b916-7858-4065-9f3f-a1a596105924
DTSTART;VALUE=DATE:20260528
DTEND;VALUE=DATE:20260529
DESCRIPTION:
LOCATION:
SUMMARY:5th Grade Field Trip: Greenfield Village
END:VEVENT
BEGIN:VEVENT
DTSTAMP:20260423T094459Z
UID:28c010a2-332b-4a9a-9783-feef70ea64a7
DTSTART:20260601T140000
DTEND:20260601T143000
DESCRIPTION:
LOCATION:
SUMMARY:Fire Truck Cool Off
END:VEVENT
BEGIN:VEVENT
DTSTAMP:20260423T094459Z
UID:cf2e0d02-180c-4283-a44c-6111e591c310
DTSTART:20260602T180000
DTEND:20260602T190000
DESCRIPTION:Plainwell High School - Plainwell Performing Arts Center
LOCATION:Performing Arts Center\, Plainwell\, MI 49080\, USA
SUMMARY:5th Grade Celebration
END:VEVENT
BEGIN:VEVENT
DTSTAMP:20260423T094459Z
UID:488f2395-ff28-40cf-b240-86afac743c71
DTSTART;VALUE=DATE:20260603
DTEND;VALUE=DATE:20260604
DESCRIPTION:Dismissal: 11:50am
LOCATION:
SUMMARY:Half Day
END:VEVENT
BEGIN:VEVENT
DTSTAMP:20260423T094459Z
UID:595319ee-5622-4e0f-ac15-177f8653409c
DTSTART;VALUE=DATE:20260604
DTEND;VALUE=DATE:20260605
DESCRIPTION:Dismissal: 11:50am
LOCATION:
SUMMARY:LAST DAY OF SCHOOL (Half Day)
END:VEVENT
END:VCALENDAR
