BEGIN:VCALENDAR
VERSION:2.0
PRODID:icalendar-ruby
CALSCALE:GREGORIAN
BEGIN:VTIMEZONE
TZID:America/New_York
BEGIN:DAYLIGHT
DTSTART:20260308T030000
TZOFFSETFROM:-0500
TZOFFSETTO:-0400
RRULE:FREQ=YEARLY;BYDAY=2SU;BYMONTH=3
TZNAME:EDT
END:DAYLIGHT
BEGIN:STANDARD
DTSTART:20261101T010000
TZOFFSETFROM:-0400
TZOFFSETTO:-0500
RRULE:FREQ=YEARLY;BYDAY=1SU;BYMONTH=11
TZNAME:EST
END:STANDARD
END:VTIMEZONE
BEGIN:VEVENT
DTSTAMP:20260423T103222Z
UID:4e6c8534-026b-4e4a-a414-addebfb881a3
DTSTART;VALUE=DATE:20260423
DTEND;VALUE=DATE:20260424
DESCRIPTION:
LOCATION:
SUMMARY:Grade 5 Science State Testing (Pt. 2)
END:VEVENT
BEGIN:VEVENT
DTSTAMP:20260423T103222Z
UID:cc94c29b-0b51-4788-b305-1f62ef63a4ba
DTSTART:20260424T180000
DTEND:20260424T200000
DESCRIPTION:
LOCATION:
SUMMARY:MMS Spring Formal Dance
END:VEVENT
BEGIN:VEVENT
DTSTAMP:20260423T103222Z
UID:f255c17b-fadd-42e9-b805-c044869b9a00
DTSTART:20260426T160000
DTEND:20260426T190000
DESCRIPTION:The Midview Local School District Board of Education hereby giv
 es notice that it will hold a special meeting on April 26\, 2026\, at 4:00
  p.m.\, at the Board of Education Office located at 13050 Durkee Road\, Gr
 afton\, Ohio 44044. The purpose of the meeting is to consider matters rela
 ted to the superintendent search. The Board may enter into executive sessi
 on pursuant to Ohio Revised Code Section 121.22(G)(1).
LOCATION:East Intermediate School\, 13060 Durkee Rd\, Grafton\, OH 44044\, 
 USA
SUMMARY:Special Board of Education Meeting
END:VEVENT
BEGIN:VEVENT
DTSTAMP:20260423T103222Z
UID:82e54965-76cc-411c-a7fd-b004548e9407
DTSTART;VALUE=DATE:20260427
DTEND;VALUE=DATE:20260428
DESCRIPTION:
LOCATION:
SUMMARY:Algebra I & Geometry End-of-Course Testing (pt. 1)
END:VEVENT
BEGIN:VEVENT
DTSTAMP:20260423T103222Z
UID:3a3fa9bd-0140-44db-af42-9074ee246242
DTSTART:20260427T180000
DTEND:20260427T190000
DESCRIPTION:
LOCATION:Midview Middle School\, 12865 Grafton Rd\, Grafton\, OH 44044\, US
 A
SUMMARY:Board of Education Meeting
END:VEVENT
BEGIN:VEVENT
DTSTAMP:20260423T103222Z
UID:692552f1-3402-49ea-b695-e70ebd4293a1
DTSTART;VALUE=DATE:20260428
DTEND;VALUE=DATE:20260429
DESCRIPTION:
LOCATION:
SUMMARY:Algebra I & Geometry End-of-Course Testing (pt. 2)
END:VEVENT
BEGIN:VEVENT
DTSTAMP:20260423T103222Z
UID:296e37fe-05ec-4b4d-9d0c-2b9c59b10cc6
DTSTART;VALUE=DATE:20260428
DTEND;VALUE=DATE:20260429
DESCRIPTION:
LOCATION:
SUMMARY:Grades 3 & 4 Math State Testing (Pt. 1)
END:VEVENT
BEGIN:VEVENT
DTSTAMP:20260423T103222Z
UID:b6d5853e-1fe0-406f-8d71-843993d94697
DTSTART;VALUE=DATE:20260429
DTEND;VALUE=DATE:20260430
DESCRIPTION:
LOCATION:
SUMMARY:Biology End-of-Course Testing
END:VEVENT
BEGIN:VEVENT
DTSTAMP:20260423T103222Z
UID:30f181ae-72de-4dc8-8eaf-221a54e65837
DTSTART;VALUE=DATE:20260429
DTEND;VALUE=DATE:20260430
DESCRIPTION:
LOCATION:
SUMMARY:Grades 3 & 4 Math State Testing (Pt. 2)
END:VEVENT
BEGIN:VEVENT
DTSTAMP:20260423T103222Z
UID:da8f5c94-902b-485a-9bed-94d596d54650
DTSTART;VALUE=DATE:20260429
DTEND;VALUE=DATE:20260430
DESCRIPTION:
LOCATION:
SUMMARY:Grades 5 & 6 Math State Testing (Pt. 1)
END:VEVENT
BEGIN:VEVENT
DTSTAMP:20260423T103222Z
UID:82e8802b-f071-4097-a51f-91fc6591c9ab
DTSTART;VALUE=DATE:20260429
DTEND;VALUE=DATE:20260430
DESCRIPTION:
LOCATION:
SUMMARY:Grades 7 & 8 Math State Testing (Pt. 1)
END:VEVENT
BEGIN:VEVENT
DTSTAMP:20260423T103222Z
UID:7ae00776-67bd-42e3-b7ab-2ffc081899db
DTSTART:20260429T180000
DTEND:20260429T190000
DESCRIPTION:
LOCATION:
SUMMARY:4th Grade Concert (Night 1)
END:VEVENT
BEGIN:VEVENT
DTSTAMP:20260423T103222Z
UID:d5c1ea26-ccf7-49c8-86c4-3bc4aae7de95
DTSTART;VALUE=DATE:20260430
DTEND;VALUE=DATE:20260501
DESCRIPTION:
LOCATION:
SUMMARY:Government End-of-Course Testing
END:VEVENT
BEGIN:VEVENT
DTSTAMP:20260423T103222Z
UID:e816c7cf-3d2e-4369-a800-ff63cc1bc670
DTSTART;VALUE=DATE:20260430
DTEND;VALUE=DATE:20260501
DESCRIPTION:
LOCATION:
SUMMARY:Grades 5 & 6 Math State Testing (Pt. 2)
END:VEVENT
BEGIN:VEVENT
DTSTAMP:20260423T103222Z
UID:ac81274f-416a-4eef-ad43-b371705ca010
DTSTART;VALUE=DATE:20260430
DTEND;VALUE=DATE:20260501
DESCRIPTION:
LOCATION:
SUMMARY:Grades 7 & 8 Math State Testing (Pt. 2)
END:VEVENT
BEGIN:VEVENT
DTSTAMP:20260423T103222Z
UID:20014a3c-29fd-4c32-b797-d23543cb5a7a
DTSTART:20260430T180000
DTEND:20260430T190000
DESCRIPTION:
LOCATION:
SUMMARY:4th Grade Concert (Night 2)
END:VEVENT
BEGIN:VEVENT
DTSTAMP:20260423T103222Z
UID:be464790-95f2-47bc-ba44-71f106c15d4e
DTSTART;VALUE=DATE:20260501
DTEND;VALUE=DATE:20260502
DESCRIPTION:
LOCATION:
SUMMARY:U.S. History End-of-Course Testing
END:VEVENT
BEGIN:VEVENT
DTSTAMP:20260423T103222Z
UID:77b15086-6288-4c72-a072-da52cc89337a
DTSTART;VALUE=DATE:20260505
DTEND;VALUE=DATE:20260506
DESCRIPTION:
LOCATION:
SUMMARY:Grade 8 Science State Testing (Pt. 1)
END:VEVENT
BEGIN:VEVENT
DTSTAMP:20260423T103222Z
UID:ec77875a-bb87-4bc5-bc71-b5e7e4196dff
DTSTART:20260505T190000
DTEND:20260505T200000
DESCRIPTION:
LOCATION:
SUMMARY:MMS Spring Choir Concert
END:VEVENT
BEGIN:VEVENT
DTSTAMP:20260423T103222Z
UID:639ee5d9-438b-45e4-bf47-f9d493c65bab
DTSTART;VALUE=DATE:20260506
DTEND;VALUE=DATE:20260507
DESCRIPTION:
LOCATION:
SUMMARY:Grade 8 Science State Testing (Pt. 2)
END:VEVENT
BEGIN:VEVENT
DTSTAMP:20260423T103222Z
UID:241ac436-5826-4877-9ebf-3824c9650efb
DTSTART:20260506T190000
DTEND:20260506T200000
DESCRIPTION:
LOCATION:
SUMMARY:MHS Spring Band Concert
END:VEVENT
BEGIN:VEVENT
DTSTAMP:20260423T103222Z
UID:4cb43427-98cf-4d26-be81-7f89ff6ea292
DTSTART:20260507T150000
DTEND:20260507T183000
DESCRIPTION:
LOCATION:Midview High School\, 38199 Capel Rd\, Grafton\, OH 44044\, USA
SUMMARY:ARTastic Fest
END:VEVENT
BEGIN:VEVENT
DTSTAMP:20260423T103222Z
UID:d29a28d5-73a5-47e2-bada-bace11337f15
DTSTART:20260508T140000
DTEND:20260508T163000
DESCRIPTION:
LOCATION:East Intermediate School\, 13060 Durkee Rd\, Grafton\, OH 44044\, 
 USA
SUMMARY:East Spring Fling
END:VEVENT
BEGIN:VEVENT
DTSTAMP:20260423T103222Z
UID:1a4f888c-343a-4113-b874-462235da8a6d
DTSTART:20260509T180000
DTEND:20260509T220000
DESCRIPTION:
LOCATION:Columbia Ballroom\, 24883 Royalton Rd\, Columbia Station\, OH 4402
 8\, USA
SUMMARY:Prom
END:VEVENT
BEGIN:VEVENT
DTSTAMP:20260423T103222Z
UID:82974db0-7a0c-4d1b-9a10-5e8481976470
DTSTART:20260509T223000
DTEND:20260510T013000
DESCRIPTION:
LOCATION:Midview High School\, 38199 Capel Rd\, Grafton\, OH 44044\, USA
SUMMARY:After Prom
END:VEVENT
BEGIN:VEVENT
DTSTAMP:20260423T103222Z
UID:6aebfa82-cc87-4f93-b428-23c1e4ffc7d7
DTSTART:20260511T103000
DTEND:20260511T144000
DESCRIPTION:
LOCATION:Midview High School\, 38199 Capel Rd\, Grafton\, OH 44044\, USA
SUMMARY:Senior Picnic
END:VEVENT
BEGIN:VEVENT
DTSTAMP:20260423T103222Z
UID:4c541bd3-dda0-43a8-9514-46f63618d0fd
DTSTART:20260512T180000
DTEND:20260512T190000
DESCRIPTION:
LOCATION:Midview High School\, 38199 Capel Rd\, Grafton\, OH 44044\, USA
SUMMARY:East Spring Concert
END:VEVENT
BEGIN:VEVENT
DTSTAMP:20260423T103222Z
UID:d7c7a5c7-2a70-453b-b289-d74b55caabc6
DTSTART:20260513T190000
DTEND:20260513T200000
DESCRIPTION:
LOCATION:
SUMMARY:MMS Spring Band Concert
END:VEVENT
BEGIN:VEVENT
DTSTAMP:20260423T103222Z
UID:d83bd9a7-f2bd-4125-ab25-07c3088901ed
DTSTART;VALUE=DATE:20260514
DTEND;VALUE=DATE:20260515
DESCRIPTION:
LOCATION:
SUMMARY:Senior Exams
END:VEVENT
BEGIN:VEVENT
DTSTAMP:20260423T103222Z
UID:5da10e4c-d9e8-42e2-9a0c-88ae7d6c8392
DTSTART:20260514T170000
DTEND:20260514T180000
DESCRIPTION:
LOCATION:North Elementary School\, 13070 Durkee Rd\, Grafton\, OH 44044\, U
 SA
SUMMARY:Kindergarten End-of-Year Celebration
END:VEVENT
BEGIN:VEVENT
DTSTAMP:20260423T103222Z
UID:e94179de-5842-40d0-ae85-37931ce39546
DTSTART:20260514T170000
DTEND:20260514T180000
DESCRIPTION:
LOCATION:West Elementary School\, 13080 Durkee Rd\, Grafton\, OH 44044\, US
 A
SUMMARY:Kindergarten End-of-Year Celebration
END:VEVENT
BEGIN:VEVENT
DTSTAMP:20260423T103222Z
UID:1917a2bd-f170-4065-bbbc-19a44617ea01
DTSTART:20260514T190000
DTEND:20260514T200000
DESCRIPTION:
LOCATION:
SUMMARY:MHS Spring Choral Pops Concert
END:VEVENT
BEGIN:VEVENT
DTSTAMP:20260423T103222Z
UID:3420c906-47e9-400b-b47f-420bc69481cd
DTSTART;VALUE=DATE:20260515
DTEND;VALUE=DATE:20260516
DESCRIPTION:
LOCATION:
SUMMARY:Senior Exams
END:VEVENT
BEGIN:VEVENT
DTSTAMP:20260423T103222Z
UID:e5dc2d5c-20d5-4326-888a-7ef3377c41db
DTSTART:20260515T090000
DTEND:20260515T200000
DESCRIPTION:
LOCATION:
SUMMARY:8th Grade Cedar Point Trip
END:VEVENT
BEGIN:VEVENT
DTSTAMP:20260423T103222Z
UID:8b71dde7-54db-4164-96d1-c10078da0819
DTSTART;VALUE=DATE:20260519
DTEND;VALUE=DATE:20260523
DESCRIPTION:
LOCATION:Vermilion River Reservation: Mill Hollow\, 51211 N Ridge Rd\, Verm
 ilion\, OH 44089\, USA
SUMMARY:6th Grade Camp
END:VEVENT
BEGIN:VEVENT
DTSTAMP:20260423T103222Z
UID:b7b6afae-8df3-481d-9fe1-32398b53d908
DTSTART:20260519T130000
DTEND:20260519T140000
DESCRIPTION:
LOCATION:
SUMMARY:East D.A.R.E. Graduation
END:VEVENT
BEGIN:VEVENT
DTSTAMP:20260423T103222Z
UID:5caa9a72-d3cd-40c6-8471-e625da80f64c
DTSTART:20260520T180000
DTEND:20260520T190000
DESCRIPTION:
LOCATION:Midview Middle School\, 12865 Grafton Rd\, Grafton\, OH 44044\, US
 A
SUMMARY:Board of Education Meeting
END:VEVENT
BEGIN:VEVENT
DTSTAMP:20260423T103222Z
UID:fdf2729d-99f7-4a79-8788-e3145cbf2223
DTSTART:20260521T080000
DTEND:20260521T110000
DESCRIPTION:
LOCATION:Midview High School\, 38199 Capel Rd\, Grafton\, OH 44044\, USA
SUMMARY:Senior Awards Assembly & Academic Achievement Awards
END:VEVENT
BEGIN:VEVENT
DTSTAMP:20260423T103222Z
UID:2c48ba39-ab38-49d1-93de-6fedb51a73ef
DTSTART;VALUE=DATE:20260522
DTEND;VALUE=DATE:20260523
DESCRIPTION:
LOCATION:
SUMMARY:West Field Day
END:VEVENT
BEGIN:VEVENT
DTSTAMP:20260423T103222Z
UID:2a5da8a1-4000-4c4e-b5bd-a82aae023efa
DTSTART:20260522T080000
DTEND:20260522T100000
DESCRIPTION:
LOCATION:Midview High School\, 38199 Capel Rd\, Grafton\, OH 44044\, USA
SUMMARY:Senior Breakfast & Graduation Practice (MANDATORY)
END:VEVENT
BEGIN:VEVENT
DTSTAMP:20260423T103222Z
UID:1a4e1f38-6d0c-4b72-bb28-8f10e81a93b8
DTSTART:20260522T190000
DTEND:20260522T203000
DESCRIPTION:
LOCATION:Midview High School\, 38199 Capel Rd\, Grafton\, OH 44044\, USA
SUMMARY:Commencement
END:VEVENT
BEGIN:VEVENT
DTSTAMP:20260423T103222Z
UID:f1dfdbfa-8e04-47a9-acb9-4882f134f88a
DTSTART;VALUE=DATE:20260525
DTEND;VALUE=DATE:20260526
DESCRIPTION:
LOCATION:
SUMMARY:Memorial Day (No School)
END:VEVENT
BEGIN:VEVENT
DTSTAMP:20260423T103222Z
UID:e5d091c5-a50e-4bd0-a9ed-9b79f9cf5562
DTSTART;VALUE=DATE:20260526
DTEND;VALUE=DATE:20260527
DESCRIPTION:
LOCATION:
SUMMARY:Last Preschool Day
END:VEVENT
BEGIN:VEVENT
DTSTAMP:20260423T103222Z
UID:2e65904c-d6bf-4de0-af3f-5ab89ed26f3f
DTSTART;VALUE=DATE:20260526
DTEND;VALUE=DATE:20260527
DESCRIPTION:
LOCATION:
SUMMARY:North Field Day
END:VEVENT
BEGIN:VEVENT
DTSTAMP:20260423T103222Z
UID:e2d46fa8-f047-4995-b6aa-929f56b03adc
DTSTART;VALUE=DATE:20260527
DTEND;VALUE=DATE:20260528
DESCRIPTION:
LOCATION:
SUMMARY:East Field Day
END:VEVENT
BEGIN:VEVENT
DTSTAMP:20260423T103222Z
UID:d5b24d2a-1996-41fb-9a3f-4a1053ac5e9c
DTSTART:20260527T091500
DTEND:20260527T101500
DESCRIPTION:
LOCATION:
SUMMARY:8th Grade Achievement Awards
END:VEVENT
BEGIN:VEVENT
DTSTAMP:20260423T103222Z
UID:938a04b0-df62-46d3-a918-c6f5ddccc0c7
DTSTART;VALUE=DATE:20260528
DTEND;VALUE=DATE:20260529
DESCRIPTION:
LOCATION:
SUMMARY:Last Student Day
END:VEVENT
BEGIN:VEVENT
DTSTAMP:20260423T103222Z
UID:4e20da29-fd7a-4258-949b-adf2e1c05860
DTSTART:20260528T080000
DTEND:20260528T090000
DESCRIPTION:
LOCATION:
SUMMARY:7th Grade Achievement Awards
END:VEVENT
BEGIN:VEVENT
DTSTAMP:20260423T103222Z
UID:64010ab1-ea8f-44f4-8343-5f44bf956aac
DTSTART:20260528T080000
DTEND:20260528T091500
DESCRIPTION:
LOCATION:
SUMMARY:8th Grade Pancake Breakfast
END:VEVENT
BEGIN:VEVENT
DTSTAMP:20260423T103222Z
UID:2a2f43d1-5f31-4e6e-b702-e5aedfc1343c
DTSTART;VALUE=DATE:20260529
DTEND;VALUE=DATE:20260530
DESCRIPTION:
LOCATION:
SUMMARY:Records Day (No School)
END:VEVENT
BEGIN:VEVENT
DTSTAMP:20260423T103222Z
UID:2e288854-d83b-4b34-92a2-865ea980517e
DTSTART;VALUE=DATE:20260601
DTEND;VALUE=DATE:20260602
DESCRIPTION:
LOCATION:
SUMMARY:Comp Day for Conferences (No School)
END:VEVENT
BEGIN:VEVENT
DTSTAMP:20260423T103222Z
UID:33452626-bafe-42ac-bcfe-e646686ac99a
DTSTART:20260624T180000
DTEND:20260624T190000
DESCRIPTION:
LOCATION:Midview Middle School\, 12865 Grafton Rd\, Grafton\, OH 44044\, US
 A
SUMMARY:Board of Education Meeting
END:VEVENT
BEGIN:VEVENT
DTSTAMP:20260423T103222Z
UID:a71f60a6-3d8a-4c65-9072-b7dc8c73832b
DTSTART:20260722T180000
DTEND:20260722T190000
DESCRIPTION:
LOCATION:Midview Middle School\, 12865 Grafton Rd\, Grafton\, OH 44044\, US
 A
SUMMARY:Board of Education Meeting
END:VEVENT
BEGIN:VEVENT
DTSTAMP:20260423T103222Z
UID:11babd1d-c33e-447b-9abc-79d4719affa6
DTSTART:20260819T180000
DTEND:20260819T190000
DESCRIPTION:
LOCATION:Midview Middle School\, 12865 Grafton Rd\, Grafton\, OH 44044\, US
 A
SUMMARY:Board of Education Meeting
END:VEVENT
BEGIN:VEVENT
DTSTAMP:20260423T103222Z
UID:9e5dfa04-6c15-4bdd-8ca0-93362d5db16e
DTSTART:20260923T180000
DTEND:20260923T190000
DESCRIPTION:
LOCATION:Midview Middle School\, 12865 Grafton Rd\, Grafton\, OH 44044\, US
 A
SUMMARY:Board of Education Meeting
END:VEVENT
BEGIN:VEVENT
DTSTAMP:20260423T103222Z
UID:573935df-189f-4cf5-817b-4eb6dc9e3615
DTSTART:20261021T180000
DTEND:20261021T190000
DESCRIPTION:
LOCATION:Midview Middle School\, 12865 Grafton Rd\, Grafton\, OH 44044\, US
 A
SUMMARY:Board of Education Meeting
END:VEVENT
BEGIN:VEVENT
DTSTAMP:20260423T103222Z
UID:c659520e-cf55-483e-a02a-3e1a1c5539de
DTSTART:20261118T180000
DTEND:20261118T190000
DESCRIPTION:
LOCATION:Midview Middle School\, 12865 Grafton Rd\, Grafton\, OH 44044\, US
 A
SUMMARY:Board of Education Meeting
END:VEVENT
BEGIN:VEVENT
DTSTAMP:20260423T103222Z
UID:fe157350-1ba2-40df-a6d8-af97536d4167
DTSTART:20261216T180000
DTEND:20261216T190000
DESCRIPTION:
LOCATION:Midview Middle School\, 12865 Grafton Rd\, Grafton\, OH 44044\, US
 A
SUMMARY:Board of Education Meeting
END:VEVENT
END:VCALENDAR
