BEGIN:VCALENDAR
VERSION:2.0
PRODID:icalendar-ruby
CALSCALE:GREGORIAN
BEGIN:VTIMEZONE
TZID:America/New_York
BEGIN:DAYLIGHT
DTSTART:20260308T030000
TZOFFSETFROM:-0500
TZOFFSETTO:-0400
RRULE:FREQ=YEARLY;BYDAY=2SU;BYMONTH=3
TZNAME:EDT
END:DAYLIGHT
BEGIN:STANDARD
DTSTART:20261101T010000
TZOFFSETFROM:-0400
TZOFFSETTO:-0500
RRULE:FREQ=YEARLY;BYDAY=1SU;BYMONTH=11
TZNAME:EST
END:STANDARD
END:VTIMEZONE
BEGIN:VEVENT
DTSTAMP:20260423T104210Z
UID:0a3f7169-6151-4307-9557-72ac1c0358ac
DTSTART:20260430T080000
DTEND:20260501T090000
DESCRIPTION:
LOCATION:
SUMMARY:Grade 5 Math MCAS
END:VEVENT
BEGIN:VEVENT
DTSTAMP:20260423T104210Z
UID:1bc5c6de-4f7b-42ea-837f-da3819a95839
DTSTART:20260507T080000
DTEND:20260508T090000
DESCRIPTION:
LOCATION:
SUMMARY:Grade 6 Math MCAS
END:VEVENT
BEGIN:VEVENT
DTSTAMP:20260423T104210Z
UID:54150b96-dfb6-4393-8126-cdc6f01d17a2
DTSTART:20260507T183000
DTEND:20260507T203000
DESCRIPTION:<p>Library of the Westfield River School..</p>
LOCATION:
SUMMARY:SEPAC Meeting
END:VEVENT
BEGIN:VEVENT
DTSTAMP:20260423T104210Z
UID:0d27c295-88ff-4436-8e37-8119a5b7d95f
DTSTART:20260513T080000
DTEND:20260514T090000
DESCRIPTION:
LOCATION:
SUMMARY:Grade 5 Science MCAS
END:VEVENT
BEGIN:VEVENT
DTSTAMP:20260423T104210Z
UID:31e26238-2015-4807-a3ff-005f2b8e1d43
DTSTART:20260527T080000
DTEND:20260527T090000
DESCRIPTION:<p>Grade 4 Student will visit WIS.</p>
LOCATION:
SUMMARY:Step up Day SRS to WIS
END:VEVENT
BEGIN:VEVENT
DTSTAMP:20260423T104210Z
UID:8ced56ef-e7ed-4b16-b391-2b234efe1980
DTSTART:20260529T080000
DTEND:20260529T090000
DESCRIPTION:<p>Grade 4 students will visit WIS</p>
LOCATION:
SUMMARY:Step up day PM to WIS
END:VEVENT
BEGIN:VEVENT
DTSTAMP:20260423T104210Z
UID:2487a796-9f09-4543-ae3d-ee8c34ad142d
DTSTART:20260601T080000
DTEND:20260601T090000
DESCRIPTION:<p>Grade 4 studednts will visit WIS</p>
LOCATION:
SUMMARY:Step up day MH to WIS
END:VEVENT
BEGIN:VEVENT
DTSTAMP:20260423T104210Z
UID:3daa8d08-e3e2-4352-8314-06fb27d1ee67
DTSTART:20260602T180000
DTEND:20260602T190000
DESCRIPTION:
LOCATION:
SUMMARY:WIS Chorus Concert
END:VEVENT
BEGIN:VEVENT
DTSTAMP:20260423T104210Z
UID:dad4f054-e684-46da-8d74-4a51530998e5
DTSTART:20260604T080000
DTEND:20260604T090000
DESCRIPTION:<p>Grade 4 students to visit WIS.</p>
LOCATION:
SUMMARY:Step up day WRS to WIS
END:VEVENT
BEGIN:VEVENT
DTSTAMP:20260423T104210Z
UID:09c24e82-ea46-471a-a295-2938cad9f457
DTSTART;VALUE=DATE:20260608
DTEND;VALUE=DATE:20260609
DESCRIPTION:<p>6th Grade students will go to WMS to shadow for a day.</p>
LOCATION:
SUMMARY:6th Grade step up day
END:VEVENT
BEGIN:VEVENT
DTSTAMP:20260423T104210Z
UID:6f168922-042e-4520-999d-81bd5e597ed0
DTSTART:20260608T080000
DTEND:20260608T090000
DESCRIPTION:
LOCATION:
SUMMARY:Step up day HLND to WIS
END:VEVENT
BEGIN:VEVENT
DTSTAMP:20260423T104210Z
UID:06124a77-635d-4bf0-a3e2-08f811047e3b
DTSTART;VALUE=DATE:20260609
DTEND;VALUE=DATE:20260610
DESCRIPTION:<p>6th Grade students will go to WMS to shadow for a day.</p>
LOCATION:
SUMMARY:6th Grade students to WMS
END:VEVENT
BEGIN:VEVENT
DTSTAMP:20260423T104210Z
UID:f446e16c-00c9-440c-8e15-58713a741388
DTSTART:20260609T180000
DTEND:20260609T190000
DESCRIPTION:
LOCATION:
SUMMARY:WIS 5th Grade Band Concert
END:VEVENT
BEGIN:VEVENT
DTSTAMP:20260423T104210Z
UID:69abe956-669a-4ef8-a0b8-c8a0119b86b7
DTSTART:20260610T080000
DTEND:20260610T090000
DESCRIPTION:<p>Students will be transported to Bullens Field where they wil
 l see a Starfires Game.</p>
LOCATION:
SUMMARY:WIS at Starfires Game
END:VEVENT
BEGIN:VEVENT
DTSTAMP:20260423T104210Z
UID:24e04e22-e6e6-4d73-a44a-fba87f4dd9cf
DTSTART;VALUE=DATE:20260611
DTEND;VALUE=DATE:20260612
DESCRIPTION:
LOCATION:
SUMMARY:Field Day 
END:VEVENT
BEGIN:VEVENT
DTSTAMP:20260423T104210Z
UID:621404e7-56af-445f-b174-c63b4028fac5
DTSTART:20260611T180000
DTEND:20260611T190000
DESCRIPTION:
LOCATION:
SUMMARY:WIS 6th Grade Band Concert
END:VEVENT
END:VCALENDAR
