BEGIN:VCALENDAR
VERSION:2.0
PRODID:icalendar-ruby
CALSCALE:GREGORIAN
BEGIN:VTIMEZONE
TZID:America/New_York
BEGIN:DAYLIGHT
DTSTART:20260308T030000
TZOFFSETFROM:-0500
TZOFFSETTO:-0400
RRULE:FREQ=YEARLY;BYDAY=2SU;BYMONTH=3
TZNAME:EDT
END:DAYLIGHT
BEGIN:STANDARD
DTSTART:20261101T010000
TZOFFSETFROM:-0400
TZOFFSETTO:-0500
RRULE:FREQ=YEARLY;BYDAY=1SU;BYMONTH=11
TZNAME:EST
END:STANDARD
END:VTIMEZONE
BEGIN:VEVENT
DTSTAMP:20260423T104251Z
UID:e5a5a76e-286a-42e8-8967-7745168f1229
DTSTART;VALUE=DATE:20260420
DTEND;VALUE=DATE:20260425
DESCRIPTION:
LOCATION:
SUMMARY:Spring Vacation/No School
END:VEVENT
BEGIN:VEVENT
DTSTAMP:20260423T104251Z
UID:956a9b1e-9cc6-4bd0-82a9-f9f31b325d1e
DTSTART;VALUE=DATE:20260505
DTEND;VALUE=DATE:20260506
DESCRIPTION:
LOCATION:
SUMMARY:Highland - Gr 3 MCAS - Math
END:VEVENT
BEGIN:VEVENT
DTSTAMP:20260423T104251Z
UID:ca328131-5207-4e92-9ea0-c66358a99aa6
DTSTART;VALUE=DATE:20260506
DTEND;VALUE=DATE:20260507
DESCRIPTION:
LOCATION:
SUMMARY:Highland - Gr 3 MCAS - Math
END:VEVENT
BEGIN:VEVENT
DTSTAMP:20260423T104251Z
UID:fb20bda0-7e5b-4518-a8c8-327ff6cc434a
DTSTART;VALUE=DATE:20260512
DTEND;VALUE=DATE:20260513
DESCRIPTION:
LOCATION:
SUMMARY:Highland - Gr 4 MCAS - Math
END:VEVENT
BEGIN:VEVENT
DTSTAMP:20260423T104251Z
UID:32d79f98-deff-4870-a47c-9f9445391750
DTSTART;VALUE=DATE:20260513
DTEND;VALUE=DATE:20260514
DESCRIPTION:
LOCATION:
SUMMARY:Highland - Gr 4 Math MCAS - Day 2
END:VEVENT
BEGIN:VEVENT
DTSTAMP:20260423T104251Z
UID:03bd83fd-1f16-448c-91b6-c7117c759d4d
DTSTART;VALUE=DATE:20260514
DTEND;VALUE=DATE:20260516
DESCRIPTION:
LOCATION:
SUMMARY:PK Screening
END:VEVENT
BEGIN:VEVENT
DTSTAMP:20260423T104251Z
UID:8d15aa45-73ed-48e1-8ece-a91dde56c657
DTSTART;VALUE=DATE:20260514
DTEND;VALUE=DATE:20260516
DESCRIPTION:
LOCATION:
SUMMARY:PK Screening
END:VEVENT
BEGIN:VEVENT
DTSTAMP:20260423T104251Z
UID:a482220f-306e-476a-81d3-43ceb884656e
DTSTART;VALUE=DATE:20260519
DTEND;VALUE=DATE:20260521
DESCRIPTION:
LOCATION:
SUMMARY:K Screening
END:VEVENT
BEGIN:VEVENT
DTSTAMP:20260423T104251Z
UID:d46cfd5c-6495-446b-8290-a8f7c2b3aab5
DTSTART;VALUE=DATE:20260525
DTEND;VALUE=DATE:20260526
DESCRIPTION:
LOCATION:
SUMMARY:Memorial Day Holiday/No School
END:VEVENT
BEGIN:VEVENT
DTSTAMP:20260423T104251Z
UID:ce91e34e-28ea-4b4d-800e-e7b27a2ee5cc
DTSTART:20260529T180000
DTEND:20260529T190000
DESCRIPTION:
LOCATION:
SUMMARY:HE - Chorus @ Starfires
END:VEVENT
BEGIN:VEVENT
DTSTAMP:20260423T104251Z
UID:1fa3c8d7-a286-4fde-af08-0436e79b242d
DTSTART;VALUE=DATE:20260610
DTEND;VALUE=DATE:20260611
DESCRIPTION:
LOCATION:
SUMMARY:Highland - Spring Concert PK4 - Gr 4
END:VEVENT
BEGIN:VEVENT
DTSTAMP:20260423T104251Z
UID:284c80b3-29f7-4e56-98ec-708e3db8cffe
DTSTART;VALUE=DATE:20260615
DTEND;VALUE=DATE:20260616
DESCRIPTION:
LOCATION:
SUMMARY:4th grade recognition
END:VEVENT
BEGIN:VEVENT
DTSTAMP:20260423T104251Z
UID:23e794a6-d892-4ebe-ae18-e7cb5221b987
DTSTART;VALUE=DATE:20260619
DTEND;VALUE=DATE:20260620
DESCRIPTION:
LOCATION:
SUMMARY:Juneteenth/No School
END:VEVENT
END:VCALENDAR
