BEGIN:VCALENDAR
VERSION:2.0
PRODID:icalendar-ruby
CALSCALE:GREGORIAN
BEGIN:VTIMEZONE
TZID:America/New_York
BEGIN:DAYLIGHT
DTSTART:20260308T030000
TZOFFSETFROM:-0500
TZOFFSETTO:-0400
RRULE:FREQ=YEARLY;BYDAY=2SU;BYMONTH=3
TZNAME:EDT
END:DAYLIGHT
BEGIN:STANDARD
DTSTART:20261101T010000
TZOFFSETFROM:-0400
TZOFFSETTO:-0500
RRULE:FREQ=YEARLY;BYDAY=1SU;BYMONTH=11
TZNAME:EST
END:STANDARD
END:VTIMEZONE
BEGIN:VEVENT
DTSTAMP:20260420T040312Z
UID:d75930e4-99a0-401a-9494-a5f2029333a3
DTSTART;VALUE=DATE:20260421
DTEND;VALUE=DATE:20260422
DESCRIPTION:<html><head><meta http-equiv="Content-Type" content="text/html\
 ; charset=utf-8"><meta name="Generator" content="Microsoft Word 15 (filter
 ed medium)"><style><!--@font-face	{font-family:"Cambria Math"}@font-face	{
 font-family:Aptos}p.MsoNormal\, li.MsoNormal\, div.MsoNormal	{margin:0in\;
 	font-size:11.0pt\;	font-family:"Aptos"\,sans-serif}span.EmailStyle17	{fon
 t-family:"Aptos"\,sans-serif\;	color:windowtext}.MsoChpDefault	{font-size:
 11.0pt}@page WordSection1	{margin:1.0in 1.0in 1.0in 1.0in}div.WordSection1
 	{}--></style></head><body lang="EN-US" link="#467886" vlink="#96607D" sty
 le="word-wrap:break-word"><div class="WordSection1"><p class="MsoNormal">&
 nbsp\;</p></div></body></html>
LOCATION:
SUMMARY:Deadline for Agenda Items
END:VEVENT
BEGIN:VEVENT
DTSTAMP:20260420T040312Z
UID:0e08bf84-3a56-42b1-b38c-5f1e2b46fac9
DTSTART:20260421T190000
DTEND:20260421T193000
DESCRIPTION:<html><head><meta http-equiv="Content-Type" content="text/html\
 ; charset=utf-8"><meta name="Generator" content="Microsoft Word 15 (filter
 ed medium)"><style><!--@font-face	{font-family:"Cambria Math"}@font-face	{
 font-family:Aptos}p.MsoNormal\, li.MsoNormal\, div.MsoNormal	{margin:0in\;
 	font-size:11.0pt\;	font-family:"Aptos"\,sans-serif}span.EmailStyle17	{fon
 t-family:"Aptos"\,sans-serif\;	color:windowtext}.MsoChpDefault	{font-size:
 11.0pt}@page WordSection1	{margin:1.0in 1.0in 1.0in 1.0in}div.WordSection1
 	{}--></style></head><body lang="EN-US" link="#467886" vlink="#96607D" sty
 le="word-wrap:break-word"><div class="WordSection1"><p class="MsoNormal">&
 nbsp\;</p></div></body></html>
LOCATION:
SUMMARY:BOE Meeting
END:VEVENT
BEGIN:VEVENT
DTSTAMP:20260420T040312Z
UID:5636c175-4c7d-48aa-ab2b-3819698d0d6a
DTSTART;VALUE=DATE:20260422
DTEND;VALUE=DATE:20260423
DESCRIPTION:<html><head><meta http-equiv="Content-Type" content="text/html\
 ; charset=utf-8"><meta name="Generator" content="Microsoft Word 15 (filter
 ed medium)"><style><!--@font-face	{font-family:"Cambria Math"}@font-face	{
 font-family:Aptos}p.MsoNormal\, li.MsoNormal\, div.MsoNormal	{margin:0in\;
 	font-size:12.0pt\;	font-family:"Aptos"\,sans-serif}span.EmailStyle17	{fon
 t-family:"Aptos"\,sans-serif\;	color:windowtext}.MsoChpDefault	{}@page Wor
 dSection1	{margin:1.0in 1.0in 1.0in 1.0in}div.WordSection1	{}--></style></
 head><body lang="EN-US" link="#467886" vlink="#96607D" style="word-wrap:br
 eak-word"><div class="WordSection1"><p class="MsoNormal"><span style="font
 -size:11.0pt">&nbsp\;</span></p></div></body></html>
LOCATION:
SUMMARY:Wellness Committee Meeting
END:VEVENT
BEGIN:VEVENT
DTSTAMP:20260420T040312Z
UID:3ee489c0-4887-406e-af06-1bd43a0f0734
DTSTART;VALUE=DATE:20260423
DTEND;VALUE=DATE:20260424
DESCRIPTION:<html><head><meta http-equiv="Content-Type" content="text/html\
 ; charset=utf-8"><meta name="Generator" content="Microsoft Exchange Server
 "><!-- converted from text --><style><!-- .EmailQuote { margin-left: 1pt\;
  padding-left: 4pt\; border-left: #800000 2px solid\; } --></style></head>
 <body><font size="2"><span style="font-size:11pt\;"><div class="PlainText"
 >&nbsp\;</div></span></font></body></html>
LOCATION:
SUMMARY:Midterm
END:VEVENT
BEGIN:VEVENT
DTSTAMP:20260420T040312Z
UID:22ebdf44-82e8-47b3-8d49-3f669fdc7eb9
DTSTART;VALUE=DATE:20260424
DTEND;VALUE=DATE:20260425
DESCRIPTION:<html><head><meta http-equiv="Content-Type" content="text/html\
 ; charset=utf-8"><meta name="Generator" content="Microsoft Exchange Server
 "><!-- converted from text --><style><!-- .EmailQuote { margin-left: 1pt\;
  padding-left: 4pt\; border-left: #800000 2px solid\; } --></style></head>
 <body><font size="2"><span style="font-size:11pt\;"><div class="PlainText"
 >&nbsp\;</div></span></font></body></html>
LOCATION:
SUMMARY:Early Dismissal for Students (Faculty Senate)
END:VEVENT
BEGIN:VEVENT
DTSTAMP:20260420T040312Z
UID:f257a9d1-b4bc-4137-a5d3-0215b3fd749f
DTSTART:20260504T190000
DTEND:20260504T193000
DESCRIPTION:<html><head><meta http-equiv="Content-Type" content="text/html\
 ; charset=utf-8"><meta name="Generator" content="Microsoft Word 15 (filter
 ed medium)"><style><!--@font-face	{font-family:"Cambria Math"}@font-face	{
 font-family:Aptos}p.MsoNormal\, li.MsoNormal\, div.MsoNormal	{margin:0in\;
 	font-size:11.0pt\;	font-family:"Aptos"\,sans-serif}span.EmailStyle17	{fon
 t-family:"Aptos"\,sans-serif\;	color:windowtext}.MsoChpDefault	{font-size:
 11.0pt}@page WordSection1	{margin:1.0in 1.0in 1.0in 1.0in}div.WordSection1
 	{}--></style></head><body lang="EN-US" link="#467886" vlink="#96607D" sty
 le="word-wrap:break-word"><div class="WordSection1"><p class="MsoNormal">&
 nbsp\;</p></div></body></html>
LOCATION:
SUMMARY:BOE Meeting
END:VEVENT
BEGIN:VEVENT
DTSTAMP:20260420T040312Z
UID:ec989b33-66df-421b-8384-e602fafa234c
DTSTART;VALUE=DATE:20260505
DTEND;VALUE=DATE:20260506
DESCRIPTION:<html><head><meta http-equiv="Content-Type" content="text/html\
 ; charset=utf-8"><meta name="Generator" content="Microsoft Word 15 (filter
 ed medium)"><style><!--@font-face	{font-family:"Cambria Math"}@font-face	{
 font-family:Aptos}p.MsoNormal\, li.MsoNormal\, div.MsoNormal	{margin:0in\;
 	font-size:11.0pt\;	font-family:"Aptos"\,sans-serif}span.EmailStyle17	{fon
 t-family:"Aptos"\,sans-serif\;	color:windowtext}.MsoChpDefault	{font-size:
 11.0pt}@page WordSection1	{margin:1.0in 1.0in 1.0in 1.0in}div.WordSection1
 	{}--></style></head><body lang="EN-US" link="#467886" vlink="#96607D" sty
 le="word-wrap:break-word"><div class="WordSection1"><p class="MsoNormal">&
 nbsp\;</p></div></body></html>
LOCATION:
SUMMARY:Deadline for Agenda Items
END:VEVENT
BEGIN:VEVENT
DTSTAMP:20260420T040312Z
UID:e83b232e-b2b1-44dd-b136-97dd45c3ec2c
DTSTART;VALUE=DATE:20260512
DTEND;VALUE=DATE:20260513
DESCRIPTION:<html><head><meta http-equiv="Content-Type" content="text/html\
 ; charset=utf-8"><meta name="Generator" content="Microsoft Exchange Server
 "><!-- converted from text --><style><!-- .EmailQuote { margin-left: 1pt\;
  padding-left: 4pt\; border-left: #800000 2px solid\; } --></style></head>
 <body><font size="2"><span style="font-size:11pt\;"><div class="PlainText"
 >&nbsp\;</div></span></font></body></html>
LOCATION:
SUMMARY:No School-Election Day
END:VEVENT
BEGIN:VEVENT
DTSTAMP:20260420T040312Z
UID:57444334-5892-4f1d-8c3f-5260a07690fb
DTSTART:20260518T190000
DTEND:20260518T193000
DESCRIPTION:<html><head><meta http-equiv="Content-Type" content="text/html\
 ; charset=utf-8"><meta name="Generator" content="Microsoft Word 15 (filter
 ed medium)"><style><!--@font-face	{font-family:"Cambria Math"}@font-face	{
 font-family:Aptos}p.MsoNormal\, li.MsoNormal\, div.MsoNormal	{margin:0in\;
 	font-size:11.0pt\;	font-family:"Aptos"\,sans-serif}span.EmailStyle17	{fon
 t-family:"Aptos"\,sans-serif\;	color:windowtext}.MsoChpDefault	{font-size:
 11.0pt}@page WordSection1	{margin:1.0in 1.0in 1.0in 1.0in}div.WordSection1
 	{}--></style></head><body lang="EN-US" link="#467886" vlink="#96607D" sty
 le="word-wrap:break-word"><div class="WordSection1"><p class="MsoNormal">&
 nbsp\;</p></div></body></html>
LOCATION:
SUMMARY:BOE Meeting
END:VEVENT
BEGIN:VEVENT
DTSTAMP:20260420T040312Z
UID:0c764670-0f50-4030-ae89-3b17e936d422
DTSTART;VALUE=DATE:20260519
DTEND;VALUE=DATE:20260520
DESCRIPTION:<html><head><meta http-equiv="Content-Type" content="text/html\
 ; charset=utf-8"><meta name="Generator" content="Microsoft Word 15 (filter
 ed medium)"><style><!--@font-face	{font-family:"Cambria Math"}@font-face	{
 font-family:Aptos}p.MsoNormal\, li.MsoNormal\, div.MsoNormal	{margin:0in\;
 	font-size:11.0pt\;	font-family:"Aptos"\,sans-serif}span.EmailStyle17	{fon
 t-family:"Aptos"\,sans-serif\;	color:windowtext}.MsoChpDefault	{font-size:
 11.0pt}@page WordSection1	{margin:1.0in 1.0in 1.0in 1.0in}div.WordSection1
 	{}--></style></head><body lang="EN-US" link="#467886" vlink="#96607D" sty
 le="word-wrap:break-word"><div class="WordSection1"><p class="MsoNormal">&
 nbsp\;</p></div></body></html>
LOCATION:
SUMMARY:Deadline for Agenda Items
END:VEVENT
BEGIN:VEVENT
DTSTAMP:20260420T040312Z
UID:b1e17086-c6ee-445f-ad3d-fc5d2e61bdb8
DTSTART;VALUE=DATE:20260525
DTEND;VALUE=DATE:20260526
DESCRIPTION:<html><head><meta http-equiv="Content-Type" content="text/html\
 ; charset=utf-8"><meta name="Generator" content="Microsoft Exchange Server
 "><!-- converted from text --><style><!-- .EmailQuote { margin-left: 1pt\;
  padding-left: 4pt\; border-left: #800000 2px solid\; } --></style></head>
 <body><font size="2"><span style="font-size:11pt\;"><div class="PlainText"
 >&nbsp\;</div></span></font></body></html>
LOCATION:
SUMMARY:No School-Memorial Day
END:VEVENT
BEGIN:VEVENT
DTSTAMP:20260420T040312Z
UID:8d40b525-460b-4888-b9e7-533fddd89737
DTSTART;VALUE=DATE:20260528
DTEND;VALUE=DATE:20260529
DESCRIPTION:<html><head><meta http-equiv="Content-Type" content="text/html\
 ; charset=utf-8"><meta name="Generator" content="Microsoft Exchange Server
 "><!-- converted from text --><style><!-- .EmailQuote { margin-left: 1pt\;
  padding-left: 4pt\; border-left: #800000 2px solid\; } --></style></head>
 <body><font size="2"><span style="font-size:11pt\;"><div class="PlainText"
 >&nbsp\;</div></span></font></body></html>
LOCATION:
SUMMARY:End of the 4th Nine-Weeks
END:VEVENT
BEGIN:VEVENT
DTSTAMP:20260420T040312Z
UID:426ceccd-dcd0-4ede-8d86-684ad8896f16
DTSTART;VALUE=DATE:20260528
DTEND;VALUE=DATE:20260529
DESCRIPTION:<html><head><meta http-equiv="Content-Type" content="text/html\
 ; charset=utf-8"><meta name="Generator" content="Microsoft Exchange Server
 "><!-- converted from text --><style><!-- .EmailQuote { margin-left: 1pt\;
  padding-left: 4pt\; border-left: #800000 2px solid\; } --></style></head>
 <body><font size="2"><span style="font-size:11pt\;"><div class="PlainText"
 >&nbsp\;</div></span></font></body></html>
LOCATION:
SUMMARY:Final Day for Students
END:VEVENT
BEGIN:VEVENT
DTSTAMP:20260420T040312Z
UID:6c88a0ef-3699-454e-98c7-886e6446a974
DTSTART:20260601T190000
DTEND:20260601T193000
DESCRIPTION:<html><head><meta http-equiv="Content-Type" content="text/html\
 ; charset=utf-8"><meta name="Generator" content="Microsoft Word 15 (filter
 ed medium)"><style><!--@font-face	{font-family:"Cambria Math"}@font-face	{
 font-family:Aptos}p.MsoNormal\, li.MsoNormal\, div.MsoNormal	{margin:0in\;
 	font-size:11.0pt\;	font-family:"Aptos"\,sans-serif}span.EmailStyle17	{fon
 t-family:"Aptos"\,sans-serif\;	color:windowtext}.MsoChpDefault	{font-size:
 11.0pt}@page WordSection1	{margin:1.0in 1.0in 1.0in 1.0in}div.WordSection1
 	{}--></style></head><body lang="EN-US" link="#467886" vlink="#96607D" sty
 le="word-wrap:break-word"><div class="WordSection1"><p class="MsoNormal">&
 nbsp\;</p></div></body></html>
LOCATION:
SUMMARY:BOE Meeting
END:VEVENT
BEGIN:VEVENT
DTSTAMP:20260420T040312Z
UID:5ed777d4-5777-41f5-858e-59be92a7e101
DTSTART;VALUE=DATE:20260602
DTEND;VALUE=DATE:20260603
DESCRIPTION:<html><head><meta http-equiv="Content-Type" content="text/html\
 ; charset=utf-8"><meta name="Generator" content="Microsoft Word 15 (filter
 ed medium)"><style><!--@font-face	{font-family:"Cambria Math"}@font-face	{
 font-family:Aptos}p.MsoNormal\, li.MsoNormal\, div.MsoNormal	{margin:0in\;
 	font-size:11.0pt\;	font-family:"Aptos"\,sans-serif}span.EmailStyle17	{fon
 t-family:"Aptos"\,sans-serif\;	color:windowtext}.MsoChpDefault	{font-size:
 11.0pt}@page WordSection1	{margin:1.0in 1.0in 1.0in 1.0in}div.WordSection1
 	{}--></style></head><body lang="EN-US" link="#467886" vlink="#96607D" sty
 le="word-wrap:break-word"><div class="WordSection1"><p class="MsoNormal">&
 nbsp\;</p></div></body></html>
LOCATION:
SUMMARY:Deadline for Agenda Items
END:VEVENT
BEGIN:VEVENT
DTSTAMP:20260420T040312Z
UID:72faa94b-74ba-4cae-bed6-2c39a49a6207
DTSTART:20260615T190000
DTEND:20260615T193000
DESCRIPTION:<html><head><meta http-equiv="Content-Type" content="text/html\
 ; charset=utf-8"><meta name="Generator" content="Microsoft Word 15 (filter
 ed medium)"><style><!--@font-face	{font-family:"Cambria Math"}@font-face	{
 font-family:Aptos}p.MsoNormal\, li.MsoNormal\, div.MsoNormal	{margin:0in\;
 	font-size:11.0pt\;	font-family:"Aptos"\,sans-serif}span.EmailStyle17	{fon
 t-family:"Aptos"\,sans-serif\;	color:windowtext}.MsoChpDefault	{font-size:
 11.0pt}@page WordSection1	{margin:1.0in 1.0in 1.0in 1.0in}div.WordSection1
 	{}--></style></head><body lang="EN-US" link="#467886" vlink="#96607D" sty
 le="word-wrap:break-word"><div class="WordSection1"><p class="MsoNormal">&
 nbsp\;</p></div></body></html>
LOCATION:
SUMMARY:BOE Meeting
END:VEVENT
END:VCALENDAR
