BEGIN:VCALENDAR
VERSION:2.0
PRODID:icalendar-ruby
CALSCALE:GREGORIAN
BEGIN:VTIMEZONE
TZID:America/Indiana/Indianapolis
BEGIN:DAYLIGHT
DTSTART:20260308T030000
TZOFFSETFROM:-0500
TZOFFSETTO:-0400
RRULE:FREQ=YEARLY;BYDAY=2SU;BYMONTH=3
TZNAME:EDT
END:DAYLIGHT
BEGIN:STANDARD
DTSTART:20261101T010000
TZOFFSETFROM:-0400
TZOFFSETTO:-0500
RRULE:FREQ=YEARLY;BYDAY=1SU;BYMONTH=11
TZNAME:EST
END:STANDARD
END:VTIMEZONE
BEGIN:VEVENT
DTSTAMP:20260419T131129Z
UID:e9426ef0-6c86-4b0a-b878-ba760e446e74
DTSTART:20260512T190000
DTEND:20260512T200000
DESCRIPTION:
LOCATION:211 S 12th St\, Petersburg\, IN 47567\, USA
SUMMARY:School Board Meeting
END:VEVENT
BEGIN:VEVENT
DTSTAMP:20260419T131129Z
UID:6c2242c1-a80b-4b5a-943b-c41d6fc3607a
DTSTART:20260522T080000
DTEND:20260522T153000
DESCRIPTION:
LOCATION:
SUMMARY:Last Day of School
END:VEVENT
BEGIN:VEVENT
DTSTAMP:20260419T131129Z
UID:2e690e2c-1e15-4c75-aaa1-9a5786baa274
DTSTART:20260526T080000
DTEND:20260526T153000
DESCRIPTION:
LOCATION:
SUMMARY:Snow Day - if necessary
END:VEVENT
BEGIN:VEVENT
DTSTAMP:20260419T131129Z
UID:87547fa1-c413-4064-bf4b-d5b64302505c
DTSTART:20260527T080000
DTEND:20260527T153000
DESCRIPTION:
LOCATION:
SUMMARY:Snow Day - if necessary
END:VEVENT
BEGIN:VEVENT
DTSTAMP:20260419T131129Z
UID:35d50a65-47cb-4ae5-b14b-a70ef24641c0
DTSTART:20260528T080000
DTEND:20260528T153000
DESCRIPTION:
LOCATION:
SUMMARY:Snow Day - if necessary
END:VEVENT
BEGIN:VEVENT
DTSTAMP:20260419T131129Z
UID:c1a5ed9a-ac09-49fe-aa18-f6561c77ee2f
DTSTART:20260529T080000
DTEND:20260529T153000
DESCRIPTION:
LOCATION:
SUMMARY:Snow Day - if necessary
END:VEVENT
BEGIN:VEVENT
DTSTAMP:20260419T131129Z
UID:7c86a3ff-404a-46ed-8857-d71a19bd4943
DTSTART:20260529T193000
DTEND:20260529T213000
DESCRIPTION:
LOCATION:
SUMMARY:PCHS Graduation
END:VEVENT
BEGIN:VEVENT
DTSTAMP:20260419T131129Z
UID:ef1128f7-4860-4645-a67f-a57fadb1404d
DTSTART:20260609T190000
DTEND:20260609T200000
DESCRIPTION:
LOCATION:211 S 12th St\, Petersburg\, IN 47567\, USA
SUMMARY:School Board Meeting
END:VEVENT
BEGIN:VEVENT
DTSTAMP:20260419T131129Z
UID:631dae94-1ed7-4561-a19f-a13bdbc57d5f
DTSTART:20260714T190000
DTEND:20260714T200000
DESCRIPTION:
LOCATION:211 S 12th St\, Petersburg\, IN 47567\, USA
SUMMARY:School Board Meeting
END:VEVENT
BEGIN:VEVENT
DTSTAMP:20260419T131129Z
UID:4471d613-416b-444e-b8b4-c1cae88526f9
DTSTART:20260811T190000
DTEND:20260811T200000
DESCRIPTION:
LOCATION:211 S 12th St\, Petersburg\, IN 47567\, USA
SUMMARY:School Board Meeting
END:VEVENT
BEGIN:VEVENT
DTSTAMP:20260419T131129Z
UID:a9256774-6fcf-4460-aa85-bb7d1c2017d8
DTSTART:20260812T080000
DTEND:20260812T153000
DESCRIPTION:
LOCATION:
SUMMARY:First Day of School
END:VEVENT
BEGIN:VEVENT
DTSTAMP:20260419T131129Z
UID:f35b66e1-40e9-48a1-9337-7a9261e6d7da
DTSTART:20260907T080000
DTEND:20260907T153000
DESCRIPTION:
LOCATION:
SUMMARY:Labor Day (No School)
END:VEVENT
BEGIN:VEVENT
DTSTAMP:20260419T131129Z
UID:e536f693-cfbf-46e2-a595-9b401f3bb4ea
DTSTART:20260908T190000
DTEND:20260908T200000
DESCRIPTION:
LOCATION:211 S 12th St\, Petersburg\, IN 47567\, USA
SUMMARY:School Board Meeting
END:VEVENT
BEGIN:VEVENT
DTSTAMP:20260419T131129Z
UID:9cf18a06-90e5-4420-9f4b-8febda31a3f5
DTSTART:20260921T080000
DTEND:20260921T153000
DESCRIPTION:
LOCATION:
SUMMARY:Flex Day (No Students)
END:VEVENT
BEGIN:VEVENT
DTSTAMP:20260419T131129Z
UID:87355a5d-b3b1-41b7-b512-4b7f02fc0b2f
DTSTART:20261013T190000
DTEND:20261013T200000
DESCRIPTION:
LOCATION:211 S 12th St\, Petersburg\, IN 47567\, USA
SUMMARY:School Board Meeting
END:VEVENT
BEGIN:VEVENT
DTSTAMP:20260419T131129Z
UID:91d206d6-96a4-478b-8f4b-dc021e3edd4d
DTSTART:20261014T080000
DTEND:20261014T153000
DESCRIPTION:
LOCATION:
SUMMARY:Parent-Teacher Conferences (No Students)
END:VEVENT
BEGIN:VEVENT
DTSTAMP:20260419T131129Z
UID:c5a05ace-60ad-470a-aa6b-adfbd738006d
DTSTART:20261019T080000
DTEND:20261019T153000
DESCRIPTION:
LOCATION:
SUMMARY:Fall Vacation
END:VEVENT
BEGIN:VEVENT
DTSTAMP:20260419T131129Z
UID:bddb1fb6-ee9c-4e52-a853-ed897c29a646
DTSTART:20261020T080000
DTEND:20261020T153000
DESCRIPTION:
LOCATION:
SUMMARY:Fall Vacation
END:VEVENT
BEGIN:VEVENT
DTSTAMP:20260419T131129Z
UID:6ff7317f-6e69-4962-babb-2955a1e45dd5
DTSTART:20261021T080000
DTEND:20261021T153000
DESCRIPTION:
LOCATION:
SUMMARY:Fall Vacation
END:VEVENT
BEGIN:VEVENT
DTSTAMP:20260419T131129Z
UID:232a991d-d9dc-4b9d-bd39-d48a0c6f9144
DTSTART:20261022T080000
DTEND:20261022T153000
DESCRIPTION:
LOCATION:
SUMMARY:Fall Vacation
END:VEVENT
BEGIN:VEVENT
DTSTAMP:20260419T131129Z
UID:55d0e153-3ae8-4d09-bf95-01bbf9f9697a
DTSTART:20261023T080000
DTEND:20261023T153000
DESCRIPTION:
LOCATION:
SUMMARY:Fall Vacation
END:VEVENT
BEGIN:VEVENT
DTSTAMP:20260419T131129Z
UID:1c74260b-ce9b-4a62-a4e8-0f62443022d9
DTSTART:20261110T190000
DTEND:20261110T200000
DESCRIPTION:
LOCATION:211 S 12th St\, Petersburg\, IN 47567\, USA
SUMMARY:School Board Meeting
END:VEVENT
BEGIN:VEVENT
DTSTAMP:20260419T131129Z
UID:5bc4b213-0c52-45c7-aab0-f7a4eae92eb2
DTSTART:20261125T080000
DTEND:20261125T153000
DESCRIPTION:
LOCATION:
SUMMARY:Thanksgiving Vacation
END:VEVENT
BEGIN:VEVENT
DTSTAMP:20260419T131129Z
UID:118a172a-a137-4a97-b99d-990f63607534
DTSTART:20261126T080000
DTEND:20261126T153000
DESCRIPTION:
LOCATION:
SUMMARY:Thanksgiving Vacation
END:VEVENT
BEGIN:VEVENT
DTSTAMP:20260419T131129Z
UID:66e55a12-26d9-4be8-a16a-e234fe743b0e
DTSTART:20261127T080000
DTEND:20261127T153000
DESCRIPTION:
LOCATION:
SUMMARY:Thanksgiving Vacation
END:VEVENT
BEGIN:VEVENT
DTSTAMP:20260419T131129Z
UID:9ad6100c-06c7-4b8b-a760-d7d03af19759
DTSTART:20261208T190000
DTEND:20261208T200000
DESCRIPTION:
LOCATION:211 S 12th St\, Petersburg\, IN 47567\, USA
SUMMARY:School Board Meeting
END:VEVENT
BEGIN:VEVENT
DTSTAMP:20260419T131129Z
UID:8321b3dd-952f-423e-946d-1d579a883da5
DTSTART:20261218T080000
DTEND:20261218T153000
DESCRIPTION:
LOCATION:
SUMMARY:End of 1st Semester
END:VEVENT
BEGIN:VEVENT
DTSTAMP:20260419T131129Z
UID:a7d1df6b-b23b-432f-b9f4-a5be48de464c
DTSTART:20261221T080000
DTEND:20261221T153000
DESCRIPTION:
LOCATION:
SUMMARY:Christmas Vacation
END:VEVENT
BEGIN:VEVENT
DTSTAMP:20260419T131129Z
UID:3ad7dfb1-759c-4965-93a8-5bb2e1182e75
DTSTART:20261222T080000
DTEND:20261222T153000
DESCRIPTION:
LOCATION:
SUMMARY:Christmas Vacation
END:VEVENT
BEGIN:VEVENT
DTSTAMP:20260419T131129Z
UID:efb845c7-890a-4a37-a178-70b1616c9705
DTSTART:20261223T080000
DTEND:20261223T153000
DESCRIPTION:
LOCATION:
SUMMARY:Christmas Vacation
END:VEVENT
BEGIN:VEVENT
DTSTAMP:20260419T131129Z
UID:6016b7c1-9098-470f-b360-17561e04cc9f
DTSTART:20261224T080000
DTEND:20261224T153000
DESCRIPTION:
LOCATION:
SUMMARY:Christmas Vacation
END:VEVENT
BEGIN:VEVENT
DTSTAMP:20260419T131129Z
UID:9960f440-637a-4a38-9a54-90afa8b182e2
DTSTART:20261225T080000
DTEND:20261225T153000
DESCRIPTION:
LOCATION:
SUMMARY:Christmas Vacation
END:VEVENT
BEGIN:VEVENT
DTSTAMP:20260419T131129Z
UID:c9d7c180-52b3-40f0-be95-199eefc3a095
DTSTART:20261228T080000
DTEND:20261228T153000
DESCRIPTION:
LOCATION:
SUMMARY:Christmas Vacation
END:VEVENT
BEGIN:VEVENT
DTSTAMP:20260419T131129Z
UID:b4bea3be-7b98-4d9e-8fdb-879e2b0e932e
DTSTART:20261229T080000
DTEND:20261229T153000
DESCRIPTION:
LOCATION:
SUMMARY:Christmas Vacation
END:VEVENT
BEGIN:VEVENT
DTSTAMP:20260419T131129Z
UID:18a8b2c6-95df-41f6-b1a7-dc92deb89616
DTSTART:20261230T080000
DTEND:20261230T153000
DESCRIPTION:
LOCATION:
SUMMARY:Christmas Vacation
END:VEVENT
BEGIN:VEVENT
DTSTAMP:20260419T131129Z
UID:42ba5557-1440-4ee9-95c3-90441ddcbd0b
DTSTART:20261231T080000
DTEND:20261231T153000
DESCRIPTION:
LOCATION:
SUMMARY:Christmas Vacation
END:VEVENT
BEGIN:VEVENT
DTSTAMP:20260419T131129Z
UID:93c70423-604e-4805-978e-a3ea15f758c2
DTSTART:20270101T080000
DTEND:20270101T153000
DESCRIPTION:
LOCATION:
SUMMARY:Christmas Vacation
END:VEVENT
BEGIN:VEVENT
DTSTAMP:20260419T131129Z
UID:d06fc706-1907-4548-a472-19f7ba179e0b
DTSTART:20270104T080000
DTEND:20270104T153000
DESCRIPTION:
LOCATION:
SUMMARY:School Resumes
END:VEVENT
BEGIN:VEVENT
DTSTAMP:20260419T131129Z
UID:a57eb1c0-6f2d-4d6f-9c17-509b30e90d13
DTSTART:20270118T080000
DTEND:20270118T153000
DESCRIPTION:
LOCATION:
SUMMARY:Flex Day (No Students)
END:VEVENT
BEGIN:VEVENT
DTSTAMP:20260419T131129Z
UID:e21946f4-94ea-444b-98a5-231a00bff9e6
DTSTART:20270212T080000
DTEND:20270212T153000
DESCRIPTION:
LOCATION:
SUMMARY:Snow Day
END:VEVENT
BEGIN:VEVENT
DTSTAMP:20260419T131129Z
UID:bf04e2b3-efd2-42f8-8ebe-278587467bd9
DTSTART:20270215T080000
DTEND:20270215T153000
DESCRIPTION:
LOCATION:
SUMMARY:President's Day/Snow Day
END:VEVENT
BEGIN:VEVENT
DTSTAMP:20260419T131129Z
UID:524dce23-3473-4ed1-9575-ffaf2499ff20
DTSTART:20270310T080000
DTEND:20270310T153000
DESCRIPTION:
LOCATION:
SUMMARY:Early Release/ Spring Parent Teacher Conferences
END:VEVENT
BEGIN:VEVENT
DTSTAMP:20260419T131129Z
UID:4adf1fa3-3ef2-47ab-87c9-fe51c78a6c03
DTSTART:20270322T080000
DTEND:20270322T153000
DESCRIPTION:
LOCATION:
SUMMARY:Spring Vacation
END:VEVENT
BEGIN:VEVENT
DTSTAMP:20260419T131129Z
UID:e6fa9af3-ce08-45b1-a3b5-0ac314c6fedd
DTSTART:20270323T080000
DTEND:20270323T153000
DESCRIPTION:
LOCATION:
SUMMARY:Spring Vacation
END:VEVENT
BEGIN:VEVENT
DTSTAMP:20260419T131129Z
UID:472cef42-8b2f-4c82-b80d-440b32b25345
DTSTART:20270324T080000
DTEND:20270324T153000
DESCRIPTION:
LOCATION:
SUMMARY:Spring Vacation
END:VEVENT
BEGIN:VEVENT
DTSTAMP:20260419T131129Z
UID:c3c96e09-811e-44c4-a536-701d366dde5c
DTSTART:20270325T080000
DTEND:20270325T153000
DESCRIPTION:
LOCATION:
SUMMARY:Spring Vacation
END:VEVENT
BEGIN:VEVENT
DTSTAMP:20260419T131129Z
UID:9c54de50-fb3f-4653-8d24-993c2fc3e4f0
DTSTART:20270326T080000
DTEND:20270326T153000
DESCRIPTION:
LOCATION:
SUMMARY:Spring Vacation
END:VEVENT
BEGIN:VEVENT
DTSTAMP:20260419T131129Z
UID:9fd53be4-8b88-4f79-96d5-47e7f170063a
DTSTART:20270416T080000
DTEND:20270416T153000
DESCRIPTION:
LOCATION:
SUMMARY:Flex Day (No Students)
END:VEVENT
BEGIN:VEVENT
DTSTAMP:20260419T131129Z
UID:87d5c150-6d70-48bc-b693-b022d299e8fe
DTSTART:20270527T080000
DTEND:20270527T153000
DESCRIPTION:
LOCATION:
SUMMARY:Last Day of School
END:VEVENT
BEGIN:VEVENT
DTSTAMP:20260419T131129Z
UID:a89448ee-66e4-4c40-8541-e2887534fb63
DTSTART:20270528T080000
DTEND:20270528T153000
DESCRIPTION:
LOCATION:
SUMMARY:Graduation (Time announced later)
END:VEVENT
BEGIN:VEVENT
DTSTAMP:20260419T131129Z
UID:07ec1a01-1311-48e5-a6e3-dd326ada10b4
DTSTART:20270528T080000
DTEND:20270528T153000
DESCRIPTION:
LOCATION:
SUMMARY:Snow Day
END:VEVENT
END:VCALENDAR
