BEGIN:VCALENDAR
VERSION:2.0
PRODID:icalendar-ruby
CALSCALE:GREGORIAN
BEGIN:VTIMEZONE
TZID:America/Chicago
BEGIN:DAYLIGHT
DTSTART:20260308T030000
TZOFFSETFROM:-0600
TZOFFSETTO:-0500
RRULE:FREQ=YEARLY;BYDAY=2SU;BYMONTH=3
TZNAME:CDT
END:DAYLIGHT
BEGIN:STANDARD
DTSTART:20261101T010000
TZOFFSETFROM:-0500
TZOFFSETTO:-0600
RRULE:FREQ=YEARLY;BYDAY=1SU;BYMONTH=11
TZNAME:CST
END:STANDARD
END:VTIMEZONE
BEGIN:VEVENT
DTSTAMP:20260422T000620Z
UID:70f53c4d-dde2-42b0-9c4f-a8ebadea4c03
DTSTART:20260502T190000
DTEND:20260502T220000
DESCRIPTION:
LOCATION:
SUMMARY:Prom
END:VEVENT
BEGIN:VEVENT
DTSTAMP:20260422T000620Z
UID:f7a28a07-4a9e-472b-953a-a57934e8fc45
DTSTART:20260506T124500
DTEND:20260506T150000
DESCRIPTION:
LOCATION:
SUMMARY:Early Release Day - Schedule A
END:VEVENT
BEGIN:VEVENT
DTSTAMP:20260422T000620Z
UID:a2e1c1f9-6404-4cd5-8ea4-dcbfe0c0386e
DTSTART:20260510T180000
DTEND:20260510T190000
DESCRIPTION:
LOCATION:208 Central Ave\, Dalton\, MN 56324\, USA
SUMMARY:Baccalaureate Service for the Seniors-Zion Sarpsborg Church
END:VEVENT
BEGIN:VEVENT
DTSTAMP:20260422T000620Z
UID:4d9ad3ab-11de-4555-914d-1b79d0215ffe
DTSTART:20260511T190000
DTEND:20260525T200000
DESCRIPTION:
LOCATION:
SUMMARY:Band Concert - Big Gym
END:VEVENT
BEGIN:VEVENT
DTSTAMP:20260422T000620Z
UID:a6d2badb-a2ce-4b50-9dbf-a4497373b5c7
DTSTART:20260513T190000
DTEND:20260513T200000
DESCRIPTION:
LOCATION:
SUMMARY:Choir concert - Big Gym
END:VEVENT
BEGIN:VEVENT
DTSTAMP:20260422T000620Z
UID:48a3c0b6-a5ab-43af-aa24-803b59c70e11
DTSTART:20260514T133000
DTEND:20260514T143000
DESCRIPTION:
LOCATION:
SUMMARY:Elementary Concert  Gr 1-3  1:30pm\,  Gr 4-6 2pm
END:VEVENT
BEGIN:VEVENT
DTSTAMP:20260422T000620Z
UID:3f4ee07e-b1c1-43b6-a0b5-cbd7f0bdc51c
DTSTART:20260516T140000
DTEND:20260523T150000
DESCRIPTION:
LOCATION:
SUMMARY:Graduation - Big Gym
END:VEVENT
BEGIN:VEVENT
DTSTAMP:20260422T000620Z
UID:2685f8a0-743b-47da-98da-da56f6895e26
DTSTART:20260522T090000
DTEND:20260522T103000
DESCRIPTION:
LOCATION:
SUMMARY:Kindergarten Graduation  -  Big Gym
END:VEVENT
BEGIN:VEVENT
DTSTAMP:20260422T000620Z
UID:ab7d5908-d594-4dd8-a16d-4cb9853c2922
DTSTART:20260522T124500
DTEND:20260522T150000
DESCRIPTION:
LOCATION:
SUMMARY:Last Student Day - Early Release 
END:VEVENT
BEGIN:VEVENT
DTSTAMP:20260422T000620Z
UID:fca5cc8b-6a60-405d-938f-fd1755041ef1
DTSTART:20260525T100000
DTEND:20260525T110000
DESCRIPTION:
LOCATION:
SUMMARY:Memorial Day Program for Community - Big Gym
END:VEVENT
BEGIN:VEVENT
DTSTAMP:20260422T000620Z
UID:b158eab9-6350-4363-952b-ccdcfa6f24a5
DTSTART:20260910T160000
DTEND:20260910T160000
DESCRIPTION:Type: Match  Opponent: Hillcrest Lutheran Academy  
LOCATION:Underwood High School  
SUMMARY:Volleyball: Girls 8th  vs. Hillcrest Lutheran Academy (Home)
END:VEVENT
BEGIN:VEVENT
DTSTAMP:20260422T000620Z
UID:72d274e7-f717-4ec5-9b9d-fd76f5862f3a
DTSTART:20260910T170000
DTEND:20260910T170000
DESCRIPTION:Type: Match  Opponent: Hillcrest Lutheran Academy  
LOCATION:Underwood High School  
SUMMARY:Volleyball: Girls 7th  vs. Hillcrest Lutheran Academy (Home)
END:VEVENT
BEGIN:VEVENT
DTSTAMP:20260422T000620Z
UID:9d3e68ba-b84f-4804-ab3f-6c9da9419897
DTSTART:20260910T170000
DTEND:20260910T170000
DESCRIPTION:Type: Match  Opponent: Hillcrest Lutheran Academy  
LOCATION:Underwood High School  
SUMMARY:Volleyball: Girls C  vs. Hillcrest Lutheran Academy (Home)
END:VEVENT
BEGIN:VEVENT
DTSTAMP:20260422T000620Z
UID:967e3934-2f37-4123-9b56-b5f627732c93
DTSTART:20260910T180000
DTEND:20260910T180000
DESCRIPTION:Type: Match  Opponent: Hillcrest Lutheran Academy  
LOCATION:Underwood High School  
SUMMARY:Volleyball: Girls B  vs. Hillcrest Lutheran Academy (Home)
END:VEVENT
BEGIN:VEVENT
DTSTAMP:20260422T000620Z
UID:efe05e9c-5435-4cc9-ac6a-3bd2a5f3bbac
DTSTART:20260910T191500
DTEND:20260910T191500
DESCRIPTION:Type: Match  Opponent: Hillcrest Lutheran Academy  
LOCATION:Underwood High School  
SUMMARY:Volleyball: Girls Varsity  vs. Hillcrest Lutheran Academy (Home)
END:VEVENT
BEGIN:VEVENT
DTSTAMP:20260422T000620Z
UID:ef46252c-2d58-474c-a43f-cc3b33d4afcb
DTSTART:20260917T160000
DTEND:20260917T160000
DESCRIPTION:Type: Match  Opponent: Ashby  
LOCATION:Underwood High School  
SUMMARY:Volleyball: Girls 8th  vs. Ashby (Home)
END:VEVENT
BEGIN:VEVENT
DTSTAMP:20260422T000620Z
UID:5a3895c7-09b7-4b4e-86b0-a5e15c341a14
DTSTART:20260917T170000
DTEND:20260917T170000
DESCRIPTION:Type: Match  Opponent: Ashby  
LOCATION:Underwood High School  
SUMMARY:Volleyball: Girls 7th  vs. Ashby (Home)
END:VEVENT
BEGIN:VEVENT
DTSTAMP:20260422T000620Z
UID:3c021187-5f21-42ed-9322-0f70558b120a
DTSTART:20260917T170000
DTEND:20260917T170000
DESCRIPTION:Type: Match  Opponent: Ashby  
LOCATION:Underwood High School  
SUMMARY:Volleyball: Girls C  vs. Ashby (Home)
END:VEVENT
BEGIN:VEVENT
DTSTAMP:20260422T000620Z
UID:1f878db2-9f5f-4080-8576-ef7c1f7bca4a
DTSTART:20260917T180000
DTEND:20260917T180000
DESCRIPTION:Type: Match  Opponent: Ashby  
LOCATION:Underwood High School  
SUMMARY:Volleyball: Girls B  vs. Ashby (Home)
END:VEVENT
BEGIN:VEVENT
DTSTAMP:20260422T000620Z
UID:4c700985-6820-43f7-b63e-3509e557224a
DTSTART:20260917T191500
DTEND:20260917T191500
DESCRIPTION:Type: Match  Opponent: Ashby  
LOCATION:Underwood High School  
SUMMARY:Volleyball: Girls Varsity  vs. Ashby (Home)
END:VEVENT
BEGIN:VEVENT
DTSTAMP:20260422T000620Z
UID:fdce44ed-ea60-40a2-a183-0705584edd1f
DTSTART:20260922T073000
DTEND:20260922T104500
DESCRIPTION:
LOCATION:
SUMMARY:Picture Day 2026
END:VEVENT
BEGIN:VEVENT
DTSTAMP:20260422T000620Z
UID:7e467ab0-945c-437d-8f2e-4fe8decf8398
DTSTART:20260924T160000
DTEND:20260924T160000
DESCRIPTION:Type: Match  Opponent: Border West  
LOCATION:Underwood High School  
SUMMARY:Volleyball: Girls 8th  vs. Border West (Home)
END:VEVENT
BEGIN:VEVENT
DTSTAMP:20260422T000620Z
UID:5cb048aa-9369-4982-b92e-5dc471ee0e1f
DTSTART:20260924T170000
DTEND:20260924T170000
DESCRIPTION:Type: Match  Opponent: Border West  
LOCATION:Underwood High School  
SUMMARY:Volleyball: Girls 7th  vs. Border West (Home)
END:VEVENT
BEGIN:VEVENT
DTSTAMP:20260422T000620Z
UID:824fff4d-1cbc-4ed1-bed9-00c717b4bbd3
DTSTART:20260924T170000
DTEND:20260924T170000
DESCRIPTION:Type: Match  Opponent: Border West  
LOCATION:Underwood High School  
SUMMARY:Volleyball: Girls C  vs. Border West (Home)
END:VEVENT
BEGIN:VEVENT
DTSTAMP:20260422T000620Z
UID:93340ffc-3327-496f-8225-c5579f4bf7bc
DTSTART:20260924T180000
DTEND:20260924T180000
DESCRIPTION:Type: Match  Opponent: Border West  
LOCATION:Underwood High School  
SUMMARY:Volleyball: Girls B  vs. Border West (Home)
END:VEVENT
BEGIN:VEVENT
DTSTAMP:20260422T000620Z
UID:c5ad2faf-483b-4e2c-a1a5-16d059b6f4cb
DTSTART:20260924T191500
DTEND:20260924T191500
DESCRIPTION:Type: Match  Opponent: Border West  
LOCATION:Underwood High School  
SUMMARY:Volleyball: Girls Varsity  vs. Border West (Home)
END:VEVENT
BEGIN:VEVENT
DTSTAMP:20260422T000620Z
UID:59245bc9-6389-4882-a048-0f2590a98589
DTSTART:20260929T160000
DTEND:20260929T160000
DESCRIPTION:Type: Match  Opponent: Rothsay  
LOCATION:Rothsay High School  
SUMMARY:Volleyball: Girls 8th  vs. Rothsay (Away)
END:VEVENT
BEGIN:VEVENT
DTSTAMP:20260422T000620Z
UID:ffd0244a-9080-4756-9cc4-69bd38aff629
DTSTART:20260929T170000
DTEND:20260929T170000
DESCRIPTION:Type: Match  Opponent: Rothsay  
LOCATION:Rothsay High School  
SUMMARY:Volleyball: Girls 7th  vs. Rothsay (Away)
END:VEVENT
BEGIN:VEVENT
DTSTAMP:20260422T000620Z
UID:01851f8c-ec90-4ae6-8412-51fd3a49894c
DTSTART:20260929T170000
DTEND:20260929T170000
DESCRIPTION:Type: Match  Opponent: Rothsay  
LOCATION:Rothsay High School  
SUMMARY:Volleyball: Girls C  vs. Rothsay (Away)
END:VEVENT
BEGIN:VEVENT
DTSTAMP:20260422T000620Z
UID:8f5d2a01-a320-4e01-9084-93abd38bd064
DTSTART:20260929T180000
DTEND:20260929T180000
DESCRIPTION:Type: Match  Opponent: Rothsay  
LOCATION:Rothsay High School  
SUMMARY:Volleyball: Girls B  vs. Rothsay (Away)
END:VEVENT
BEGIN:VEVENT
DTSTAMP:20260422T000620Z
UID:97b99fcc-3281-4f78-a8f6-e2eb0ce7c186
DTSTART:20260929T191500
DTEND:20260929T191500
DESCRIPTION:Type: Match  Opponent: Rothsay  
LOCATION:Rothsay High School  
SUMMARY:Volleyball: Girls Varsity  vs. Rothsay (Away)
END:VEVENT
BEGIN:VEVENT
DTSTAMP:20260422T000620Z
UID:94005a96-9273-4d03-a539-7c8e2766b675
DTSTART:20261001T160000
DTEND:20261001T160000
DESCRIPTION:Type: Match  Opponent: Parkers Prairie  
LOCATION:Parkers Prairie High School  
SUMMARY:Volleyball: Girls 8th  vs. Parkers Prairie (Away)
END:VEVENT
BEGIN:VEVENT
DTSTAMP:20260422T000620Z
UID:a95605ba-e635-4834-987e-9e68619f2061
DTSTART:20261001T170000
DTEND:20261001T170000
DESCRIPTION:Type: Match  Opponent: Parkers Prairie  
LOCATION:Parkers Prairie High School  
SUMMARY:Volleyball: Girls 7th  vs. Parkers Prairie (Away)
END:VEVENT
BEGIN:VEVENT
DTSTAMP:20260422T000620Z
UID:a578036b-bc86-4f4b-b40c-0830a22e5869
DTSTART:20261001T170000
DTEND:20261001T170000
DESCRIPTION:Type: Match  Opponent: Parkers Prairie  
LOCATION:Parkers Prairie High School  
SUMMARY:Volleyball: Girls C  vs. Parkers Prairie (Away)
END:VEVENT
BEGIN:VEVENT
DTSTAMP:20260422T000620Z
UID:69acc21f-9ffc-4e06-a1fd-aa8b057c9617
DTSTART:20261001T180000
DTEND:20261001T180000
DESCRIPTION:Type: Match  Opponent: Parkers Prairie  
LOCATION:Parkers Prairie High School  
SUMMARY:Volleyball: Girls B  vs. Parkers Prairie (Away)
END:VEVENT
BEGIN:VEVENT
DTSTAMP:20260422T000620Z
UID:dcc62499-b63d-4950-b5d9-27f77badab43
DTSTART:20261001T191500
DTEND:20261001T191500
DESCRIPTION:Type: Match  Opponent: Parkers Prairie  
LOCATION:Parkers Prairie High School  
SUMMARY:Volleyball: Girls Varsity  vs. Parkers Prairie (Away)
END:VEVENT
BEGIN:VEVENT
DTSTAMP:20260422T000620Z
UID:18563cf9-3e97-4138-99ab-af5231cab765
DTSTART:20261006T160000
DTEND:20261006T180000
DESCRIPTION:Type: Match  Opponent: Battle Lake  
LOCATION:Battle Lake High School  
SUMMARY:Volleyball: Girls 8th  vs. Battle Lake (Away)
END:VEVENT
BEGIN:VEVENT
DTSTAMP:20260422T000620Z
UID:55f5e867-d447-493e-b2af-f12b3e672fb5
DTSTART:20261006T170000
DTEND:20261006T190000
DESCRIPTION:Type: Match  Opponent: Battle Lake  
LOCATION:Battle Lake High School  
SUMMARY:Volleyball: Girls 7th  vs. Battle Lake (Away)
END:VEVENT
BEGIN:VEVENT
DTSTAMP:20260422T000620Z
UID:5d264348-8885-4073-a2d0-4b7416155eaf
DTSTART:20261006T170000
DTEND:20261006T190000
DESCRIPTION:Type: Match  Opponent: Battle Lake  
LOCATION:Battle Lake High School  
SUMMARY:Volleyball: Girls C  vs. Battle Lake (Away)
END:VEVENT
BEGIN:VEVENT
DTSTAMP:20260422T000620Z
UID:b3812b74-33bd-47fc-95b7-cb8e9b794566
DTSTART:20261006T180000
DTEND:20261006T200000
DESCRIPTION:Type: Match  Opponent: Battle Lake  
LOCATION:Battle Lake High School  
SUMMARY:Volleyball: Girls B  vs. Battle Lake (Away)
END:VEVENT
BEGIN:VEVENT
DTSTAMP:20260422T000620Z
UID:c93f84ce-2562-4b60-8f95-6721ecd62d6e
DTSTART:20261006T191500
DTEND:20261006T211500
DESCRIPTION:Type: Match  Opponent: Battle Lake  
LOCATION:Battle Lake High School  
SUMMARY:Volleyball: Girls Varsity  vs. Battle Lake (Away)
END:VEVENT
BEGIN:VEVENT
DTSTAMP:20260422T000620Z
UID:4fe12012-2e6c-400a-9c71-076191be453f
DTSTART:20261008T160000
DTEND:20261008T160000
DESCRIPTION:Type: Match  Opponent: Brandon-Evansville  
LOCATION:Underwood High School  
SUMMARY:Volleyball: Girls 8th  vs. Brandon-Evansville (Home)
END:VEVENT
BEGIN:VEVENT
DTSTAMP:20260422T000620Z
UID:5435fd17-a8dc-40de-8eb6-069ce87965b7
DTSTART:20261008T170000
DTEND:20261008T170000
DESCRIPTION:Type: Match  Opponent: Brandon-Evansville  
LOCATION:Underwood High School  
SUMMARY:Volleyball: Girls 7th  vs. Brandon-Evansville (Home)
END:VEVENT
BEGIN:VEVENT
DTSTAMP:20260422T000620Z
UID:8d10641e-172d-4b37-b4c8-011e1db6bcec
DTSTART:20261008T170000
DTEND:20261008T170000
DESCRIPTION:Type: Match  Opponent: Brandon-Evansville  
LOCATION:Underwood High School  
SUMMARY:Volleyball: Girls C  vs. Brandon-Evansville (Home)
END:VEVENT
BEGIN:VEVENT
DTSTAMP:20260422T000620Z
UID:191ecf77-3bf1-48f1-bc2d-89667305e10d
DTSTART:20261008T180000
DTEND:20261008T180000
DESCRIPTION:Type: Match  Opponent: Brandon-Evansville  
LOCATION:Underwood High School  
SUMMARY:Volleyball: Girls B  vs. Brandon-Evansville (Home)
END:VEVENT
BEGIN:VEVENT
DTSTAMP:20260422T000620Z
UID:c329e9c0-dc32-4290-88f8-5dfb7a1c366e
DTSTART:20261008T191500
DTEND:20261008T191500
DESCRIPTION:Type: Match  Opponent: Brandon-Evansville  
LOCATION:Underwood High School  
SUMMARY:Volleyball: Girls Varsity  vs. Brandon-Evansville (Home)
END:VEVENT
BEGIN:VEVENT
DTSTAMP:20260422T000620Z
UID:dd0595fc-6e27-4511-a896-e79293596e96
DTSTART:20261013T160000
DTEND:20261013T173000
DESCRIPTION:Type: Match  Opponent: Hancock  
LOCATION:Hancock High School  
SUMMARY:Volleyball: Girls 8th  vs. Hancock (Away)
END:VEVENT
BEGIN:VEVENT
DTSTAMP:20260422T000620Z
UID:8b17d3dd-e9e1-4ec9-bba9-4e7ee49d9ec0
DTSTART:20261013T170000
DTEND:20261013T183000
DESCRIPTION:Type: Match  Opponent: Hancock  
LOCATION:Hancock High School  
SUMMARY:Volleyball: Girls 7th  vs. Hancock (Away)
END:VEVENT
BEGIN:VEVENT
DTSTAMP:20260422T000620Z
UID:7ae7ee4a-83a0-44ee-8453-4c207a71be0b
DTSTART:20261013T170000
DTEND:20261013T183000
DESCRIPTION:Type: Match  Opponent: Hancock  
LOCATION:Hancock High School  
SUMMARY:Volleyball: Girls C  vs. Hancock (Away)
END:VEVENT
BEGIN:VEVENT
DTSTAMP:20260422T000620Z
UID:c2529ff3-5f6a-45b0-bd92-1da53073edc0
DTSTART:20261013T180000
DTEND:20261013T193000
DESCRIPTION:Type: Match  Opponent: Hancock  
LOCATION:Hancock High School  
SUMMARY:Volleyball: Girls B  vs. Hancock (Away)
END:VEVENT
BEGIN:VEVENT
DTSTAMP:20260422T000620Z
UID:6508e8c1-31ab-449b-a398-d9b35fec843e
DTSTART:20261013T191500
DTEND:20261013T204500
DESCRIPTION:Type: Match  Opponent: Hancock  
LOCATION:Hancock High School  
SUMMARY:Volleyball: Girls Varsity  vs. Hancock (Away)
END:VEVENT
BEGIN:VEVENT
DTSTAMP:20260422T000620Z
UID:607cab67-8203-4518-a17a-bc202d6441c6
DTSTART:20261117T080000
DTEND:20261117T103000
DESCRIPTION:
LOCATION:
SUMMARY:Picture Retake Day
END:VEVENT
END:VCALENDAR
