BEGIN:VCALENDAR
VERSION:2.0
PRODID:icalendar-ruby
CALSCALE:GREGORIAN
BEGIN:VTIMEZONE
TZID:America/Chicago
BEGIN:DAYLIGHT
DTSTART:20260308T030000
TZOFFSETFROM:-0600
TZOFFSETTO:-0500
RRULE:FREQ=YEARLY;BYDAY=2SU;BYMONTH=3
TZNAME:CDT
END:DAYLIGHT
BEGIN:STANDARD
DTSTART:20261101T010000
TZOFFSETFROM:-0500
TZOFFSETTO:-0600
RRULE:FREQ=YEARLY;BYDAY=1SU;BYMONTH=11
TZNAME:CST
END:STANDARD
END:VTIMEZONE
BEGIN:VEVENT
DTSTAMP:20260423T145530Z
UID:d1aefc60-d7aa-4a86-bc53-3cf6a6ca0c82
DTSTART:20260424T082000
DTEND:20260424T140000
DESCRIPTION:
LOCATION:
SUMMARY:2 pm dismissal
END:VEVENT
BEGIN:VEVENT
DTSTAMP:20260423T145530Z
UID:ba71c14e-6f3b-4300-b10c-4ca586281a4d
DTSTART:20260425T100000
DTEND:20260425T150000
DESCRIPTION:
LOCATION:
SUMMARY:HS Track @ Platte - 10:00
END:VEVENT
BEGIN:VEVENT
DTSTAMP:20260423T145530Z
UID:3210119e-dd32-444e-85ef-2ecb9d4c8737
DTSTART:20260427T100000
DTEND:20260427T163000
DESCRIPTION:
LOCATION:
SUMMARY:JH Track - GPC @ Burke - 10:00
END:VEVENT
BEGIN:VEVENT
DTSTAMP:20260423T145530Z
UID:08e1e5fb-ea8c-4a7f-a651-4585bb88d226
DTSTART:20260428T100000
DTEND:20260428T163000
DESCRIPTION:
LOCATION:
SUMMARY:HS Track - GPC @ Alcester-Hudson - 10:00
END:VEVENT
BEGIN:VEVENT
DTSTAMP:20260423T145530Z
UID:5cf1799b-f43d-4721-a0a5-0cc03233e0e0
DTSTART;VALUE=DATE:20260429
DTEND;VALUE=DATE:20260430
DESCRIPTION:
LOCATION:
SUMMARY:5th- 8th Instrumental Contest @ Platte 
END:VEVENT
BEGIN:VEVENT
DTSTAMP:20260423T145530Z
UID:20c0999d-b665-486e-9ce0-36e62757d656
DTSTART:20260501T133000
DTEND:20260501T143000
DESCRIPTION:
LOCATION:
SUMMARY:All School Plays- 1:30 pm & 7 pm performances- Open to the Public
END:VEVENT
BEGIN:VEVENT
DTSTAMP:20260423T145530Z
UID:2271726f-7705-4bbc-b968-9ebe7e97a812
DTSTART:20260504T183000
DTEND:20260504T213000
DESCRIPTION:
LOCATION:
SUMMARY:Athletic Banquet @ 6:30 pm- Armour Gym
END:VEVENT
BEGIN:VEVENT
DTSTAMP:20260423T145530Z
UID:c1fbdda4-489d-41f1-bb0f-c9f6bf2e9b0c
DTSTART:20260505T130000
DTEND:20260505T173000
DESCRIPTION:
LOCATION:
SUMMARY:HS Track - LMVC @ AC 1:00 / 3:00
END:VEVENT
BEGIN:VEVENT
DTSTAMP:20260423T145530Z
UID:73e9e069-f4f6-4277-adac-597e677cabb6
DTSTART:20260507T190000
DTEND:20260507T200000
DESCRIPTION:
LOCATION:
SUMMARY:HS Spring Concert @ 7 pm
END:VEVENT
BEGIN:VEVENT
DTSTAMP:20260423T145530Z
UID:ad7853e4-8da5-41c2-9614-b010d8ae9b1b
DTSTART:20260509T100000
DTEND:20260509T150000
DESCRIPTION:
LOCATION:
SUMMARY:HS Track @ AC - 10:00
END:VEVENT
BEGIN:VEVENT
DTSTAMP:20260423T145530Z
UID:3528a1e0-162a-43f1-a779-86af155c1f9f
DTSTART:20260511T080000
DTEND:20260511T090000
DESCRIPTION:
LOCATION:
SUMMARY:Elementary Field Day
END:VEVENT
BEGIN:VEVENT
DTSTAMP:20260423T145530Z
UID:80480509-f966-4759-b905-aaebc6b5f634
DTSTART:20260511T183000
DTEND:20260511T210000
DESCRIPTION:
LOCATION:
SUMMARY:NHS Ceremony & HS Awards Night @ 6:30 pm
END:VEVENT
BEGIN:VEVENT
DTSTAMP:20260423T145530Z
UID:e8787f81-9241-4277-8383-c96aa933391e
DTSTART:20260511T190000
DTEND:20260511T203000
DESCRIPTION:<html><head><meta http-equiv="Content-Type" content="text/html\
 ; charset=utf-8"></head><body><div class="elementToProof" style="font-fami
 ly:Aptos\,Aptos_EmbeddedFont\,Aptos_MSFontService\,Calibri\,Helvetica\,san
 s-serif\; font-size:12pt\; color:rgb(0\,0\,0)">Meet in the Meeting Room ac
 ross from main floor HS office</div></body></html>
LOCATION:
SUMMARY:ASD School Board Monthly Meeting
END:VEVENT
BEGIN:VEVENT
DTSTAMP:20260423T145530Z
UID:74fe5e50-ea91-475f-bdc6-2f4b54a3f6a7
DTSTART:20260512T080000
DTEND:20260512T090000
DESCRIPTION:<html><head><meta http-equiv="Content-Type" content="text/html\
 ; charset=utf-8"></head><body><p>Grades K-5th from 1:00- 3:00</p></body></
 html>
LOCATION:
SUMMARY:Family Celebration @ Lions Park - K-5th Grade
END:VEVENT
BEGIN:VEVENT
DTSTAMP:20260423T145530Z
UID:402eb4b2-2bf5-4cb1-b186-56cc5183b1c6
DTSTART:20260512T100000
DTEND:20260512T183000
DESCRIPTION:
LOCATION:
SUMMARY:HS Track - Ft. Randall @ AC also JH - 10:00
END:VEVENT
BEGIN:VEVENT
DTSTAMP:20260423T145530Z
UID:5f085984-97b4-44ed-8a9d-2bd30b729892
DTSTART:20260513T080000
DTEND:20260513T090000
DESCRIPTION:
LOCATION:
SUMMARY:Senior Venture Presentations @ the Fire Hall
END:VEVENT
BEGIN:VEVENT
DTSTAMP:20260423T145530Z
UID:03f886e0-65eb-4fff-b744-ad299b1e21b2
DTSTART:20260514T100000
DTEND:20260514T170000
DESCRIPTION:
LOCATION:
SUMMARY:HS Track @ Kimball - 10:00
END:VEVENT
BEGIN:VEVENT
DTSTAMP:20260423T145530Z
UID:b0ab6c76-5caf-4a22-ac4f-ab0a10ee94c6
DTSTART:20260515T082000
DTEND:20260515T123000
DESCRIPTION:
LOCATION:
SUMMARY:Last Day of School- 12:30 pm Dismissal
END:VEVENT
BEGIN:VEVENT
DTSTAMP:20260423T145530Z
UID:12f89244-19e4-4cfe-aeb1-722dd7dfd285
DTSTART:20260516T160000
DTEND:20260516T173000
DESCRIPTION:
LOCATION:
SUMMARY:Graduation Ceremony  @ 4 pm
END:VEVENT
BEGIN:VEVENT
DTSTAMP:20260423T145530Z
UID:bc2ccd32-14aa-447e-82f0-ac7cb3c288d6
DTSTART:20260518T120000
DTEND:20260518T180000
DESCRIPTION:
LOCATION:
SUMMARY:Burnell Glanzer Relays
END:VEVENT
BEGIN:VEVENT
DTSTAMP:20260423T145530Z
UID:c3ff6884-1f41-4764-a648-07be29d3b067
DTSTART:20260521T103000
DTEND:20260521T183000
DESCRIPTION:
LOCATION:
SUMMARY:HS Track - Regions @ Avon - 10:30 / 12:30
END:VEVENT
BEGIN:VEVENT
DTSTAMP:20260423T145530Z
UID:3625153f-d8e9-46d2-a1f2-11a8330ad7c6
DTSTART:20260608T190000
DTEND:20260608T203000
DESCRIPTION:<html><head><meta http-equiv="Content-Type" content="text/html\
 ; charset=utf-8"><meta name="Generator" content="Microsoft Exchange Server
 "><!-- converted from text --><style><!-- .EmailQuote { margin-left: 1pt\;
  padding-left: 4pt\; border-left: #800000 2px solid\; } --></style></head>
 <body><font size="2"><span style="font-size:11pt\;"><div class="PlainText"
 >&nbsp\;</div></span></font></body></html>
LOCATION:
SUMMARY:ASD School Board Monthly Meeting
END:VEVENT
BEGIN:VEVENT
DTSTAMP:20260423T145530Z
UID:fb0aad12-cb4f-4cd6-b67f-4782c07bd976
DTSTART:20260713T190000
DTEND:20260713T203000
DESCRIPTION:<html><head><meta http-equiv="Content-Type" content="text/html\
 ; charset=utf-8"><meta name="Generator" content="Microsoft Exchange Server
 "><!-- converted from text --><style><!-- .EmailQuote { margin-left: 1pt\;
  padding-left: 4pt\; border-left: #800000 2px solid\; } --></style></head>
 <body><font size="2"><span style="font-size:11pt\;"><div class="PlainText"
 >&nbsp\;</div></span></font></body></html>
LOCATION:
SUMMARY:ASD School Board Monthly Meeting
END:VEVENT
BEGIN:VEVENT
DTSTAMP:20260423T145530Z
UID:a56dc20b-a01c-4013-887b-35c641084309
DTSTART:20260821T190000
DTEND:20260821T210000
DESCRIPTION:
LOCATION:
SUMMARY:FB @ Platte - 7:00 pm
END:VEVENT
BEGIN:VEVENT
DTSTAMP:20260423T145530Z
UID:cf6454fa-98b1-48e3-aa91-a162c0c49fc8
DTSTART:20260827T181500
DTEND:20260827T211500
DESCRIPTION:
LOCATION:
SUMMARY:VB vs. Gregory @ Armour - JV @ 6:15
END:VEVENT
BEGIN:VEVENT
DTSTAMP:20260423T145530Z
UID:cc0ec2d2-ecbb-42a1-8f1a-e94073aa2afa
DTSTART:20260828T190000
DTEND:20260828T210000
DESCRIPTION:
LOCATION:
SUMMARY:FB vs Scotland/Menno @ Lake Andes (HC)- 7 pm
END:VEVENT
BEGIN:VEVENT
DTSTAMP:20260423T145530Z
UID:aef2c887-fa44-45ef-9557-0f72f487f900
DTSTART:20260831T160000
DTEND:20260831T183000
DESCRIPTION:
LOCATION:Menno\, SD 57045\, USA
SUMMARY:JH FB @ Lake Andes vs. Scotland/Menno - 4:00/5:15
END:VEVENT
BEGIN:VEVENT
DTSTAMP:20260423T145530Z
UID:f20c0cd0-ac7b-4d78-9776-14abf6182fc5
DTSTART:20260901T143000
DTEND:20260901T163000
DESCRIPTION:
LOCATION:
SUMMARY:XC @ Gregory @ 2:30 pm
END:VEVENT
BEGIN:VEVENT
DTSTAMP:20260423T145530Z
UID:aed828cc-9b54-45d9-a5ef-6c517f10b59b
DTSTART:20260908T160000
DTEND:20260908T183000
DESCRIPTION:
LOCATION:120 S Napoleon Ave\, Corsica\, SD 57328\, USA
SUMMARY:JH FB @ Corsica - (4:00/5:15)
END:VEVENT
BEGIN:VEVENT
DTSTAMP:20260423T145530Z
UID:4e98b55c-4bef-464d-8d7c-767c5dd653aa
DTSTART:20260908T160000
DTEND:20260908T180000
DESCRIPTION:
LOCATION:
SUMMARY:XC @ Scotland @ 4 pm
END:VEVENT
BEGIN:VEVENT
DTSTAMP:20260423T145530Z
UID:f243bd09-2f94-4c8e-9ae6-b68b1c40c78b
DTSTART:20260914T143000
DTEND:20260914T160000
DESCRIPTION:
LOCATION:
SUMMARY:XC @ Wagner @ 2:30 pm
END:VEVENT
BEGIN:VEVENT
DTSTAMP:20260423T145530Z
UID:43e27044-5999-4843-a7a2-f721e7735453
DTSTART:20260916T130000
DTEND:20260916T153000
DESCRIPTION:
LOCATION:
SUMMARY:XC @ Freeman @ 1:00 pm
END:VEVENT
BEGIN:VEVENT
DTSTAMP:20260423T145530Z
UID:caab7083-9d3c-4df5-a45c-3c1c5622bc92
DTSTART:20260921T140000
DTEND:20260921T150000
DESCRIPTION:
LOCATION:
SUMMARY:XC @ Bon Homme @ 2 pm
END:VEVENT
BEGIN:VEVENT
DTSTAMP:20260423T145530Z
UID:e0759767-f94f-4b16-8a17-1138c18d229f
DTSTART:20260923T140000
DTEND:20260923T163000
DESCRIPTION:
LOCATION:
SUMMARY:XC @ MVP @ 2 pm
END:VEVENT
BEGIN:VEVENT
DTSTAMP:20260423T145530Z
UID:03ea873f-ab10-452c-bc2c-f5ee031325e7
DTSTART:20260926T100000
DTEND:20260926T120000
DESCRIPTION:
LOCATION:
SUMMARY:XC @ Platte @ 10 am
END:VEVENT
BEGIN:VEVENT
DTSTAMP:20260423T145530Z
UID:9df8c262-823f-4177-b911-4661d59dde76
DTSTART:20261001T150000
DTEND:20261001T173000
DESCRIPTION:
LOCATION:
SUMMARY:XC @ GPC  @ Burke- 3 pm
END:VEVENT
BEGIN:VEVENT
DTSTAMP:20260423T145530Z
UID:b685f422-4aa0-48f6-8a36-496bb6b718a3
DTSTART:20261008T161500
DTEND:20261008T181500
DESCRIPTION:
LOCATION:
SUMMARY:XC @ Parkston @ 4:15 pm
END:VEVENT
BEGIN:VEVENT
DTSTAMP:20260423T145530Z
UID:efd79ab8-665d-44de-bf97-02c302ee0266
DTSTART:20261014T130000
DTEND:20261014T150000
DESCRIPTION:
LOCATION:
SUMMARY:XC Region Meet @ Scotland- 1 pm
END:VEVENT
BEGIN:VEVENT
DTSTAMP:20260423T145530Z
UID:bc28b6c7-0029-4217-abc5-35d528ee0e44
DTSTART;VALUE=DATE:20261024
DTEND;VALUE=DATE:20261025
DESCRIPTION:
LOCATION:
SUMMARY:XC State Meet @ Rapid City
END:VEVENT
END:VCALENDAR
