BEGIN:VCALENDAR
VERSION:2.0
PRODID:icalendar-ruby
CALSCALE:GREGORIAN
BEGIN:VTIMEZONE
TZID:America/Chicago
BEGIN:DAYLIGHT
DTSTART:20260308T030000
TZOFFSETFROM:-0600
TZOFFSETTO:-0500
RRULE:FREQ=YEARLY;BYDAY=2SU;BYMONTH=3
TZNAME:CDT
END:DAYLIGHT
BEGIN:STANDARD
DTSTART:20261101T010000
TZOFFSETFROM:-0500
TZOFFSETTO:-0600
RRULE:FREQ=YEARLY;BYDAY=1SU;BYMONTH=11
TZNAME:CST
END:STANDARD
END:VTIMEZONE
BEGIN:VEVENT
DTSTAMP:20260420T141412Z
UID:1c2b19dd-1ea0-4f11-90b8-638fb361ed99
DTSTART;VALUE=DATE:20260501
DTEND;VALUE=DATE:20260502
DESCRIPTION:
LOCATION:
SUMMARY:Early Dismissal- School Improvement Dismiss @ 11:10
END:VEVENT
BEGIN:VEVENT
DTSTAMP:20260420T141412Z
UID:21916f2c-81d7-47dd-b1f0-b110c92728c6
DTSTART;VALUE=DATE:20260521
DTEND;VALUE=DATE:20260522
DESCRIPTION:
LOCATION:
SUMMARY:Early Dismissal- Last Day of Student Attendance Dismiss @ 2PM
END:VEVENT
BEGIN:VEVENT
DTSTAMP:20260420T141412Z
UID:cd111e4d-9d65-460c-b7e6-45b84b50b250
DTSTART;VALUE=DATE:20260522
DTEND;VALUE=DATE:20260523
DESCRIPTION:
LOCATION:
SUMMARY:No School- Teacher Institute Day
END:VEVENT
BEGIN:VEVENT
DTSTAMP:20260420T141412Z
UID:fef6ed18-ade5-496b-910c-39c8cdedeb84
DTSTART;VALUE=DATE:20260810
DTEND;VALUE=DATE:20260811
DESCRIPTION:<p>No Student Attendance</p>
LOCATION:
SUMMARY:Teacher Institute Day
END:VEVENT
BEGIN:VEVENT
DTSTAMP:20260420T141412Z
UID:0ed5930c-9bd5-4e36-9ce8-c1d73e457c75
DTSTART;VALUE=DATE:20260811
DTEND;VALUE=DATE:20260812
DESCRIPTION:<p>No Student Attendance</p>
LOCATION:
SUMMARY:Teacher Institute Day
END:VEVENT
BEGIN:VEVENT
DTSTAMP:20260420T141412Z
UID:f1fba8de-d36d-47ca-b211-a283793cae62
DTSTART;VALUE=DATE:20260812
DTEND;VALUE=DATE:20260813
DESCRIPTION:
LOCATION:
SUMMARY:First Day of Student Attendance
END:VEVENT
BEGIN:VEVENT
DTSTAMP:20260420T141412Z
UID:22e0a52e-aff9-48e1-829b-e364d89de779
DTSTART;VALUE=DATE:20260907
DTEND;VALUE=DATE:20260908
DESCRIPTION:
LOCATION:
SUMMARY:Labor Day - No School
END:VEVENT
BEGIN:VEVENT
DTSTAMP:20260420T141412Z
UID:282768ae-0796-4bcf-a27a-0015aba0ee5e
DTSTART;VALUE=DATE:20260916
DTEND;VALUE=DATE:20260917
DESCRIPTION:
LOCATION:
SUMMARY:School Improvement- Dismiss @ 12:10PM
END:VEVENT
BEGIN:VEVENT
DTSTAMP:20260420T141412Z
UID:0dddcaa3-f46d-41d1-a9eb-a28dfc019ded
DTSTART;VALUE=DATE:20261012
DTEND;VALUE=DATE:20261013
DESCRIPTION:
LOCATION:
SUMMARY:Columbus Day- No School
END:VEVENT
BEGIN:VEVENT
DTSTAMP:20260420T141412Z
UID:edc00aae-bd1a-4181-b08a-7e0283052246
DTSTART:20261020T153000
DTEND:20261020T190000
DESCRIPTION:
LOCATION:
SUMMARY:P/T Conferences
END:VEVENT
BEGIN:VEVENT
DTSTAMP:20260420T141412Z
UID:d953d040-7eb7-43a9-bf1b-67a4e15c1531
DTSTART;VALUE=DATE:20261022
DTEND;VALUE=DATE:20261023
DESCRIPTION:
LOCATION:
SUMMARY:School Improvement- Dismiss @ 12:10PM
END:VEVENT
BEGIN:VEVENT
DTSTAMP:20260420T141412Z
UID:015ef810-d3c1-4486-b11b-33650f859bb2
DTSTART:20261022T153000
DTEND:20261022T190000
DESCRIPTION:
LOCATION:
SUMMARY:P/T Conferences
END:VEVENT
BEGIN:VEVENT
DTSTAMP:20260420T141412Z
UID:2a2a4d13-3941-441e-8062-399e739e6e10
DTSTART;VALUE=DATE:20261023
DTEND;VALUE=DATE:20261024
DESCRIPTION:
LOCATION:
SUMMARY:No School
END:VEVENT
BEGIN:VEVENT
DTSTAMP:20260420T141412Z
UID:e00a53f5-1ec3-44bd-8fb7-5d7f4815abd9
DTSTART;VALUE=DATE:20261111
DTEND;VALUE=DATE:20261112
DESCRIPTION:
LOCATION:
SUMMARY:Veterans Day- No School
END:VEVENT
BEGIN:VEVENT
DTSTAMP:20260420T141412Z
UID:db3e61af-52e1-4ab6-928c-0f946eace723
DTSTART;VALUE=DATE:20261124
DTEND;VALUE=DATE:20261125
DESCRIPTION:
LOCATION:
SUMMARY:Thanksgiving Vacation- Dismiss @ 2PM
END:VEVENT
BEGIN:VEVENT
DTSTAMP:20260420T141412Z
UID:37786599-0054-4c12-b32f-c134134c97b0
DTSTART;VALUE=DATE:20261125
DTEND;VALUE=DATE:20261128
DESCRIPTION:
LOCATION:
SUMMARY:Thanksgiving Vacation
END:VEVENT
BEGIN:VEVENT
DTSTAMP:20260420T141412Z
UID:d53477fb-ef44-4f13-bb9a-b1e7b0763011
DTSTART;VALUE=DATE:20261222
DTEND;VALUE=DATE:20261223
DESCRIPTION:
LOCATION:
SUMMARY:Winter Vacation- Dismiss @ 2PM
END:VEVENT
BEGIN:VEVENT
DTSTAMP:20260420T141412Z
UID:232b6e0e-acad-42dd-88e8-268d48521bb0
DTSTART;VALUE=DATE:20261223
DTEND;VALUE=DATE:20270105
DESCRIPTION:
LOCATION:
SUMMARY:Winter Vacation
END:VEVENT
BEGIN:VEVENT
DTSTAMP:20260420T141412Z
UID:1f207fb1-dd5e-4aa3-8997-c98bc009ac0d
DTSTART;VALUE=DATE:20270104
DTEND;VALUE=DATE:20270105
DESCRIPTION:<p>No Student Attendance</p>
LOCATION:
SUMMARY:Teacher Institute Day
END:VEVENT
BEGIN:VEVENT
DTSTAMP:20260420T141412Z
UID:53cd13a6-0cc0-4d2f-8792-6fcd2d792660
DTSTART;VALUE=DATE:20270105
DTEND;VALUE=DATE:20270106
DESCRIPTION:
LOCATION:
SUMMARY:School Resumes for Students
END:VEVENT
BEGIN:VEVENT
DTSTAMP:20260420T141412Z
UID:8d67b13c-d672-454e-a675-6fa48ac5d1b4
DTSTART;VALUE=DATE:20270118
DTEND;VALUE=DATE:20270119
DESCRIPTION:
LOCATION:
SUMMARY:Martin Luther King\, Jr. Day
END:VEVENT
BEGIN:VEVENT
DTSTAMP:20260420T141412Z
UID:327da47f-6bdf-4739-8a62-735ecbf7760f
DTSTART:20270209T153000
DTEND:20270209T190000
DESCRIPTION:
LOCATION:
SUMMARY:P/T Conferences
END:VEVENT
BEGIN:VEVENT
DTSTAMP:20260420T141412Z
UID:e06a8dd0-5efc-44ed-8818-f86b887d7d25
DTSTART;VALUE=DATE:20270211
DTEND;VALUE=DATE:20270212
DESCRIPTION:
LOCATION:
SUMMARY:School Improvement- Dismiss @ 12:10PM
END:VEVENT
BEGIN:VEVENT
DTSTAMP:20260420T141412Z
UID:c04a2bec-546f-4013-96d5-8ddb1accc23d
DTSTART:20270211T153000
DTEND:20270211T190000
DESCRIPTION:
LOCATION:
SUMMARY:P/T Conferences
END:VEVENT
BEGIN:VEVENT
DTSTAMP:20260420T141412Z
UID:80d440d3-3625-4c62-a9af-71a351548a1f
DTSTART;VALUE=DATE:20270212
DTEND;VALUE=DATE:20270213
DESCRIPTION:
LOCATION:
SUMMARY:Lincoln's Birthday- No School
END:VEVENT
BEGIN:VEVENT
DTSTAMP:20260420T141412Z
UID:f11eae0d-9cb8-457a-8103-440c94e317c8
DTSTART;VALUE=DATE:20270215
DTEND;VALUE=DATE:20270216
DESCRIPTION:
LOCATION:
SUMMARY:No School
END:VEVENT
BEGIN:VEVENT
DTSTAMP:20260420T141412Z
UID:a1e87fdb-5720-4a1d-a921-f36327cb64ee
DTSTART;VALUE=DATE:20270301
DTEND;VALUE=DATE:20270302
DESCRIPTION:
LOCATION:
SUMMARY:Casimir Pulaski Day- No School
END:VEVENT
BEGIN:VEVENT
DTSTAMP:20260420T141412Z
UID:78bc3d38-4197-473d-9f5f-2283d9641e00
DTSTART;VALUE=DATE:20270325
DTEND;VALUE=DATE:20270326
DESCRIPTION:
LOCATION:
SUMMARY:Easter Vacation- Dismiss @ 2:10PM
END:VEVENT
BEGIN:VEVENT
DTSTAMP:20260420T141412Z
UID:7b436e88-820d-420e-91bd-f508d6b31f91
DTSTART;VALUE=DATE:20270326
DTEND;VALUE=DATE:20270330
DESCRIPTION:
LOCATION:
SUMMARY:Easter Vacation
END:VEVENT
BEGIN:VEVENT
DTSTAMP:20260420T141412Z
UID:3a065d98-9152-42d4-ba1d-02578f858e2c
DTSTART;VALUE=DATE:20270416
DTEND;VALUE=DATE:20270417
DESCRIPTION:
LOCATION:
SUMMARY:No School
END:VEVENT
BEGIN:VEVENT
DTSTAMP:20260420T141412Z
UID:f04287a1-90c2-4169-a2c0-6275ed631896
DTSTART;VALUE=DATE:20270428
DTEND;VALUE=DATE:20270429
DESCRIPTION:
LOCATION:
SUMMARY:School Improvement- Dismiss @ 12:10PM
END:VEVENT
BEGIN:VEVENT
DTSTAMP:20260420T141412Z
UID:2548db7b-10c6-4443-842c-f0f4fcab12fe
DTSTART;VALUE=DATE:20270520
DTEND;VALUE=DATE:20270521
DESCRIPTION:
LOCATION:
SUMMARY:Last Day of Student Attendance- Dismiss @  2:10PM
END:VEVENT
BEGIN:VEVENT
DTSTAMP:20260420T141412Z
UID:bf39019b-c4b3-403a-a765-71b20c1b28f2
DTSTART;VALUE=DATE:20270521
DTEND;VALUE=DATE:20270522
DESCRIPTION:<p>No student attendance</p>
LOCATION:
SUMMARY:Teacher Institute Day
END:VEVENT
END:VCALENDAR
