BEGIN:VCALENDAR
VERSION:2.0
PRODID:icalendar-ruby
CALSCALE:GREGORIAN
BEGIN:VTIMEZONE
TZID:America/New_York
BEGIN:DAYLIGHT
DTSTART:20260308T030000
TZOFFSETFROM:-0500
TZOFFSETTO:-0400
RRULE:FREQ=YEARLY;BYDAY=2SU;BYMONTH=3
TZNAME:EDT
END:DAYLIGHT
BEGIN:STANDARD
DTSTART:20261101T010000
TZOFFSETFROM:-0400
TZOFFSETTO:-0500
RRULE:FREQ=YEARLY;BYDAY=1SU;BYMONTH=11
TZNAME:EST
END:STANDARD
END:VTIMEZONE
BEGIN:VEVENT
DTSTAMP:20260421T214423Z
UID:d9c939ba-cf97-4394-921a-9120d1ea22c3
DTSTART;VALUE=DATE:20260422
DTEND;VALUE=DATE:20260423
DESCRIPTION:
LOCATION:
SUMMARY:Earth Day
END:VEVENT
BEGIN:VEVENT
DTSTAMP:20260421T214423Z
UID:3da7a6ec-3e7d-4f95-9cbf-61a266f79fb5
DTSTART;VALUE=DATE:20260424
DTEND;VALUE=DATE:20260425
DESCRIPTION:
LOCATION:
SUMMARY:Administrative Professionals (Secretary's) Day
END:VEVENT
BEGIN:VEVENT
DTSTAMP:20260421T214423Z
UID:b11b79dc-0acd-44b3-b8ed-b5497baedbe1
DTSTART;VALUE=DATE:20260501
DTEND;VALUE=DATE:20260502
DESCRIPTION:
LOCATION:
SUMMARY:National Principal's Appreciation Day
END:VEVENT
BEGIN:VEVENT
DTSTAMP:20260421T214423Z
UID:de6cf216-9da8-4aaf-9e77-3902af10fb08
DTSTART;VALUE=DATE:20260504
DTEND;VALUE=DATE:20260505
DESCRIPTION:
LOCATION:
SUMMARY:School Lunch Hero Day
END:VEVENT
BEGIN:VEVENT
DTSTAMP:20260421T214423Z
UID:c6fa9cb1-ff97-4e98-aa33-51761600a0f9
DTSTART:20260504T170000
DTEND:20260504T180000
DESCRIPTION:
LOCATION:MCHS Media Center
SUMMARY:MCSD Board Meeting
END:VEVENT
BEGIN:VEVENT
DTSTAMP:20260421T214423Z
UID:15fd5472-d258-4f56-9c7f-b2696ba18d5c
DTSTART:20260506T080000
DTEND:20260510T090000
DESCRIPTION:
LOCATION:
SUMMARY:Teacher Appreciation Week
END:VEVENT
BEGIN:VEVENT
DTSTAMP:20260421T214423Z
UID:3116980a-884e-44cd-af70-72f6fbfa9b60
DTSTART;VALUE=DATE:20260508
DTEND;VALUE=DATE:20260509
DESCRIPTION:
LOCATION:
SUMMARY:National School Nurse Day
END:VEVENT
BEGIN:VEVENT
DTSTAMP:20260421T214423Z
UID:5c9451d7-94d9-47d4-b150-64df97021bfe
DTSTART;VALUE=DATE:20260512
DTEND;VALUE=DATE:20260513
DESCRIPTION:
LOCATION:
SUMMARY:Mother's Day
END:VEVENT
BEGIN:VEVENT
DTSTAMP:20260421T214423Z
UID:b6355fb9-47f2-4a93-97ef-0341482d5757
DTSTART:20260519T170000
DTEND:20260519T180000
DESCRIPTION:
LOCATION:MCHS Media Center
SUMMARY:MCSD Board Meeting
END:VEVENT
BEGIN:VEVENT
DTSTAMP:20260421T214423Z
UID:fd4c0597-b74a-4624-9f25-28cdc33d3ca5
DTSTART;VALUE=DATE:20260525
DTEND;VALUE=DATE:20260526
DESCRIPTION:
LOCATION:
SUMMARY:Memorial Day (no school)
END:VEVENT
BEGIN:VEVENT
DTSTAMP:20260421T214423Z
UID:d00e331f-8ed1-448a-ab14-0ff60935c188
DTSTART;VALUE=DATE:20260530
DTEND;VALUE=DATE:20260531
DESCRIPTION:
LOCATION:
SUMMARY:MCHS Graduation
END:VEVENT
BEGIN:VEVENT
DTSTAMP:20260421T214423Z
UID:9f6c6bf8-6e99-4bb1-b542-c24f651780e4
DTSTART:20260601T170000
DTEND:20260601T180000
DESCRIPTION:
LOCATION:MCHS Media Center
SUMMARY:MCSD Board Meeting - Public Hearing
END:VEVENT
BEGIN:VEVENT
DTSTAMP:20260421T214423Z
UID:634abfe6-625a-489f-89fe-1ea9dcee4217
DTSTART:20260601T173000
DTEND:20260601T183000
DESCRIPTION:
LOCATION:MCHS Media Center
SUMMARY:MCSD Board Meeting
END:VEVENT
BEGIN:VEVENT
DTSTAMP:20260421T214423Z
UID:ae245155-ed13-4d8e-82d0-cde9d34d4955
DTSTART:20260615T170000
DTEND:20260615T180000
DESCRIPTION:
LOCATION:MCHS Media Center
SUMMARY:MCSD Board Meeting
END:VEVENT
BEGIN:VEVENT
DTSTAMP:20260421T214423Z
UID:b949be17-d02d-48e0-a718-4d86683cc0bb
DTSTART;VALUE=DATE:20260619
DTEND;VALUE=DATE:20260620
DESCRIPTION:
LOCATION:
SUMMARY:Juneteenth
END:VEVENT
BEGIN:VEVENT
DTSTAMP:20260421T214423Z
UID:4f4d2ba3-11b0-4e1d-b930-cae779c7afa9
DTSTART;VALUE=DATE:20260621
DTEND;VALUE=DATE:20260622
DESCRIPTION:
LOCATION:
SUMMARY:Father's Day
END:VEVENT
BEGIN:VEVENT
DTSTAMP:20260421T214423Z
UID:d8c9bc1d-0a46-4df4-894f-8f16b3769a75
DTSTART:20260629T170000
DTEND:20260629T180000
DESCRIPTION:
LOCATION:MCHS Media Center
SUMMARY:MCSD Board Meeting
END:VEVENT
END:VCALENDAR
