BEGIN:VCALENDAR
VERSION:2.0
PRODID:icalendar-ruby
CALSCALE:GREGORIAN
BEGIN:VTIMEZONE
TZID:America/New_York
BEGIN:DAYLIGHT
DTSTART:20260308T030000
TZOFFSETFROM:-0500
TZOFFSETTO:-0400
RRULE:FREQ=YEARLY;BYDAY=2SU;BYMONTH=3
TZNAME:EDT
END:DAYLIGHT
BEGIN:STANDARD
DTSTART:20261101T010000
TZOFFSETFROM:-0400
TZOFFSETTO:-0500
RRULE:FREQ=YEARLY;BYDAY=1SU;BYMONTH=11
TZNAME:EST
END:STANDARD
END:VTIMEZONE
BEGIN:VEVENT
DTSTAMP:20260420T141555Z
UID:93df0443-6b67-4103-96ee-d41e9f55a2b2
DTSTART:20260421T200000
DTEND:20260421T220000
DESCRIPTION:<p><b>The Regular Meeting </b>of the Board of Education of the
  Sewanhaka Central High School District<b> </b>will take place at Sewanha
 ka High School on <b>Tuesday\, April 21\, 2025 at 7:00pm.  </b>It is an
 ticipated that a motion to adjourn to Executive Session will be made immed
 iately after the opening of the public portion of the meeting to discuss m
 atters involving negotiations\, particular personnel and matters within th
 e attorney-client relationship.  </p><p>Public Session will reconvene in
  the Auditorium at 8:00pm to adopt the SCHSD 2026-2027 Budget. The publi
 c is invited to attend.                   <br></p><p><b>    
                                                  
                             </b></p><p><b>The meeting will 
 be broadcast live on YouTube here:</b></p><p> <br><a href="https://www.yo
 utube.com/live/Wiaoyh7HflY?si=t6cGRm3NPBF0qIdD"><u>https://www.youtube.com
 /live/Wiaoyh7HflY?si=t6cGRm3NPBF0qIdD</u></a></p>
LOCATION:
SUMMARY:Board of Education Meeting + Budget Presentation & Adoption
END:VEVENT
BEGIN:VEVENT
DTSTAMP:20260420T141555Z
UID:59ef6ad1-d16e-48cc-9549-a104810b4e75
DTSTART;VALUE=DATE:20260422
DTEND;VALUE=DATE:20260424
DESCRIPTION:
LOCATION:
SUMMARY:NYS MATH ASSESSMENTS – DELAYED OPENING
END:VEVENT
BEGIN:VEVENT
DTSTAMP:20260420T141555Z
UID:fa708998-ab87-416d-abd4-c81e95b61c45
DTSTART;VALUE=DATE:20260429
DTEND;VALUE=DATE:20260430
DESCRIPTION:
LOCATION:
SUMMARY:NYS SCIENCE ASSESSMENTS
END:VEVENT
BEGIN:VEVENT
DTSTAMP:20260420T141555Z
UID:ebae1f81-9ad0-4d5c-9f43-c18202c39107
DTSTART:20260429T070000
DTEND:20260429T073000
DESCRIPTION:
LOCATION:Sewanhaka Central High School District Administrative Offices\, 77
  Landau Ave\, Elmont\, NY 11001\, USA
SUMMARY:Board of Education BOCES Budget Vote
END:VEVENT
BEGIN:VEVENT
DTSTAMP:20260420T141555Z
UID:4f8b0686-8b8c-4716-ab54-eec88c9f6c03
DTSTART:20260430T173000
DTEND:20260430T193000
DESCRIPTION:
LOCATION:
SUMMARY:District PALS Dance @ FPM
END:VEVENT
BEGIN:VEVENT
DTSTAMP:20260420T141555Z
UID:b07c0c91-bd3a-4ec2-b905-28fa1b916a13
DTSTART;VALUE=DATE:20260502
DTEND;VALUE=DATE:20260503
DESCRIPTION:
LOCATION:
SUMMARY:SAT Exam @ ELM and FPM
END:VEVENT
BEGIN:VEVENT
DTSTAMP:20260420T141555Z
UID:2111e141-e5f6-45d0-b301-23383998545b
DTSTART;VALUE=DATE:20260504
DTEND;VALUE=DATE:20260509
DESCRIPTION:
LOCATION:
SUMMARY:AP EXAMS
END:VEVENT
BEGIN:VEVENT
DTSTAMP:20260420T141555Z
UID:e82e8e4d-7a8f-4978-8556-36b6da75ebc8
DTSTART;VALUE=DATE:20260511
DTEND;VALUE=DATE:20260516
DESCRIPTION:
LOCATION:
SUMMARY:AP EXAMS
END:VEVENT
BEGIN:VEVENT
DTSTAMP:20260420T141555Z
UID:2de73f10-3408-46ff-8d06-9da8c5955ae1
DTSTART;VALUE=DATE:20260512
DTEND;VALUE=DATE:20260513
DESCRIPTION:
LOCATION:
SUMMARY:PTSA/Booster Club Meeting
END:VEVENT
BEGIN:VEVENT
DTSTAMP:20260420T141555Z
UID:21effc3a-d543-45c5-9b9c-e4cd7c04f3a2
DTSTART:20260513T193000
DTEND:20260513T213000
DESCRIPTION:
LOCATION:
SUMMARY:SEPTA Virtual Meeting
END:VEVENT
BEGIN:VEVENT
DTSTAMP:20260420T141555Z
UID:8010e2d4-3975-4d41-b190-97c29d3df1ce
DTSTART:20260518T160000
DTEND:20260518T180000
DESCRIPTION:
LOCATION:
SUMMARY:District Science Research Symposium @ NHP
END:VEVENT
BEGIN:VEVENT
DTSTAMP:20260420T141555Z
UID:5ba14070-da78-4009-92f9-dea2374ceac1
DTSTART:20260518T180000
DTEND:20260518T200000
DESCRIPTION:
LOCATION:
SUMMARY:Honors Concert
END:VEVENT
BEGIN:VEVENT
DTSTAMP:20260420T141555Z
UID:c60f7d55-0887-4813-814c-3477abf3b25a
DTSTART;VALUE=DATE:20260519
DTEND;VALUE=DATE:20260520
DESCRIPTION:
LOCATION:
SUMMARY:BUDGET VOTE/ VOTACIÓN DEL PRESUPUESTO
END:VEVENT
BEGIN:VEVENT
DTSTAMP:20260420T141555Z
UID:09bf47b8-d207-4567-8ac1-d299c0163de5
DTSTART:20260519T180000
DTEND:20260519T200000
DESCRIPTION:
LOCATION:
SUMMARY:Spring Chorus Concert and Art Exhibition
END:VEVENT
BEGIN:VEVENT
DTSTAMP:20260420T141555Z
UID:01f1eb7b-ef30-480b-b4c6-cff82f3369ff
DTSTART:20260520T180000
DTEND:20260520T200000
DESCRIPTION:
LOCATION:
SUMMARY:Spring Band Concert and Art Exhibition
END:VEVENT
BEGIN:VEVENT
DTSTAMP:20260420T141555Z
UID:569419aa-32a9-417f-a404-50c8da50cd0d
DTSTART:20260521T180000
DTEND:20260521T200000
DESCRIPTION:
LOCATION:
SUMMARY:Spring Orchestra Concert and Art Exhibition
END:VEVENT
BEGIN:VEVENT
DTSTAMP:20260420T141555Z
UID:007fecd8-93a0-44f9-8ee0-4ccad5edf478
DTSTART:20260521T200000
DTEND:20260521T220000
DESCRIPTION:
LOCATION:Sewanhaka High School\, 500 Tulip Ave\, Floral Park\, NY 11001\, U
 SA
SUMMARY:Board of Education Meeting
END:VEVENT
BEGIN:VEVENT
DTSTAMP:20260420T141555Z
UID:401c5684-c8ff-4a6a-85d4-6d2a55214a3d
DTSTART;VALUE=DATE:20260525
DTEND;VALUE=DATE:20260526
DESCRIPTION:
LOCATION:
SUMMARY:Memorial Day - Schools Closed
END:VEVENT
BEGIN:VEVENT
DTSTAMP:20260420T141555Z
UID:76504c1b-d698-447e-9637-30670d4ce9b8
DTSTART;VALUE=DATE:20260527
DTEND;VALUE=DATE:20260528
DESCRIPTION:
LOCATION:
SUMMARY:Eid al-Adha - Schools Closed
END:VEVENT
BEGIN:VEVENT
DTSTAMP:20260420T141555Z
UID:ef54fd63-ccfc-4725-a6c2-a7ed862a57b2
DTSTART:20260601T160000
DTEND:20260601T180000
DESCRIPTION:
LOCATION:
SUMMARY:Honor Society Inductions
END:VEVENT
BEGIN:VEVENT
DTSTAMP:20260420T141555Z
UID:5b6a4e6b-c2be-408a-943a-f0e1fbb20d4c
DTSTART:20260602T160000
DTEND:20260602T180000
DESCRIPTION:
LOCATION:
SUMMARY:Varsity Athletic Awards
END:VEVENT
BEGIN:VEVENT
DTSTAMP:20260420T141555Z
UID:7987f667-15f3-4905-8b3b-6cbb82e8a807
DTSTART:20260603T160000
DTEND:20260603T180000
DESCRIPTION:
LOCATION:
SUMMARY:Music Department Awards
END:VEVENT
BEGIN:VEVENT
DTSTAMP:20260420T141555Z
UID:7559067c-6fca-45c2-a721-cd29451887b1
DTSTART:20260603T193000
DTEND:20260603T213000
DESCRIPTION:
LOCATION:
SUMMARY:SEPTA Meeting Awards Night
END:VEVENT
BEGIN:VEVENT
DTSTAMP:20260420T141555Z
UID:16e16b85-5c9b-48ca-b80e-8865499ba01a
DTSTART:20260604T160000
DTEND:20260604T180000
DESCRIPTION:
LOCATION:
SUMMARY:Senior Awards Ceremony
END:VEVENT
BEGIN:VEVENT
DTSTAMP:20260420T141555Z
UID:cd6263b0-f591-4345-b9b0-aed0e14c05ea
DTSTART;VALUE=DATE:20260605
DTEND;VALUE=DATE:20260606
DESCRIPTION:
LOCATION:
SUMMARY:Class of 2026 District Decision Day
END:VEVENT
BEGIN:VEVENT
DTSTAMP:20260420T141555Z
UID:5e40b969-e68b-4f42-8cc2-bf038898906f
DTSTART;VALUE=DATE:20260606
DTEND;VALUE=DATE:20260607
DESCRIPTION:
LOCATION:
SUMMARY:SAT Exam @ SHS
END:VEVENT
BEGIN:VEVENT
DTSTAMP:20260420T141555Z
UID:6c922b3d-377c-4bdd-bdee-780a06da1d07
DTSTART:20260608T160000
DTEND:20260608T180000
DESCRIPTION:
LOCATION:
SUMMARY:9th\, 10th and 11th Grade Awards Ceremony
END:VEVENT
BEGIN:VEVENT
DTSTAMP:20260420T141555Z
UID:0081658a-363d-4f1b-b700-6549e7bc535d
DTSTART;VALUE=DATE:20260609
DTEND;VALUE=DATE:20260610
DESCRIPTION:
LOCATION:
SUMMARY:PTSA/Booster Club Meeting
END:VEVENT
BEGIN:VEVENT
DTSTAMP:20260420T141555Z
UID:6865dbb4-02fd-44dc-b716-410738ac7006
DTSTART;VALUE=DATE:20260611
DTEND;VALUE=DATE:20260612
DESCRIPTION:
LOCATION:
SUMMARY:Dr. Tripodi Memorial Walk
END:VEVENT
BEGIN:VEVENT
DTSTAMP:20260420T141555Z
UID:d55b1827-e154-4e43-b100-98d612802698
DTSTART:20260611T190000
DTEND:20260611T210000
DESCRIPTION:
LOCATION:
SUMMARY:Sewanhaka Central Council Installation Meeting
END:VEVENT
BEGIN:VEVENT
DTSTAMP:20260420T141555Z
UID:90f604b4-95d9-421f-84e4-3226c598282f
DTSTART;VALUE=DATE:20260612
DTEND;VALUE=DATE:20260613
DESCRIPTION:
LOCATION:
SUMMARY:8th Grade Moving-Up Ceremony
END:VEVENT
BEGIN:VEVENT
DTSTAMP:20260420T141555Z
UID:39d46ecb-4fcf-48c2-ae07-1db73919e360
DTSTART;VALUE=DATE:20260616
DTEND;VALUE=DATE:20260617
DESCRIPTION:
LOCATION:
SUMMARY:Senior BBQ
END:VEVENT
BEGIN:VEVENT
DTSTAMP:20260420T141555Z
UID:0bee6e27-3b42-4879-bbd9-3e8cdb0dbe78
DTSTART;VALUE=DATE:20260616
DTEND;VALUE=DATE:20260617
DESCRIPTION:
LOCATION:
SUMMARY:Last Day of Classes
END:VEVENT
BEGIN:VEVENT
DTSTAMP:20260420T141555Z
UID:6e50d4b0-9417-47a3-8fee-34ccda0e9c18
DTSTART;VALUE=DATE:20260617
DTEND;VALUE=DATE:20260619
DESCRIPTION:
LOCATION:
SUMMARY:REGENTS TESTING
END:VEVENT
BEGIN:VEVENT
DTSTAMP:20260420T141555Z
UID:eb8d99f6-20e4-4773-856b-2518631844a2
DTSTART:20260617T180000
DTEND:20260617T200000
DESCRIPTION:
LOCATION:
SUMMARY:Senior Prom
END:VEVENT
BEGIN:VEVENT
DTSTAMP:20260420T141555Z
UID:9f7e2fd9-4246-47e7-ad56-3a4ab281288a
DTSTART;VALUE=DATE:20260619
DTEND;VALUE=DATE:20260620
DESCRIPTION:
LOCATION:
SUMMARY:Juneteenth - Schools Closed
END:VEVENT
BEGIN:VEVENT
DTSTAMP:20260420T141555Z
UID:64823a51-80e1-4111-ae5a-1766463ed7f3
DTSTART;VALUE=DATE:20260622
DTEND;VALUE=DATE:20260627
DESCRIPTION:
LOCATION:
SUMMARY:REGENTS TESTING
END:VEVENT
BEGIN:VEVENT
DTSTAMP:20260420T141555Z
UID:481bbbd3-b209-4b69-9f86-4059a2d8b1b8
DTSTART:20260623T130000
DTEND:20260623T150000
DESCRIPTION:
LOCATION:
SUMMARY:Graduation Rehearsal
END:VEVENT
BEGIN:VEVENT
DTSTAMP:20260420T141555Z
UID:531af327-890b-4e22-963f-9c322a276f84
DTSTART:20260623T200000
DTEND:20260623T220000
DESCRIPTION:
LOCATION:Sewanhaka High School\, 500 Tulip Ave\, Floral Park\, NY 11001\, U
 SA
SUMMARY:Board of Education Meeting
END:VEVENT
BEGIN:VEVENT
DTSTAMP:20260420T141555Z
UID:a6afbb63-ae5f-4fec-8908-8b754bd886c0
DTSTART;VALUE=DATE:20260626
DTEND;VALUE=DATE:20260627
DESCRIPTION:
LOCATION:
SUMMARY:END OF FOURTH MARKING PERIOD
END:VEVENT
BEGIN:VEVENT
DTSTAMP:20260420T141555Z
UID:860ada3b-0839-4dc6-884a-061a0be241df
DTSTART;VALUE=DATE:20260626
DTEND;VALUE=DATE:20260627
DESCRIPTION:
LOCATION:
SUMMARY:LAST DAY OF SCHOOL
END:VEVENT
BEGIN:VEVENT
DTSTAMP:20260420T141555Z
UID:b35bb737-1a7d-46ba-9d8d-09492f24532e
DTSTART;VALUE=DATE:20260627
DTEND;VALUE=DATE:20260628
DESCRIPTION:
LOCATION:
SUMMARY:FPM: Graduation @ Hofstra
END:VEVENT
BEGIN:VEVENT
DTSTAMP:20260420T141555Z
UID:4b764cd6-cb80-4da0-97c1-80d631dfaa98
DTSTART;VALUE=DATE:20260701
DTEND;VALUE=DATE:20260702
DESCRIPTION:
LOCATION:
SUMMARY:Extended School Year Program Begins @ NHP
END:VEVENT
BEGIN:VEVENT
DTSTAMP:20260420T141555Z
UID:cfa0e382-ec4b-4157-aec5-f6a7bc6318e5
DTSTART;VALUE=DATE:20260703
DTEND;VALUE=DATE:20260704
DESCRIPTION:
LOCATION:
SUMMARY:INDEPENDENCE DAY OBSERVED SCHOOLS CLOSED
END:VEVENT
BEGIN:VEVENT
DTSTAMP:20260420T141555Z
UID:2fcc7cc2-e5d6-4116-a7c0-76668796151e
DTSTART;VALUE=DATE:20260704
DTEND;VALUE=DATE:20260705
DESCRIPTION:
LOCATION:
SUMMARY:INDEPENDENCE DAY
END:VEVENT
BEGIN:VEVENT
DTSTAMP:20260420T141555Z
UID:859ecfb7-a9e9-4ed5-9e0f-2428ee6b5483
DTSTART:20260714T200000
DTEND:20260714T220000
DESCRIPTION:
LOCATION:Sewanhaka High School\, 500 Tulip Ave\, Floral Park\, NY 11001\, U
 SA
SUMMARY:Board of Education Re-Organizational and Regular Meeting
END:VEVENT
END:VCALENDAR
