BEGIN:VCALENDAR
VERSION:2.0
PRODID:icalendar-ruby
CALSCALE:GREGORIAN
BEGIN:VTIMEZONE
TZID:America/Chicago
BEGIN:DAYLIGHT
DTSTART:20260308T030000
TZOFFSETFROM:-0600
TZOFFSETTO:-0500
RRULE:FREQ=YEARLY;BYDAY=2SU;BYMONTH=3
TZNAME:CDT
END:DAYLIGHT
BEGIN:STANDARD
DTSTART:20261101T010000
TZOFFSETFROM:-0500
TZOFFSETTO:-0600
RRULE:FREQ=YEARLY;BYDAY=1SU;BYMONTH=11
TZNAME:CST
END:STANDARD
END:VTIMEZONE
BEGIN:VEVENT
DTSTAMP:20260419T190905Z
UID:0f76a781-f0af-4313-9e25-92f7fccd9774
DTSTART:20260421T083500
DTEND:20260421T103000
DESCRIPTION:
LOCATION:
SUMMARY:Dieterich Elementary Activity Calendar: AM Pre-K Field Trip
END:VEVENT
BEGIN:VEVENT
DTSTAMP:20260419T190905Z
UID:029648cc-985e-4197-95c4-b7f922f28ed3
DTSTART:20260421T125000
DTEND:20260421T145000
DESCRIPTION:
LOCATION:
SUMMARY:Dieterich Elementary Activity Calendar: PM Pre-K Field Trip
END:VEVENT
BEGIN:VEVENT
DTSTAMP:20260419T190905Z
UID:0dbe413a-38d7-4a79-a001-ac48e6430bd8
DTSTART:20260422T180000
DTEND:20260422T190000
DESCRIPTION:
LOCATION:
SUMMARY:Counselor's Corner: CEO Tradeshow
END:VEVENT
BEGIN:VEVENT
DTSTAMP:20260419T190905Z
UID:49fa740d-c793-487d-a7db-3be3a8e0d785
DTSTART:20260423T183000
DTEND:20260423T203000
DESCRIPTION:
LOCATION:WFC
SUMMARY:Dieterich C U School Dist  30: HS Activity Banquet
END:VEVENT
BEGIN:VEVENT
DTSTAMP:20260419T190905Z
UID:148df3b6-04f9-49db-aa13-71c062cd4e55
DTSTART:20260424T073000
DTEND:20260424T090000
DESCRIPTION:7:30-9:00- CORE Orientation for all students taking a CORE clas
 s next school year\n
LOCATION:
SUMMARY:Counselor's Corner: CORE Orientation - Sophomores/Juniors taking CO
 RE class 26-27 school year
END:VEVENT
BEGIN:VEVENT
DTSTAMP:20260419T190905Z
UID:83ff2d2d-40cd-49b2-9abe-41a360def187
DTSTART:20260424T180000
DTEND:20260424T203000
DESCRIPTION:
LOCATION:HS Gym
SUMMARY:Dieterich Elementary Activity Calendar: Elementary PTO Spring Carni
 val
END:VEVENT
BEGIN:VEVENT
DTSTAMP:20260419T190905Z
UID:e1fe829e-4a12-478c-805b-72c22f1b56f0
DTSTART;VALUE=DATE:20260429
DTEND;VALUE=DATE:20260502
DESCRIPTION:
LOCATION:
SUMMARY:Dieterich Jr/Sr High School: Senior Class Trip
END:VEVENT
BEGIN:VEVENT
DTSTAMP:20260419T190905Z
UID:236358c4-bae5-4d78-9cee-47576a303408
DTSTART;VALUE=DATE:20260502
DTEND;VALUE=DATE:20260503
DESCRIPTION:
LOCATION:JH Gym\, HS Gym
SUMMARY:Dieterich C U School Dist  30: Jr.-Sr. Prom
END:VEVENT
BEGIN:VEVENT
DTSTAMP:20260419T190905Z
UID:59f981c5-e12f-4a02-9089-ca708e6a6437
DTSTART:20260505T180000
DTEND:20260505T200000
DESCRIPTION:
LOCATION:HS Gym
SUMMARY:Dieterich C U School Dist  30: Spring Concert
END:VEVENT
BEGIN:VEVENT
DTSTAMP:20260419T190905Z
UID:5bbfba1b-1d56-4225-875c-798deae50d8a
DTSTART;VALUE=DATE:20260507
DTEND;VALUE=DATE:20260508
DESCRIPTION:
LOCATION:
SUMMARY:Dieterich Elementary Activity Calendar: 1st Grade Field Trip
END:VEVENT
BEGIN:VEVENT
DTSTAMP:20260419T190905Z
UID:f82efe02-23ad-4936-a984-6444d1dad23b
DTSTART;VALUE=DATE:20260507
DTEND;VALUE=DATE:20260508
DESCRIPTION:
LOCATION:
SUMMARY:Dieterich Elementary Activity Calendar: Kindergarten Field Trip
END:VEVENT
BEGIN:VEVENT
DTSTAMP:20260419T190905Z
UID:bf935f1e-4997-4d96-874d-1d7ddb0e6334
DTSTART;VALUE=DATE:20260508
DTEND;VALUE=DATE:20260509
DESCRIPTION:
LOCATION:
SUMMARY:Dieterich Elementary Activity Calendar: 2nd Grade Field Trip
END:VEVENT
BEGIN:VEVENT
DTSTAMP:20260419T190905Z
UID:161e688d-d025-42e3-aba8-ad90af2f8d6e
DTSTART;VALUE=DATE:20260508
DTEND;VALUE=DATE:20260509
DESCRIPTION:
LOCATION:
SUMMARY:Dieterich Elementary Activity Calendar: 3rd Grade Field Trip
END:VEVENT
BEGIN:VEVENT
DTSTAMP:20260419T190905Z
UID:b4bcb129-6157-49ea-a611-2e09680aa5cd
DTSTART:20260511T181500
DTEND:20260511T220000
DESCRIPTION:
LOCATION:
SUMMARY:Dieterich C U School Dist  30: School Board Meeting
END:VEVENT
BEGIN:VEVENT
DTSTAMP:20260419T190905Z
UID:c5eaee53-5fb5-4d80-99b8-848e6dd7697d
DTSTART;VALUE=DATE:20260513
DTEND;VALUE=DATE:20260514
DESCRIPTION:
LOCATION:
SUMMARY:Dieterich Elementary Activity Calendar: 4th Grade Field Trip
END:VEVENT
BEGIN:VEVENT
DTSTAMP:20260419T190905Z
UID:ba951d52-b92a-486f-b87b-adfe419c171f
DTSTART;VALUE=DATE:20260514
DTEND;VALUE=DATE:20260515
DESCRIPTION:
LOCATION:
SUMMARY:Dieterich Elementary Activity Calendar: 5th Grade Field Trip
END:VEVENT
BEGIN:VEVENT
DTSTAMP:20260419T190905Z
UID:358b1028-a129-4aea-8714-297828253c39
DTSTART:20260515T140000
DTEND:20260515T150000
DESCRIPTION:Awards Day for Seniors\n
LOCATION:
SUMMARY:Counselor's Corner: Awards Day/Recognition for Seniors
END:VEVENT
BEGIN:VEVENT
DTSTAMP:20260419T190905Z
UID:8e693ee2-9472-48d1-8817-5dafddf9815a
DTSTART;VALUE=DATE:20260518
DTEND;VALUE=DATE:20260519
DESCRIPTION:
LOCATION:
SUMMARY:Dieterich Elementary Activity Calendar: 6th Grade Field Trip
END:VEVENT
BEGIN:VEVENT
DTSTAMP:20260419T190905Z
UID:7312205b-b7dd-41ae-89e0-72da6e39ee62
DTSTART:20260615T181500
DTEND:20260615T220000
DESCRIPTION:
LOCATION:
SUMMARY:Dieterich C U School Dist  30: School Board Meeting
END:VEVENT
BEGIN:VEVENT
DTSTAMP:20260419T190905Z
UID:0b80790d-921f-4e60-94e6-66f1e2e1330f
DTSTART:20261113T180000
DTEND:20261113T190000
DESCRIPTION:
LOCATION:Dieterich Jr/Sr High School
SUMMARY:Basketball (Boys Varsity) - Meet the Maroons
END:VEVENT
BEGIN:VEVENT
DTSTAMP:20260419T190905Z
UID:44ca305f-5b3a-4574-ba6f-bfd535436891
DTSTART;VALUE=DATE:20261123
DTEND;VALUE=DATE:20261124
DESCRIPTION:
LOCATION:CUMBERLAND HIGH SCHOOL
SUMMARY:Basketball (Boys Varsity) @ Cumberland Tourn.
END:VEVENT
BEGIN:VEVENT
DTSTAMP:20260419T190905Z
UID:fc5b9cdd-e2c4-471e-a233-fdea66e70280
DTSTART;VALUE=DATE:20261124
DTEND;VALUE=DATE:20261125
DESCRIPTION:
LOCATION:CUMBERLAND HIGH SCHOOL
SUMMARY:Basketball (Boys Varsity) @ Cumberland Tourn.
END:VEVENT
BEGIN:VEVENT
DTSTAMP:20260419T190905Z
UID:db92bf96-3b74-4883-864d-7658c95a9a21
DTSTART;VALUE=DATE:20261127
DTEND;VALUE=DATE:20261128
DESCRIPTION:
LOCATION:CUMBERLAND HIGH SCHOOL
SUMMARY:Basketball (Boys Varsity) @ Cumberland Tourn.
END:VEVENT
BEGIN:VEVENT
DTSTAMP:20260419T190905Z
UID:ac434cdc-5bdf-4592-977c-1b18a2eb5691
DTSTART;VALUE=DATE:20261128
DTEND;VALUE=DATE:20261129
DESCRIPTION:
LOCATION:CUMBERLAND HIGH SCHOOL
SUMMARY:Basketball (Boys Varsity) @ Cumberland Tourn.
END:VEVENT
BEGIN:VEVENT
DTSTAMP:20260419T190905Z
UID:ec4c6a43-59e7-4fde-8296-d172f22fe2a0
DTSTART:20261130T180000
DTEND:20261130T190000
DESCRIPTION:
LOCATION:Dieterich Jr/Sr High School
SUMMARY:Basketball (Boys Fr/So) - ALTAMONT HIGH SCHOOL
END:VEVENT
BEGIN:VEVENT
DTSTAMP:20260419T190905Z
UID:244172a1-d2c2-4fd9-a15f-1c9b8fb155a6
DTSTART:20261201T180000
DTEND:20261201T190000
DESCRIPTION:
LOCATION:Dieterich Jr/Sr High School
SUMMARY:Basketball (Boys Varsity) - CISNE HIGH SCHOOL
END:VEVENT
BEGIN:VEVENT
DTSTAMP:20260419T190905Z
UID:9f8140a5-a1ce-4825-98e2-7e52a67e1d6a
DTSTART:20261203T180000
DTEND:20261203T190000
DESCRIPTION:
LOCATION:Dieterich Jr/Sr High School
SUMMARY:Basketball (Boys Fr/So) - BEECHER CITY JR-SR HIGH SCHOOL
END:VEVENT
BEGIN:VEVENT
DTSTAMP:20260419T190905Z
UID:90343dc4-a371-43b2-aada-49194ad8ae86
DTSTART:20261204T170000
DTEND:20261204T180000
DESCRIPTION:
LOCATION:Dieterich Jr/Sr High School
SUMMARY:Basketball (Boys Varsity) - STEWARDSON-STRASBURG HIGH SCHOOL
END:VEVENT
BEGIN:VEVENT
DTSTAMP:20260419T190905Z
UID:298818cd-5c6e-4455-b620-c98331c9376c
DTSTART:20261208T170000
DTEND:20261208T180000
DESCRIPTION:
LOCATION:NEOGA SR HIGH SCHOOL
SUMMARY:Basketball (Boys Varsity) @ NEOGA SR HIGH SCHOOL
END:VEVENT
BEGIN:VEVENT
DTSTAMP:20260419T190905Z
UID:8bb0a47e-6334-4d32-86e6-7db26bdbe6ca
DTSTART:20261208T180000
DTEND:20261208T200000
DESCRIPTION:
LOCATION:HS Gym
SUMMARY:Dieterich C U School Dist  30: Christmas Concert (K-3)
END:VEVENT
BEGIN:VEVENT
DTSTAMP:20260419T190905Z
UID:ab4873fa-d9e1-4753-9ac7-78c09df07c35
DTSTART:20261211T170000
DTEND:20261211T180000
DESCRIPTION:
LOCATION:Beecher City Jr-Sr High School
SUMMARY:Basketball (Boys Varsity) @ BEECHER CITY JR-SR HIGH SCHOOL
END:VEVENT
BEGIN:VEVENT
DTSTAMP:20260419T190905Z
UID:3d60c41d-adac-446e-aef5-89a7dd067a28
DTSTART:20261214T180000
DTEND:20261214T190000
DESCRIPTION:
LOCATION:CUMBERLAND HIGH SCHOOL
SUMMARY:Basketball (Boys Fr/So) @ CUMBERLAND HIGH SCHOOL
END:VEVENT
BEGIN:VEVENT
DTSTAMP:20260419T190905Z
UID:10129499-b744-4bf3-bbb2-6b92bbcc6015
DTSTART:20261215T180000
DTEND:20261215T190000
DESCRIPTION:
LOCATION:Dieterich Jr/Sr High School
SUMMARY:Basketball (Boys Varsity) - LAWRENCEVILLE HIGH SCHOOL
END:VEVENT
BEGIN:VEVENT
DTSTAMP:20260419T190905Z
UID:1dbca73b-cb00-4965-bf83-53f75e038204
DTSTART:20261218T170000
DTEND:20261218T180000
DESCRIPTION:
LOCATION:St. Anthony- Effingham High School
SUMMARY:Basketball (Boys Varsity) @ St. Anthony- Effingham High School
END:VEVENT
BEGIN:VEVENT
DTSTAMP:20260419T190905Z
UID:4bf40b9a-8c99-4f39-b2d0-9917b0b1bd98
DTSTART;VALUE=DATE:20261226
DTEND;VALUE=DATE:20261227
DESCRIPTION:
LOCATION:Dieterich Jr/Sr High School
SUMMARY:Basketball (Boys Varsity) - Dieterich Boys Holiday Tourn.
END:VEVENT
BEGIN:VEVENT
DTSTAMP:20260419T190905Z
UID:a1e727a6-be68-4ca7-8f14-43c1f12121f4
DTSTART;VALUE=DATE:20261228
DTEND;VALUE=DATE:20261229
DESCRIPTION:
LOCATION:Dieterich Jr/Sr High School
SUMMARY:Basketball (Boys Varsity) - Dieterich Boys Holiday Tourn.
END:VEVENT
BEGIN:VEVENT
DTSTAMP:20260419T190905Z
UID:823630e8-8a5a-48db-8c41-6140f0981cf2
DTSTART;VALUE=DATE:20261229
DTEND;VALUE=DATE:20261230
DESCRIPTION:
LOCATION:Dieterich Jr/Sr High School
SUMMARY:Basketball (Boys Varsity) - Dieterich Boys Holiday Tourn.
END:VEVENT
BEGIN:VEVENT
DTSTAMP:20260419T190905Z
UID:7294b001-b5bb-444e-bc3a-2aa9e290b08e
DTSTART:20270105T180000
DTEND:20270105T190000
DESCRIPTION:
LOCATION:Dieterich Jr/Sr High School
SUMMARY:Basketball (Boys Varsity) - PARIS HIGH SCHOOL
END:VEVENT
BEGIN:VEVENT
DTSTAMP:20260419T190905Z
UID:e8e97c1b-64e5-4ce7-8ae0-5762fc2d5039
DTSTART:20270108T180000
DTEND:20270108T190000
DESCRIPTION:
LOCATION:ALTAMONT HIGH SCHOOL
SUMMARY:Basketball (Boys Varsity) @ ALTAMONT HIGH SCHOOL
END:VEVENT
BEGIN:VEVENT
DTSTAMP:20260419T190905Z
UID:50f35a0b-0bd7-4b58-94a5-b6f7f1229c28
DTSTART;VALUE=DATE:20270111
DTEND;VALUE=DATE:20270112
DESCRIPTION:
LOCATION:Dieterich Jr/Sr High School
SUMMARY:Basketball (Boys Fr/So) - Freshmen Tourn.
END:VEVENT
BEGIN:VEVENT
DTSTAMP:20260419T190905Z
UID:0cfb3a28-3140-44ca-92c4-bbf389a34b15
DTSTART:20270112T180000
DTEND:20270112T190000
DESCRIPTION:
LOCATION:Dieterich Jr/Sr High School
SUMMARY:Basketball (Boys Varsity) - PATOKA SR HIGH SCHOOL
END:VEVENT
BEGIN:VEVENT
DTSTAMP:20260419T190905Z
UID:49cf327c-e5cf-42af-ba96-d112c26b4c40
DTSTART;VALUE=DATE:20270113
DTEND;VALUE=DATE:20270114
DESCRIPTION:
LOCATION:Dieterich Jr/Sr High School
SUMMARY:Basketball (Boys Fr/So) - Freshmen Tourn.
END:VEVENT
BEGIN:VEVENT
DTSTAMP:20260419T190905Z
UID:7ac8999f-80b5-4862-8fb8-cd37d661b531
DTSTART:20270115T170000
DTEND:20270115T180000
DESCRIPTION:
LOCATION:SOUTH CENTRAL HIGH SCHOOL
SUMMARY:Basketball (Boys Varsity) @ SOUTH CENTRAL HIGH SCHOOL
END:VEVENT
BEGIN:VEVENT
DTSTAMP:20260419T190905Z
UID:3730c400-053e-48d3-88fc-a28f2ac896ce
DTSTART;VALUE=DATE:20270116
DTEND;VALUE=DATE:20270117
DESCRIPTION:
LOCATION:ST ELMO HIGH SCHOOL
SUMMARY:Basketball (Boys Varsity) @ St. Elmo Shootout
END:VEVENT
BEGIN:VEVENT
DTSTAMP:20260419T190905Z
UID:02e0d787-a7d1-4322-8322-919609c75ed4
DTSTART:20270119T180000
DTEND:20270119T190000
DESCRIPTION:
LOCATION:EFFINGHAM HIGH SCHOOL
SUMMARY:Basketball (Boys Varsity) @ EFFINGHAM HIGH SCHOOL
END:VEVENT
BEGIN:VEVENT
DTSTAMP:20260419T190905Z
UID:74240a0a-8a83-4de5-9cc4-7c52ed27553e
DTSTART:20270121T170000
DTEND:20270121T180000
DESCRIPTION:
LOCATION:NEWTON HIGH SCHOOL
SUMMARY:Basketball (Boys Varsity) @ NEWTON HIGH SCHOOL
END:VEVENT
BEGIN:VEVENT
DTSTAMP:20260419T190905Z
UID:6f7a5a2e-5f98-44de-a028-c581b5e177af
DTSTART:20270122T170000
DTEND:20270122T180000
DESCRIPTION:
LOCATION:CUMBERLAND HIGH SCHOOL
SUMMARY:Basketball (Boys Varsity) @ CUMBERLAND HIGH SCHOOL
END:VEVENT
BEGIN:VEVENT
DTSTAMP:20260419T190905Z
UID:999ee4f2-3f96-47f6-abe3-a4649730f20f
DTSTART;VALUE=DATE:20270125
DTEND;VALUE=DATE:20270126
DESCRIPTION:
LOCATION:ALTAMONT HIGH SCHOOL
SUMMARY:Basketball (Boys Varsity) @ NTC Tourn.
END:VEVENT
BEGIN:VEVENT
DTSTAMP:20260419T190905Z
UID:3ab537d3-f1cd-4800-bf02-ef2bedbb1fbd
DTSTART;VALUE=DATE:20270126
DTEND;VALUE=DATE:20270127
DESCRIPTION:
LOCATION:ALTAMONT HIGH SCHOOL
SUMMARY:Basketball (Boys Varsity) @ NTC Tourn.
END:VEVENT
BEGIN:VEVENT
DTSTAMP:20260419T190905Z
UID:320bc384-6ecd-4f59-9028-c73ce45d1b49
DTSTART;VALUE=DATE:20270127
DTEND;VALUE=DATE:20270128
DESCRIPTION:
LOCATION:ALTAMONT HIGH SCHOOL
SUMMARY:Basketball (Boys Varsity) @ NTC Tourn.
END:VEVENT
BEGIN:VEVENT
DTSTAMP:20260419T190905Z
UID:4bbf2a19-b4ff-48ad-a4ce-3fd1f09ca966
DTSTART;VALUE=DATE:20270128
DTEND;VALUE=DATE:20270129
DESCRIPTION:
LOCATION:ALTAMONT HIGH SCHOOL
SUMMARY:Basketball (Boys Varsity) @ NTC Tourn.
END:VEVENT
BEGIN:VEVENT
DTSTAMP:20260419T190905Z
UID:49fa11db-1c8b-4342-aa1f-811aba9f2ced
DTSTART;VALUE=DATE:20270129
DTEND;VALUE=DATE:20270130
DESCRIPTION:
LOCATION:ALTAMONT HIGH SCHOOL
SUMMARY:Basketball (Boys Varsity) @ NTC Tourn.
END:VEVENT
BEGIN:VEVENT
DTSTAMP:20260419T190905Z
UID:9f20b8fb-1369-4f95-b529-dcd7acb67d94
DTSTART;VALUE=DATE:20270130
DTEND;VALUE=DATE:20270131
DESCRIPTION:
LOCATION:ALTAMONT HIGH SCHOOL
SUMMARY:Basketball (Boys Varsity) @ NTC Tourn.
END:VEVENT
BEGIN:VEVENT
DTSTAMP:20260419T190905Z
UID:a5b1b8a1-f3ba-4d94-b084-d637ad7cee2d
DTSTART:20270201T180000
DTEND:20270201T190000
DESCRIPTION:
LOCATION:Dieterich Jr/Sr High School
SUMMARY:Basketball (Boys Fr/So) - SHELBYVILLE HIGH SCHOOL
END:VEVENT
BEGIN:VEVENT
DTSTAMP:20260419T190905Z
UID:290b59cb-fa17-4143-a45b-0c891b514f51
DTSTART:20270202T170000
DTEND:20270202T180000
DESCRIPTION:
LOCATION:ST ELMO SR HIGH SCHOOL
SUMMARY:Basketball (Boys Varsity) @ ST ELMO SR HIGH SCHOOL
END:VEVENT
BEGIN:VEVENT
DTSTAMP:20260419T190905Z
UID:1b5faa1b-5cc3-4ca6-96e9-d013fb2770c7
DTSTART:20270205T170000
DTEND:20270205T180000
DESCRIPTION:
LOCATION:Dieterich Jr/Sr High School
SUMMARY:Basketball (Boys Varsity) - NORTH CLAY COMMUNITY HIGH SCHOOL
END:VEVENT
BEGIN:VEVENT
DTSTAMP:20260419T190905Z
UID:57fa9b64-6413-40a0-8199-ec0a18c39f18
DTSTART;VALUE=DATE:20270206
DTEND;VALUE=DATE:20270207
DESCRIPTION:
LOCATION:ST ELMO SR HIGH SCHOOL
SUMMARY:Basketball (Boys Fr/So) @ St. Elmo FS Tourn.
END:VEVENT
BEGIN:VEVENT
DTSTAMP:20260419T190905Z
UID:8c14ff63-9469-4b09-b24d-8ab11c27bea4
DTSTART;VALUE=DATE:20270208
DTEND;VALUE=DATE:20270209
DESCRIPTION:
LOCATION:ST ELMO SR HIGH SCHOOL
SUMMARY:Basketball (Boys Fr/So) @ St. Elmo FS Tourn.
END:VEVENT
BEGIN:VEVENT
DTSTAMP:20260419T190905Z
UID:3de8782a-04c5-4da0-a9ae-93fb47f7ebad
DTSTART:20270209T180000
DTEND:20270209T190000
DESCRIPTION:
LOCATION:Dieterich Jr/Sr High School
SUMMARY:Basketball (Boys Varsity) - MARTINSVILLE HIGH SCHOOL
END:VEVENT
BEGIN:VEVENT
DTSTAMP:20260419T190905Z
UID:9c8a4165-3f14-45b8-a138-d05684b7b2ac
DTSTART:20270213T170000
DTEND:20270213T180000
DESCRIPTION:
LOCATION:Dieterich Jr/Sr High School
SUMMARY:Basketball (Boys Varsity) - RICHLAND COUNTY HIGH SCHOOL
END:VEVENT
BEGIN:VEVENT
DTSTAMP:20260419T190905Z
UID:977ffee2-978b-4c24-968b-167ce4fc3488
DTSTART:20270216T180000
DTEND:20270216T190000
DESCRIPTION:
LOCATION:WOODLAWN COMM HIGH SCHOOL
SUMMARY:Basketball (Boys Varsity) @ WOODLAWN COMM HIGH SCHOOL
END:VEVENT
BEGIN:VEVENT
DTSTAMP:20260419T190905Z
UID:6d9d2b3e-2ca9-4d52-98fb-7cdb18600920
DTSTART:20270219T180000
DTEND:20270219T190000
DESCRIPTION:
LOCATION:Dieterich Jr/Sr High School
SUMMARY:Basketball (Boys Varsity) - ROBINSON HIGH SCHOOL
END:VEVENT
BEGIN:VEVENT
DTSTAMP:20260419T190905Z
UID:1c9db526-2e54-4474-a021-495da76348a7
DTSTART;VALUE=DATE:20270222
DTEND;VALUE=DATE:20270223
DESCRIPTION:
LOCATION:TBA
SUMMARY:Basketball (Boys Varsity) @ Regional Quarterfinals
END:VEVENT
BEGIN:VEVENT
DTSTAMP:20260419T190905Z
UID:f3bebcb2-fd6a-4836-94f0-7fbc055c3088
DTSTART;VALUE=DATE:20270224
DTEND;VALUE=DATE:20270225
DESCRIPTION:
LOCATION:TBA
SUMMARY:Basketball (Boys Varsity) @ Regional Semifinals
END:VEVENT
BEGIN:VEVENT
DTSTAMP:20260419T190905Z
UID:e709a715-3dc6-4977-861f-cb9038d09a66
DTSTART;VALUE=DATE:20270226
DTEND;VALUE=DATE:20270227
DESCRIPTION:
LOCATION:TBA
SUMMARY:Basketball (Boys Varsity) @ Regional Finals
END:VEVENT
END:VCALENDAR
