BEGIN:VCALENDAR
VERSION:2.0
PRODID:icalendar-ruby
CALSCALE:GREGORIAN
BEGIN:VTIMEZONE
TZID:America/Los_Angeles
BEGIN:DAYLIGHT
DTSTART:20260308T030000
TZOFFSETFROM:-0800
TZOFFSETTO:-0700
RRULE:FREQ=YEARLY;BYDAY=2SU;BYMONTH=3
TZNAME:PDT
END:DAYLIGHT
BEGIN:STANDARD
DTSTART:20261101T010000
TZOFFSETFROM:-0700
TZOFFSETTO:-0800
RRULE:FREQ=YEARLY;BYDAY=1SU;BYMONTH=11
TZNAME:PST
END:STANDARD
END:VTIMEZONE
BEGIN:VEVENT
DTSTAMP:20260420T192915Z
UID:78821bba-785f-4e19-af47-7f099bd428a6
DTSTART:20260420T180000
DTEND:20260420T190000
DESCRIPTION:
LOCATION:
SUMMARY:NHS Induction Ceremony-SE Miller
END:VEVENT
BEGIN:VEVENT
DTSTAMP:20260420T192915Z
UID:37d96761-fc0c-4efc-b85a-7cfe87b502c7
DTSTART:20260422T153000
DTEND:20260422T163000
DESCRIPTION:
LOCATION:
SUMMARY:HS Staff Meeting 
END:VEVENT
BEGIN:VEVENT
DTSTAMP:20260420T192915Z
UID:d681e79e-1268-481e-8ea0-cc1de4bfcd31
DTSTART;VALUE=DATE:20260425
DTEND;VALUE=DATE:20260426
DESCRIPTION:
LOCATION:Treasure Valley Community College\, 650 College Blvd\, Ontario\, O
 R 97914\, USA
SUMMARY:FFA Vet Science Competition at TVCC
END:VEVENT
BEGIN:VEVENT
DTSTAMP:20260420T192915Z
UID:d93dd954-abf1-4222-a2f1-67c0ad14642f
DTSTART:20260428T120000
DTEND:20260428T130000
DESCRIPTION:
LOCATION:
SUMMARY:FBLA lunch meeting. Bring a lunch.
END:VEVENT
BEGIN:VEVENT
DTSTAMP:20260420T192915Z
UID:0f8822d0-7921-41da-9f78-826be55acfa5
DTSTART:20260429T080000
DTEND:20260429T130000
DESCRIPTION:
LOCATION:
SUMMARY:Stress Less Event 
END:VEVENT
BEGIN:VEVENT
DTSTAMP:20260420T192915Z
UID:bb0d8916-2f15-480c-8afc-2973475531b9
DTSTART:20260429T131500
DTEND:20260429T152500
DESCRIPTION:
LOCATION:
SUMMARY:Earth Day - Town Clean-Up
END:VEVENT
BEGIN:VEVENT
DTSTAMP:20260420T192915Z
UID:0b569e21-52e2-45a5-bf2c-ab5e54f4940c
DTSTART;VALUE=DATE:20260430
DTEND;VALUE=DATE:20260501
DESCRIPTION:
LOCATION:
SUMMARY:Senior Community Service and Work Experience  Deadline
END:VEVENT
BEGIN:VEVENT
DTSTAMP:20260420T192915Z
UID:84b514f6-2d50-478b-ae0f-3522dc229fe5
DTSTART:20260430T170000
DTEND:20260430T193000
DESCRIPTION:
LOCATION:S.E. Miller Gym
SUMMARY:Literacy Night
END:VEVENT
BEGIN:VEVENT
DTSTAMP:20260420T192915Z
UID:d886c5ba-757d-418a-a20d-2faa42fe2174
DTSTART;VALUE=DATE:20260504
DTEND;VALUE=DATE:20260505
DESCRIPTION:
LOCATION:
SUMMARY:Senior Deadline for Graduation
END:VEVENT
BEGIN:VEVENT
DTSTAMP:20260420T192915Z
UID:58ea74dd-f3c2-41ad-a9c6-00841dd44d0f
DTSTART;VALUE=DATE:20260506
DTEND;VALUE=DATE:20260507
DESCRIPTION:
LOCATION:
SUMMARY:Baccalaureate-Union Baptist
END:VEVENT
BEGIN:VEVENT
DTSTAMP:20260420T192915Z
UID:c72feb1b-b5f8-4e1a-a3fd-039a18f2c0e7
DTSTART:20260506T153000
DTEND:20260506T163000
DESCRIPTION:
LOCATION:
SUMMARY:HS Staff Meeting 
END:VEVENT
BEGIN:VEVENT
DTSTAMP:20260420T192915Z
UID:290a42c9-c6b1-4b9d-98a9-6d6cfd3ad5e0
DTSTART:20260507T080000
DTEND:20260507T090000
DESCRIPTION:
LOCATION:
SUMMARY:Elementary Yo Yo Assembly
END:VEVENT
BEGIN:VEVENT
DTSTAMP:20260420T192915Z
UID:5f640b4f-26c1-4218-b098-8dbbe260918f
DTSTART:20260513T153000
DTEND:20260513T163000
DESCRIPTION:
LOCATION:
SUMMARY:EL Staff Meeting 
END:VEVENT
BEGIN:VEVENT
DTSTAMP:20260420T192915Z
UID:aa90a3be-52fe-489f-b1c4-afecd2eba088
DTSTART:20260513T173000
DTEND:20260513T193000
DESCRIPTION:
LOCATION:
SUMMARY:Union FFA Chapter Banquet
END:VEVENT
BEGIN:VEVENT
DTSTAMP:20260420T192915Z
UID:46a81147-d438-4049-9b58-5dc5eed9e614
DTSTART:20260513T180000
DTEND:20260513T190000
DESCRIPTION:
LOCATION:
SUMMARY:School Board Meeting
END:VEVENT
BEGIN:VEVENT
DTSTAMP:20260420T192915Z
UID:964dba90-de14-499c-b2e3-59ffd7179b0c
DTSTART:20260520T084100
DTEND:20260520T120900
DESCRIPTION:
LOCATION:
SUMMARY:NHS Cemetery Clean-up 
END:VEVENT
BEGIN:VEVENT
DTSTAMP:20260420T192915Z
UID:6698a62e-405c-4d70-a431-3bf3f6d1b590
DTSTART:20260521T173000
DTEND:20260521T190000
DESCRIPTION:
LOCATION:
SUMMARY:Drive Thru BBQ
END:VEVENT
BEGIN:VEVENT
DTSTAMP:20260420T192915Z
UID:072301d5-7d54-47f3-94f3-2a27810a264f
DTSTART;VALUE=DATE:20260525
DTEND;VALUE=DATE:20260526
DESCRIPTION:
LOCATION:
SUMMARY:Memorial Day- No School
END:VEVENT
BEGIN:VEVENT
DTSTAMP:20260420T192915Z
UID:b88477f9-1a57-4461-9ede-517caa355e10
DTSTART;VALUE=DATE:20260526
DTEND;VALUE=DATE:20260527
DESCRIPTION:
LOCATION:
SUMMARY:Yearbook signing
END:VEVENT
BEGIN:VEVENT
DTSTAMP:20260420T192915Z
UID:07cf2e66-7acc-490c-a824-fb37fd1563c8
DTSTART:20260527T153000
DTEND:20260527T163000
DESCRIPTION:
LOCATION:
SUMMARY:EL Character Strong Meeting 
END:VEVENT
BEGIN:VEVENT
DTSTAMP:20260420T192915Z
UID:d31e5109-210b-4c5d-86c1-d3c81b697c06
DTSTART:20260527T180000
DTEND:20260527T190000
DESCRIPTION:
LOCATION:
SUMMARY:Spring Concert
END:VEVENT
BEGIN:VEVENT
DTSTAMP:20260420T192915Z
UID:902b9fa9-aee2-47c3-988d-484f87a4d020
DTSTART;VALUE=DATE:20260528
DTEND;VALUE=DATE:20260529
DESCRIPTION:
LOCATION:
SUMMARY:Seniors Last Day!!
END:VEVENT
BEGIN:VEVENT
DTSTAMP:20260420T192915Z
UID:4f92ff25-8191-4452-a3b5-92dc96d9cb22
DTSTART:20260529T080000
DTEND:20260529T120000
DESCRIPTION:
LOCATION:
SUMMARY:Teacher Access
END:VEVENT
BEGIN:VEVENT
DTSTAMP:20260420T192915Z
UID:9b9b39d5-729a-4d0e-ac21-148613c0933d
DTSTART;VALUE=DATE:20260605
DTEND;VALUE=DATE:20260606
DESCRIPTION:
LOCATION:
SUMMARY:Early Release\, last day of school
END:VEVENT
BEGIN:VEVENT
DTSTAMP:20260420T192915Z
UID:36230266-fac6-48b4-b322-5e0cc08ffe19
DTSTART:20260606T100000
DTEND:20260606T110000
DESCRIPTION:
LOCATION:
SUMMARY:Graduation 
END:VEVENT
BEGIN:VEVENT
DTSTAMP:20260420T192915Z
UID:d10fc44f-8860-4f91-8e6f-f05ea650c47e
DTSTART:20260608T080000
DTEND:20260608T120000
DESCRIPTION:
LOCATION:
SUMMARY:Teacher Access
END:VEVENT
BEGIN:VEVENT
DTSTAMP:20260420T192915Z
UID:7614556f-c8f5-4408-b71d-156e97591855
DTSTART;VALUE=DATE:20260917
DTEND;VALUE=DATE:20260918
DESCRIPTION:
LOCATION:
SUMMARY:Picture Day
END:VEVENT
BEGIN:VEVENT
DTSTAMP:20260420T192915Z
UID:3e27cd42-e3a2-4ce4-9d84-f0e0ce2f8746
DTSTART;VALUE=DATE:20261118
DTEND;VALUE=DATE:20261119
DESCRIPTION:
LOCATION:
SUMMARY:Picture re-takes
END:VEVENT
BEGIN:VEVENT
DTSTAMP:20260420T192915Z
UID:dbea2ec0-ae32-44b5-9232-040619b36e5a
DTSTART;VALUE=DATE:20270425
DTEND;VALUE=DATE:20270426
DESCRIPTION:
LOCATION:Treasure Valley Community College\, 650 College Blvd\, Ontario\, O
 R 97914\, USA
SUMMARY:FFA Vet Science Competition at TVCC
END:VEVENT
BEGIN:VEVENT
DTSTAMP:20260420T192915Z
UID:21619528-2c51-464c-a736-31e73aba7e13
DTSTART;VALUE=DATE:20270629
DTEND;VALUE=DATE:20270709
DESCRIPTION:
LOCATION:
SUMMARY:Dominican Republic Trip
END:VEVENT
BEGIN:VEVENT
DTSTAMP:20260420T192915Z
UID:57ad4770-2ff2-4862-a90a-87475618f799
DTSTART;VALUE=DATE:20280425
DTEND;VALUE=DATE:20280426
DESCRIPTION:
LOCATION:Treasure Valley Community College\, 650 College Blvd\, Ontario\, O
 R 97914\, USA
SUMMARY:FFA Vet Science Competition at TVCC
END:VEVENT
BEGIN:VEVENT
DTSTAMP:20260420T192915Z
UID:749392dd-c797-45fa-9650-cb7806944a38
DTSTART;VALUE=DATE:20290425
DTEND;VALUE=DATE:20290426
DESCRIPTION:
LOCATION:Treasure Valley Community College\, 650 College Blvd\, Ontario\, O
 R 97914\, USA
SUMMARY:FFA Vet Science Competition at TVCC
END:VEVENT
BEGIN:VEVENT
DTSTAMP:20260420T192915Z
UID:81320919-8cef-4fef-8315-1411acb03929
DTSTART;VALUE=DATE:20300425
DTEND;VALUE=DATE:20300426
DESCRIPTION:
LOCATION:Treasure Valley Community College\, 650 College Blvd\, Ontario\, O
 R 97914\, USA
SUMMARY:FFA Vet Science Competition at TVCC
END:VEVENT
BEGIN:VEVENT
DTSTAMP:20260420T192915Z
UID:cd9a11bb-ac25-4bc4-a6ea-98c7efc1299e
DTSTART;VALUE=DATE:20310425
DTEND;VALUE=DATE:20310426
DESCRIPTION:
LOCATION:Treasure Valley Community College\, 650 College Blvd\, Ontario\, O
 R 97914\, USA
SUMMARY:FFA Vet Science Competition at TVCC
END:VEVENT
BEGIN:VEVENT
DTSTAMP:20260420T192915Z
UID:b78cc706-d3a2-4d35-ba3c-2018f1ecc8b1
DTSTART;VALUE=DATE:20320425
DTEND;VALUE=DATE:20320426
DESCRIPTION:
LOCATION:Treasure Valley Community College\, 650 College Blvd\, Ontario\, O
 R 97914\, USA
SUMMARY:FFA Vet Science Competition at TVCC
END:VEVENT
BEGIN:VEVENT
DTSTAMP:20260420T192915Z
UID:c7b05b02-05c6-46e9-a3cf-5fa88faa76f8
DTSTART;VALUE=DATE:20330425
DTEND;VALUE=DATE:20330426
DESCRIPTION:
LOCATION:Treasure Valley Community College\, 650 College Blvd\, Ontario\, O
 R 97914\, USA
SUMMARY:FFA Vet Science Competition at TVCC
END:VEVENT
BEGIN:VEVENT
DTSTAMP:20260420T192915Z
UID:f4c83a76-1f9a-46f7-b438-81083c22d6e3
DTSTART;VALUE=DATE:20340425
DTEND;VALUE=DATE:20340426
DESCRIPTION:
LOCATION:Treasure Valley Community College\, 650 College Blvd\, Ontario\, O
 R 97914\, USA
SUMMARY:FFA Vet Science Competition at TVCC
END:VEVENT
BEGIN:VEVENT
DTSTAMP:20260420T192915Z
UID:346c1d29-58ce-4097-82d9-f1d9b5a8206c
DTSTART;VALUE=DATE:20350425
DTEND;VALUE=DATE:20350426
DESCRIPTION:
LOCATION:Treasure Valley Community College\, 650 College Blvd\, Ontario\, O
 R 97914\, USA
SUMMARY:FFA Vet Science Competition at TVCC
END:VEVENT
BEGIN:VEVENT
DTSTAMP:20260420T192915Z
UID:87de8276-1d18-409b-8764-6f016e69e7d1
DTSTART;VALUE=DATE:20360425
DTEND;VALUE=DATE:20360426
DESCRIPTION:
LOCATION:Treasure Valley Community College\, 650 College Blvd\, Ontario\, O
 R 97914\, USA
SUMMARY:FFA Vet Science Competition at TVCC
END:VEVENT
BEGIN:VEVENT
DTSTAMP:20260420T192915Z
UID:8e104a7b-0122-4d59-aeed-2cd360d9a51c
DTSTART;VALUE=DATE:20370425
DTEND;VALUE=DATE:20370426
DESCRIPTION:
LOCATION:Treasure Valley Community College\, 650 College Blvd\, Ontario\, O
 R 97914\, USA
SUMMARY:FFA Vet Science Competition at TVCC
END:VEVENT
BEGIN:VEVENT
DTSTAMP:20260420T192915Z
UID:1c841b36-57cb-430a-92ca-d498b6c909cf
DTSTART;VALUE=DATE:20380425
DTEND;VALUE=DATE:20380426
DESCRIPTION:
LOCATION:Treasure Valley Community College\, 650 College Blvd\, Ontario\, O
 R 97914\, USA
SUMMARY:FFA Vet Science Competition at TVCC
END:VEVENT
BEGIN:VEVENT
DTSTAMP:20260420T192915Z
UID:1180df21-02e1-4c68-bbc4-027416d6c561
DTSTART;VALUE=DATE:20390425
DTEND;VALUE=DATE:20390426
DESCRIPTION:
LOCATION:Treasure Valley Community College\, 650 College Blvd\, Ontario\, O
 R 97914\, USA
SUMMARY:FFA Vet Science Competition at TVCC
END:VEVENT
BEGIN:VEVENT
DTSTAMP:20260420T192915Z
UID:b049595b-5176-4a92-a1d7-22b0d92a1103
DTSTART;VALUE=DATE:20400425
DTEND;VALUE=DATE:20400426
DESCRIPTION:
LOCATION:Treasure Valley Community College\, 650 College Blvd\, Ontario\, O
 R 97914\, USA
SUMMARY:FFA Vet Science Competition at TVCC
END:VEVENT
BEGIN:VEVENT
DTSTAMP:20260420T192915Z
UID:31f587d1-d5a7-48a6-b980-b3b4d2069370
DTSTART;VALUE=DATE:20410425
DTEND;VALUE=DATE:20410426
DESCRIPTION:
LOCATION:Treasure Valley Community College\, 650 College Blvd\, Ontario\, O
 R 97914\, USA
SUMMARY:FFA Vet Science Competition at TVCC
END:VEVENT
BEGIN:VEVENT
DTSTAMP:20260420T192915Z
UID:9fcbb870-9686-4178-b891-cf995974cf1d
DTSTART;VALUE=DATE:20420425
DTEND;VALUE=DATE:20420426
DESCRIPTION:
LOCATION:Treasure Valley Community College\, 650 College Blvd\, Ontario\, O
 R 97914\, USA
SUMMARY:FFA Vet Science Competition at TVCC
END:VEVENT
BEGIN:VEVENT
DTSTAMP:20260420T192915Z
UID:81109ad5-bbb7-463f-ab49-fe4a7ae850af
DTSTART;VALUE=DATE:20430425
DTEND;VALUE=DATE:20430426
DESCRIPTION:
LOCATION:Treasure Valley Community College\, 650 College Blvd\, Ontario\, O
 R 97914\, USA
SUMMARY:FFA Vet Science Competition at TVCC
END:VEVENT
BEGIN:VEVENT
DTSTAMP:20260420T192915Z
UID:9e552d84-aaef-4994-9a3b-b0152c0bb791
DTSTART;VALUE=DATE:20440425
DTEND;VALUE=DATE:20440426
DESCRIPTION:
LOCATION:Treasure Valley Community College\, 650 College Blvd\, Ontario\, O
 R 97914\, USA
SUMMARY:FFA Vet Science Competition at TVCC
END:VEVENT
BEGIN:VEVENT
DTSTAMP:20260420T192915Z
UID:01a21335-fcc5-4555-8a6a-c1905175a1da
DTSTART;VALUE=DATE:20450425
DTEND;VALUE=DATE:20450426
DESCRIPTION:
LOCATION:Treasure Valley Community College\, 650 College Blvd\, Ontario\, O
 R 97914\, USA
SUMMARY:FFA Vet Science Competition at TVCC
END:VEVENT
BEGIN:VEVENT
DTSTAMP:20260420T192915Z
UID:53f3ff8e-b15e-4c22-9d44-8d54e6e8d8ba
DTSTART;VALUE=DATE:20460425
DTEND;VALUE=DATE:20460426
DESCRIPTION:
LOCATION:Treasure Valley Community College\, 650 College Blvd\, Ontario\, O
 R 97914\, USA
SUMMARY:FFA Vet Science Competition at TVCC
END:VEVENT
BEGIN:VEVENT
DTSTAMP:20260420T192915Z
UID:717af4ae-c416-4bd1-a83d-2d2e2664dedc
DTSTART;VALUE=DATE:20470425
DTEND;VALUE=DATE:20470426
DESCRIPTION:
LOCATION:Treasure Valley Community College\, 650 College Blvd\, Ontario\, O
 R 97914\, USA
SUMMARY:FFA Vet Science Competition at TVCC
END:VEVENT
BEGIN:VEVENT
DTSTAMP:20260420T192915Z
UID:129464ac-72de-4c07-8677-80a5272c1d2c
DTSTART;VALUE=DATE:20480425
DTEND;VALUE=DATE:20480426
DESCRIPTION:
LOCATION:Treasure Valley Community College\, 650 College Blvd\, Ontario\, O
 R 97914\, USA
SUMMARY:FFA Vet Science Competition at TVCC
END:VEVENT
BEGIN:VEVENT
DTSTAMP:20260420T192915Z
UID:e1527117-edfd-4443-994d-03e98cd16663
DTSTART;VALUE=DATE:20490425
DTEND;VALUE=DATE:20490426
DESCRIPTION:
LOCATION:Treasure Valley Community College\, 650 College Blvd\, Ontario\, O
 R 97914\, USA
SUMMARY:FFA Vet Science Competition at TVCC
END:VEVENT
BEGIN:VEVENT
DTSTAMP:20260420T192915Z
UID:09bbff61-c4cf-4e07-9a65-394a630c7b0f
DTSTART;VALUE=DATE:20500425
DTEND;VALUE=DATE:20500426
DESCRIPTION:
LOCATION:Treasure Valley Community College\, 650 College Blvd\, Ontario\, O
 R 97914\, USA
SUMMARY:FFA Vet Science Competition at TVCC
END:VEVENT
BEGIN:VEVENT
DTSTAMP:20260420T192915Z
UID:107b1fe7-d24e-4b29-acd0-a1333fe81e0e
DTSTART;VALUE=DATE:20510425
DTEND;VALUE=DATE:20510426
DESCRIPTION:
LOCATION:Treasure Valley Community College\, 650 College Blvd\, Ontario\, O
 R 97914\, USA
SUMMARY:FFA Vet Science Competition at TVCC
END:VEVENT
BEGIN:VEVENT
DTSTAMP:20260420T192915Z
UID:bc9e229a-7515-4e0b-ab3f-595fd86da768
DTSTART;VALUE=DATE:20520425
DTEND;VALUE=DATE:20520426
DESCRIPTION:
LOCATION:Treasure Valley Community College\, 650 College Blvd\, Ontario\, O
 R 97914\, USA
SUMMARY:FFA Vet Science Competition at TVCC
END:VEVENT
BEGIN:VEVENT
DTSTAMP:20260420T192915Z
UID:8dd75556-3968-48a1-8650-9627c93becbe
DTSTART;VALUE=DATE:20530425
DTEND;VALUE=DATE:20530426
DESCRIPTION:
LOCATION:Treasure Valley Community College\, 650 College Blvd\, Ontario\, O
 R 97914\, USA
SUMMARY:FFA Vet Science Competition at TVCC
END:VEVENT
BEGIN:VEVENT
DTSTAMP:20260420T192915Z
UID:98250fd6-ea25-43e3-bc19-298dd2dafcef
DTSTART;VALUE=DATE:20540425
DTEND;VALUE=DATE:20540426
DESCRIPTION:
LOCATION:Treasure Valley Community College\, 650 College Blvd\, Ontario\, O
 R 97914\, USA
SUMMARY:FFA Vet Science Competition at TVCC
END:VEVENT
BEGIN:VEVENT
DTSTAMP:20260420T192915Z
UID:977fed0c-721e-451e-8e5b-c1bf42170b34
DTSTART;VALUE=DATE:20550425
DTEND;VALUE=DATE:20550426
DESCRIPTION:
LOCATION:Treasure Valley Community College\, 650 College Blvd\, Ontario\, O
 R 97914\, USA
SUMMARY:FFA Vet Science Competition at TVCC
END:VEVENT
BEGIN:VEVENT
DTSTAMP:20260420T192915Z
UID:fabcfc9b-f066-46a2-a298-14a23a2a8f5c
DTSTART;VALUE=DATE:20560425
DTEND;VALUE=DATE:20560426
DESCRIPTION:
LOCATION:Treasure Valley Community College\, 650 College Blvd\, Ontario\, O
 R 97914\, USA
SUMMARY:FFA Vet Science Competition at TVCC
END:VEVENT
BEGIN:VEVENT
DTSTAMP:20260420T192915Z
UID:7092f15a-d628-410c-a03f-5305ac9ef519
DTSTART;VALUE=DATE:20570425
DTEND;VALUE=DATE:20570426
DESCRIPTION:
LOCATION:Treasure Valley Community College\, 650 College Blvd\, Ontario\, O
 R 97914\, USA
SUMMARY:FFA Vet Science Competition at TVCC
END:VEVENT
BEGIN:VEVENT
DTSTAMP:20260420T192915Z
UID:923e44bf-da4d-4f36-b5e9-9c614b3bb300
DTSTART;VALUE=DATE:20580425
DTEND;VALUE=DATE:20580426
DESCRIPTION:
LOCATION:Treasure Valley Community College\, 650 College Blvd\, Ontario\, O
 R 97914\, USA
SUMMARY:FFA Vet Science Competition at TVCC
END:VEVENT
BEGIN:VEVENT
DTSTAMP:20260420T192915Z
UID:18051f9e-1d10-47d0-878d-12bffd960717
DTSTART;VALUE=DATE:20590425
DTEND;VALUE=DATE:20590426
DESCRIPTION:
LOCATION:Treasure Valley Community College\, 650 College Blvd\, Ontario\, O
 R 97914\, USA
SUMMARY:FFA Vet Science Competition at TVCC
END:VEVENT
BEGIN:VEVENT
DTSTAMP:20260420T192915Z
UID:7972b3a2-719f-4010-9c05-dc7c56467e55
DTSTART;VALUE=DATE:20600425
DTEND;VALUE=DATE:20600426
DESCRIPTION:
LOCATION:Treasure Valley Community College\, 650 College Blvd\, Ontario\, O
 R 97914\, USA
SUMMARY:FFA Vet Science Competition at TVCC
END:VEVENT
BEGIN:VEVENT
DTSTAMP:20260420T192915Z
UID:83e4fde7-c030-432e-8aee-a1412355ec5f
DTSTART;VALUE=DATE:20610425
DTEND;VALUE=DATE:20610426
DESCRIPTION:
LOCATION:Treasure Valley Community College\, 650 College Blvd\, Ontario\, O
 R 97914\, USA
SUMMARY:FFA Vet Science Competition at TVCC
END:VEVENT
BEGIN:VEVENT
DTSTAMP:20260420T192915Z
UID:7df9d8a7-1405-43ae-b285-408f4290067f
DTSTART;VALUE=DATE:20620425
DTEND;VALUE=DATE:20620426
DESCRIPTION:
LOCATION:Treasure Valley Community College\, 650 College Blvd\, Ontario\, O
 R 97914\, USA
SUMMARY:FFA Vet Science Competition at TVCC
END:VEVENT
BEGIN:VEVENT
DTSTAMP:20260420T192915Z
UID:18ed9bb4-af3e-4ba3-b1f1-34a30f07f7c0
DTSTART;VALUE=DATE:20630425
DTEND;VALUE=DATE:20630426
DESCRIPTION:
LOCATION:Treasure Valley Community College\, 650 College Blvd\, Ontario\, O
 R 97914\, USA
SUMMARY:FFA Vet Science Competition at TVCC
END:VEVENT
BEGIN:VEVENT
DTSTAMP:20260420T192915Z
UID:14d3928b-153c-4bd7-8ee6-49e20dab255b
DTSTART;VALUE=DATE:20640425
DTEND;VALUE=DATE:20640426
DESCRIPTION:
LOCATION:Treasure Valley Community College\, 650 College Blvd\, Ontario\, O
 R 97914\, USA
SUMMARY:FFA Vet Science Competition at TVCC
END:VEVENT
BEGIN:VEVENT
DTSTAMP:20260420T192915Z
UID:2a06680d-7cb1-4187-bf19-4a6b4751577a
DTSTART;VALUE=DATE:20650425
DTEND;VALUE=DATE:20650426
DESCRIPTION:
LOCATION:Treasure Valley Community College\, 650 College Blvd\, Ontario\, O
 R 97914\, USA
SUMMARY:FFA Vet Science Competition at TVCC
END:VEVENT
BEGIN:VEVENT
DTSTAMP:20260420T192915Z
UID:2ecf21e0-de7d-4474-b7f6-9dbb43996257
DTSTART;VALUE=DATE:20660425
DTEND;VALUE=DATE:20660426
DESCRIPTION:
LOCATION:Treasure Valley Community College\, 650 College Blvd\, Ontario\, O
 R 97914\, USA
SUMMARY:FFA Vet Science Competition at TVCC
END:VEVENT
BEGIN:VEVENT
DTSTAMP:20260420T192915Z
UID:4337d634-48b0-4616-8b19-0bdd825745a8
DTSTART;VALUE=DATE:20670425
DTEND;VALUE=DATE:20670426
DESCRIPTION:
LOCATION:Treasure Valley Community College\, 650 College Blvd\, Ontario\, O
 R 97914\, USA
SUMMARY:FFA Vet Science Competition at TVCC
END:VEVENT
BEGIN:VEVENT
DTSTAMP:20260420T192915Z
UID:57cfbc0c-530e-4cab-bbf4-d5e77fe30134
DTSTART;VALUE=DATE:20680425
DTEND;VALUE=DATE:20680426
DESCRIPTION:
LOCATION:Treasure Valley Community College\, 650 College Blvd\, Ontario\, O
 R 97914\, USA
SUMMARY:FFA Vet Science Competition at TVCC
END:VEVENT
BEGIN:VEVENT
DTSTAMP:20260420T192915Z
UID:f2b5f50a-40b1-4e0f-b17e-5229bd560eb0
DTSTART;VALUE=DATE:20690425
DTEND;VALUE=DATE:20690426
DESCRIPTION:
LOCATION:Treasure Valley Community College\, 650 College Blvd\, Ontario\, O
 R 97914\, USA
SUMMARY:FFA Vet Science Competition at TVCC
END:VEVENT
BEGIN:VEVENT
DTSTAMP:20260420T192915Z
UID:b04cbd7e-ad31-47c9-8f65-60a015bf88f6
DTSTART;VALUE=DATE:20700425
DTEND;VALUE=DATE:20700426
DESCRIPTION:
LOCATION:Treasure Valley Community College\, 650 College Blvd\, Ontario\, O
 R 97914\, USA
SUMMARY:FFA Vet Science Competition at TVCC
END:VEVENT
BEGIN:VEVENT
DTSTAMP:20260420T192915Z
UID:7fbffada-82c4-41bb-95e2-f02d315f649e
DTSTART;VALUE=DATE:20710425
DTEND;VALUE=DATE:20710426
DESCRIPTION:
LOCATION:Treasure Valley Community College\, 650 College Blvd\, Ontario\, O
 R 97914\, USA
SUMMARY:FFA Vet Science Competition at TVCC
END:VEVENT
BEGIN:VEVENT
DTSTAMP:20260420T192915Z
UID:94ebbfd2-f279-4520-9477-0623aa594fd1
DTSTART;VALUE=DATE:20720425
DTEND;VALUE=DATE:20720426
DESCRIPTION:
LOCATION:Treasure Valley Community College\, 650 College Blvd\, Ontario\, O
 R 97914\, USA
SUMMARY:FFA Vet Science Competition at TVCC
END:VEVENT
BEGIN:VEVENT
DTSTAMP:20260420T192915Z
UID:9ae9647a-97e7-4ae6-afda-dccc4e5c06c1
DTSTART;VALUE=DATE:20730425
DTEND;VALUE=DATE:20730426
DESCRIPTION:
LOCATION:Treasure Valley Community College\, 650 College Blvd\, Ontario\, O
 R 97914\, USA
SUMMARY:FFA Vet Science Competition at TVCC
END:VEVENT
BEGIN:VEVENT
DTSTAMP:20260420T192915Z
UID:928e6d4f-01b3-420e-8231-b7e1c2f532a3
DTSTART;VALUE=DATE:20740425
DTEND;VALUE=DATE:20740426
DESCRIPTION:
LOCATION:Treasure Valley Community College\, 650 College Blvd\, Ontario\, O
 R 97914\, USA
SUMMARY:FFA Vet Science Competition at TVCC
END:VEVENT
BEGIN:VEVENT
DTSTAMP:20260420T192915Z
UID:6698661d-c8ef-49e2-8e38-dd8dce9d0ac4
DTSTART;VALUE=DATE:20750425
DTEND;VALUE=DATE:20750426
DESCRIPTION:
LOCATION:Treasure Valley Community College\, 650 College Blvd\, Ontario\, O
 R 97914\, USA
SUMMARY:FFA Vet Science Competition at TVCC
END:VEVENT
BEGIN:VEVENT
DTSTAMP:20260420T192915Z
UID:14e2d239-1f35-4b56-8b09-255bcd0980c7
DTSTART;VALUE=DATE:20760425
DTEND;VALUE=DATE:20760426
DESCRIPTION:
LOCATION:Treasure Valley Community College\, 650 College Blvd\, Ontario\, O
 R 97914\, USA
SUMMARY:FFA Vet Science Competition at TVCC
END:VEVENT
BEGIN:VEVENT
DTSTAMP:20260420T192915Z
UID:8c7e272d-0cc8-4547-9ccc-859f7e792709
DTSTART;VALUE=DATE:20770425
DTEND;VALUE=DATE:20770426
DESCRIPTION:
LOCATION:Treasure Valley Community College\, 650 College Blvd\, Ontario\, O
 R 97914\, USA
SUMMARY:FFA Vet Science Competition at TVCC
END:VEVENT
BEGIN:VEVENT
DTSTAMP:20260420T192915Z
UID:5182f586-9325-4671-8e37-9724439ca3cc
DTSTART;VALUE=DATE:20780425
DTEND;VALUE=DATE:20780426
DESCRIPTION:
LOCATION:Treasure Valley Community College\, 650 College Blvd\, Ontario\, O
 R 97914\, USA
SUMMARY:FFA Vet Science Competition at TVCC
END:VEVENT
BEGIN:VEVENT
DTSTAMP:20260420T192915Z
UID:6bd3c4ec-004d-40e8-b02e-d7ae2856edc1
DTSTART;VALUE=DATE:20790425
DTEND;VALUE=DATE:20790426
DESCRIPTION:
LOCATION:Treasure Valley Community College\, 650 College Blvd\, Ontario\, O
 R 97914\, USA
SUMMARY:FFA Vet Science Competition at TVCC
END:VEVENT
BEGIN:VEVENT
DTSTAMP:20260420T192915Z
UID:28942fc2-ce3b-40b0-9c1e-9bccb31bd170
DTSTART;VALUE=DATE:20800425
DTEND;VALUE=DATE:20800426
DESCRIPTION:
LOCATION:Treasure Valley Community College\, 650 College Blvd\, Ontario\, O
 R 97914\, USA
SUMMARY:FFA Vet Science Competition at TVCC
END:VEVENT
BEGIN:VEVENT
DTSTAMP:20260420T192915Z
UID:302a5d93-d06d-4315-a30a-7f04473b0503
DTSTART;VALUE=DATE:20810425
DTEND;VALUE=DATE:20810426
DESCRIPTION:
LOCATION:Treasure Valley Community College\, 650 College Blvd\, Ontario\, O
 R 97914\, USA
SUMMARY:FFA Vet Science Competition at TVCC
END:VEVENT
BEGIN:VEVENT
DTSTAMP:20260420T192915Z
UID:41f3cb74-f18f-48ff-b9db-2f341b0c9a96
DTSTART;VALUE=DATE:20820425
DTEND;VALUE=DATE:20820426
DESCRIPTION:
LOCATION:Treasure Valley Community College\, 650 College Blvd\, Ontario\, O
 R 97914\, USA
SUMMARY:FFA Vet Science Competition at TVCC
END:VEVENT
BEGIN:VEVENT
DTSTAMP:20260420T192915Z
UID:031595cb-16d7-4885-85c0-2c4161df47df
DTSTART;VALUE=DATE:20830425
DTEND;VALUE=DATE:20830426
DESCRIPTION:
LOCATION:Treasure Valley Community College\, 650 College Blvd\, Ontario\, O
 R 97914\, USA
SUMMARY:FFA Vet Science Competition at TVCC
END:VEVENT
BEGIN:VEVENT
DTSTAMP:20260420T192915Z
UID:42e0a2c4-360d-4bb0-bf2d-4b08af911df4
DTSTART;VALUE=DATE:20840425
DTEND;VALUE=DATE:20840426
DESCRIPTION:
LOCATION:Treasure Valley Community College\, 650 College Blvd\, Ontario\, O
 R 97914\, USA
SUMMARY:FFA Vet Science Competition at TVCC
END:VEVENT
BEGIN:VEVENT
DTSTAMP:20260420T192915Z
UID:0065bc60-8ad7-4670-b7fb-9394658bb306
DTSTART;VALUE=DATE:20850425
DTEND;VALUE=DATE:20850426
DESCRIPTION:
LOCATION:Treasure Valley Community College\, 650 College Blvd\, Ontario\, O
 R 97914\, USA
SUMMARY:FFA Vet Science Competition at TVCC
END:VEVENT
BEGIN:VEVENT
DTSTAMP:20260420T192915Z
UID:3b0a0f68-a7c9-4fc5-afbe-d0ba44d51736
DTSTART;VALUE=DATE:20860425
DTEND;VALUE=DATE:20860426
DESCRIPTION:
LOCATION:Treasure Valley Community College\, 650 College Blvd\, Ontario\, O
 R 97914\, USA
SUMMARY:FFA Vet Science Competition at TVCC
END:VEVENT
BEGIN:VEVENT
DTSTAMP:20260420T192915Z
UID:3888ffcc-306c-4f72-8d7e-9da1a4c0e47d
DTSTART;VALUE=DATE:20870425
DTEND;VALUE=DATE:20870426
DESCRIPTION:
LOCATION:Treasure Valley Community College\, 650 College Blvd\, Ontario\, O
 R 97914\, USA
SUMMARY:FFA Vet Science Competition at TVCC
END:VEVENT
BEGIN:VEVENT
DTSTAMP:20260420T192915Z
UID:24d6c134-893f-41f7-95a5-45eb44d046ce
DTSTART;VALUE=DATE:20880425
DTEND;VALUE=DATE:20880426
DESCRIPTION:
LOCATION:Treasure Valley Community College\, 650 College Blvd\, Ontario\, O
 R 97914\, USA
SUMMARY:FFA Vet Science Competition at TVCC
END:VEVENT
BEGIN:VEVENT
DTSTAMP:20260420T192915Z
UID:f6bdde65-a0f5-4072-9ba8-3966277226d8
DTSTART;VALUE=DATE:20890425
DTEND;VALUE=DATE:20890426
DESCRIPTION:
LOCATION:Treasure Valley Community College\, 650 College Blvd\, Ontario\, O
 R 97914\, USA
SUMMARY:FFA Vet Science Competition at TVCC
END:VEVENT
BEGIN:VEVENT
DTSTAMP:20260420T192915Z
UID:26c9520f-e6e9-4394-a2c8-0f7bc4e64ab5
DTSTART;VALUE=DATE:20900425
DTEND;VALUE=DATE:20900426
DESCRIPTION:
LOCATION:Treasure Valley Community College\, 650 College Blvd\, Ontario\, O
 R 97914\, USA
SUMMARY:FFA Vet Science Competition at TVCC
END:VEVENT
BEGIN:VEVENT
DTSTAMP:20260420T192915Z
UID:34fe4c31-1ceb-4638-b2b9-a21c4b4c85a0
DTSTART;VALUE=DATE:20910425
DTEND;VALUE=DATE:20910426
DESCRIPTION:
LOCATION:Treasure Valley Community College\, 650 College Blvd\, Ontario\, O
 R 97914\, USA
SUMMARY:FFA Vet Science Competition at TVCC
END:VEVENT
BEGIN:VEVENT
DTSTAMP:20260420T192915Z
UID:84a23a66-2317-4f80-ac01-844b96695ad4
DTSTART;VALUE=DATE:20920425
DTEND;VALUE=DATE:20920426
DESCRIPTION:
LOCATION:Treasure Valley Community College\, 650 College Blvd\, Ontario\, O
 R 97914\, USA
SUMMARY:FFA Vet Science Competition at TVCC
END:VEVENT
BEGIN:VEVENT
DTSTAMP:20260420T192915Z
UID:30ed1713-b8cb-4cab-8dd5-a318bc18f474
DTSTART;VALUE=DATE:20930425
DTEND;VALUE=DATE:20930426
DESCRIPTION:
LOCATION:Treasure Valley Community College\, 650 College Blvd\, Ontario\, O
 R 97914\, USA
SUMMARY:FFA Vet Science Competition at TVCC
END:VEVENT
BEGIN:VEVENT
DTSTAMP:20260420T192915Z
UID:05103070-87da-48da-a67a-320024346fa2
DTSTART;VALUE=DATE:20940425
DTEND;VALUE=DATE:20940426
DESCRIPTION:
LOCATION:Treasure Valley Community College\, 650 College Blvd\, Ontario\, O
 R 97914\, USA
SUMMARY:FFA Vet Science Competition at TVCC
END:VEVENT
BEGIN:VEVENT
DTSTAMP:20260420T192915Z
UID:e1c05efc-7df0-4f3d-a896-53537240b9a0
DTSTART;VALUE=DATE:20950425
DTEND;VALUE=DATE:20950426
DESCRIPTION:
LOCATION:Treasure Valley Community College\, 650 College Blvd\, Ontario\, O
 R 97914\, USA
SUMMARY:FFA Vet Science Competition at TVCC
END:VEVENT
BEGIN:VEVENT
DTSTAMP:20260420T192915Z
UID:82a3d619-ef04-42fd-b6a0-85c15f1b5ed1
DTSTART;VALUE=DATE:20960425
DTEND;VALUE=DATE:20960426
DESCRIPTION:
LOCATION:Treasure Valley Community College\, 650 College Blvd\, Ontario\, O
 R 97914\, USA
SUMMARY:FFA Vet Science Competition at TVCC
END:VEVENT
BEGIN:VEVENT
DTSTAMP:20260420T192915Z
UID:b1c32a72-ac1d-4812-a541-540b6567595e
DTSTART;VALUE=DATE:20970425
DTEND;VALUE=DATE:20970426
DESCRIPTION:
LOCATION:Treasure Valley Community College\, 650 College Blvd\, Ontario\, O
 R 97914\, USA
SUMMARY:FFA Vet Science Competition at TVCC
END:VEVENT
BEGIN:VEVENT
DTSTAMP:20260420T192915Z
UID:ce81b797-0fe0-4e19-beba-6b18a376d778
DTSTART;VALUE=DATE:20980425
DTEND;VALUE=DATE:20980426
DESCRIPTION:
LOCATION:Treasure Valley Community College\, 650 College Blvd\, Ontario\, O
 R 97914\, USA
SUMMARY:FFA Vet Science Competition at TVCC
END:VEVENT
BEGIN:VEVENT
DTSTAMP:20260420T192915Z
UID:b9b5448a-6dbe-4732-b5a2-082f8c9e446e
DTSTART;VALUE=DATE:20990425
DTEND;VALUE=DATE:20990426
DESCRIPTION:
LOCATION:Treasure Valley Community College\, 650 College Blvd\, Ontario\, O
 R 97914\, USA
SUMMARY:FFA Vet Science Competition at TVCC
END:VEVENT
END:VCALENDAR
