BEGIN:VCALENDAR
VERSION:2.0
PRODID:icalendar-ruby
CALSCALE:GREGORIAN
BEGIN:VTIMEZONE
TZID:America/New_York
BEGIN:DAYLIGHT
DTSTART:20260308T030000
TZOFFSETFROM:-0500
TZOFFSETTO:-0400
RRULE:FREQ=YEARLY;BYDAY=2SU;BYMONTH=3
TZNAME:EDT
END:DAYLIGHT
BEGIN:STANDARD
DTSTART:20261101T010000
TZOFFSETFROM:-0400
TZOFFSETTO:-0500
RRULE:FREQ=YEARLY;BYDAY=1SU;BYMONTH=11
TZNAME:EST
END:STANDARD
END:VTIMEZONE
BEGIN:VEVENT
DTSTAMP:20260419T153313Z
UID:87d930a9-fdf5-4a80-b476-8ff77474406f
DTSTART;VALUE=DATE:20260420
DTEND;VALUE=DATE:20260425
DESCRIPTION:
LOCATION:
SUMMARY:Spring Break - No School
END:VEVENT
BEGIN:VEVENT
DTSTAMP:20260419T153313Z
UID:31bc6242-8b85-4b78-a410-f43e995acf5e
DTSTART;VALUE=DATE:20260430
DTEND;VALUE=DATE:20260501
DESCRIPTION:
LOCATION:
SUMMARY:BPS - Spring Pictures
END:VEVENT
BEGIN:VEVENT
DTSTAMP:20260419T153313Z
UID:cae6ebcd-0894-40d1-966c-f565cf4fa6e3
DTSTART:20260430T183000
DTEND:20260430T193000
DESCRIPTION:
LOCATION:
SUMMARY:BMS - Spring Chorus Concert
END:VEVENT
BEGIN:VEVENT
DTSTAMP:20260419T153313Z
UID:fd527c22-3e12-49d4-8c05-845a9f881c7e
DTSTART;VALUE=DATE:20260501
DTEND;VALUE=DATE:20260502
DESCRIPTION:
LOCATION:
SUMMARY:BPS - Spring Pictures
END:VEVENT
BEGIN:VEVENT
DTSTAMP:20260419T153313Z
UID:86b328eb-4db3-476a-ad1d-c797f9627cca
DTSTART:20260502T090000
DTEND:20260502T150000
DESCRIPTION:
LOCATION:Biddeford High School Tiger Gym
SUMMARY:BHS Be The Change Craft Fair
END:VEVENT
BEGIN:VEVENT
DTSTAMP:20260419T153313Z
UID:16d74d66-3987-41fc-9049-cb3649c80c12
DTSTART:20260502T150000
DTEND:20260502T163000
DESCRIPTION:
LOCATION:BHS Little Theater
SUMMARY:BHS Hall of Honor Induction Ceremony
END:VEVENT
BEGIN:VEVENT
DTSTAMP:20260419T153313Z
UID:e62566de-3aab-4545-a47b-fc5a84788e9b
DTSTART:20260505T183000
DTEND:20260505T193000
DESCRIPTION:
LOCATION:BMS Performing Arts Center
SUMMARY:BMS - Spring Band Concert
END:VEVENT
BEGIN:VEVENT
DTSTAMP:20260419T153313Z
UID:8d8a727d-ebea-42f4-8db2-b078f2086f81
DTSTART;VALUE=DATE:20260506
DTEND;VALUE=DATE:20260507
DESCRIPTION:
LOCATION:
SUMMARY:Early Release
END:VEVENT
BEGIN:VEVENT
DTSTAMP:20260419T153313Z
UID:2432b85e-0561-41de-af8a-273d8f8325ba
DTSTART:20260507T183000
DTEND:20260507T193000
DESCRIPTION:
LOCATION:BMS Performing Arts Center
SUMMARY:BHS - Band & Chorus Concert
END:VEVENT
BEGIN:VEVENT
DTSTAMP:20260419T153313Z
UID:528cb76c-4485-4a1a-ae80-ab35515094c0
DTSTART;VALUE=DATE:20260508
DTEND;VALUE=DATE:20260509
DESCRIPTION:
LOCATION:
SUMMARY:York County Special Olympic Spring Games
END:VEVENT
BEGIN:VEVENT
DTSTAMP:20260419T153313Z
UID:6ba988b4-21e4-4af0-b933-012d32f0fc66
DTSTART;VALUE=DATE:20260514
DTEND;VALUE=DATE:20260515
DESCRIPTION:
LOCATION:
SUMMARY:BHS - Dental Clinic
END:VEVENT
BEGIN:VEVENT
DTSTAMP:20260419T153313Z
UID:b859d4cf-a354-4621-994b-95ee75c9bd15
DTSTART:20260516T190000
DTEND:20260516T220000
DESCRIPTION:
LOCATION:Rustic Dreams Barn & Venue\, 1413 Alfred St\, Lyman\, ME 04002\, U
 SA
SUMMARY:BHS - Prom (Tickets Required)
END:VEVENT
BEGIN:VEVENT
DTSTAMP:20260419T153313Z
UID:f28acdd7-9426-4959-b887-7ca0d3f2ce3d
DTSTART:20260519T180000
DTEND:20260519T193000
DESCRIPTION:
LOCATION:Biddeford Intermediate School\, 335 Hill St\, Biddeford\, ME 04005
 \, USA
SUMMARY:BIS - Band & Chorus Concert
END:VEVENT
BEGIN:VEVENT
DTSTAMP:20260419T153313Z
UID:7b2a0425-4a89-4ec8-89d8-831de31a2cf0
DTSTART;VALUE=DATE:20260525
DTEND;VALUE=DATE:20260526
DESCRIPTION:
LOCATION:
SUMMARY:Holiday - No School
END:VEVENT
BEGIN:VEVENT
DTSTAMP:20260419T153313Z
UID:85d69be2-483f-4eeb-9f30-36801962ac2d
DTSTART:20260528T180000
DTEND:20260528T200000
DESCRIPTION:
LOCATION:Biddeford Middle School\, 25 Tiger Dr\, Biddeford\, ME 04005\, USA
SUMMARY:COT - End-of-Year Ceremony
END:VEVENT
BEGIN:VEVENT
DTSTAMP:20260419T153313Z
UID:a44db753-4386-45d9-9deb-435aef24941f
DTSTART;VALUE=DATE:20260529
DTEND;VALUE=DATE:20260530
DESCRIPTION:
LOCATION:
SUMMARY:BHS - Seniors Last Day
END:VEVENT
BEGIN:VEVENT
DTSTAMP:20260419T153313Z
UID:a649818f-3c0d-41c3-9ec7-59466ca3b597
DTSTART:20260605T180000
DTEND:20260605T200000
DESCRIPTION:
LOCATION:Waterhouse Field\, Biddeford\, ME 04005\, USA
SUMMARY:BHS - Graduation
END:VEVENT
BEGIN:VEVENT
DTSTAMP:20260419T153313Z
UID:400d57e2-cf60-4ee0-9b41-65a202ec2e5a
DTSTART;VALUE=DATE:20260617
DTEND;VALUE=DATE:20260618
DESCRIPTION:
LOCATION:
SUMMARY:Tentative Last Day & Early Release (Pending Snow Days)
END:VEVENT
END:VCALENDAR
