BEGIN:VCALENDAR
VERSION:2.0
PRODID:icalendar-ruby
CALSCALE:GREGORIAN
BEGIN:VTIMEZONE
TZID:America/Chicago
BEGIN:DAYLIGHT
DTSTART:20260308T030000
TZOFFSETFROM:-0600
TZOFFSETTO:-0500
RRULE:FREQ=YEARLY;BYDAY=2SU;BYMONTH=3
TZNAME:CDT
END:DAYLIGHT
BEGIN:STANDARD
DTSTART:20261101T010000
TZOFFSETFROM:-0500
TZOFFSETTO:-0600
RRULE:FREQ=YEARLY;BYDAY=1SU;BYMONTH=11
TZNAME:CST
END:STANDARD
END:VTIMEZONE
BEGIN:VEVENT
DTSTAMP:20260426T011721Z
UID:1d16de7e-ec81-47b8-b7a0-b9b04757f180
DTSTART:20260504T080000
DTEND:20260504T090000
DESCRIPTION:
LOCATION:
SUMMARY:AP Biology Test in Big Gym
END:VEVENT
BEGIN:VEVENT
DTSTAMP:20260426T011721Z
UID:152b453e-0e25-4008-b701-77f5cc260e19
DTSTART:20260506T080000
DTEND:20260506T090000
DESCRIPTION:
LOCATION:
SUMMARY:AP English Literature Test in Big Gym
END:VEVENT
END:VCALENDAR
