BEGIN:VCALENDAR
VERSION:2.0
PRODID:icalendar-ruby
CALSCALE:GREGORIAN
BEGIN:VTIMEZONE
TZID:America/New_York
BEGIN:DAYLIGHT
DTSTART:20260308T030000
TZOFFSETFROM:-0500
TZOFFSETTO:-0400
RRULE:FREQ=YEARLY;BYDAY=2SU;BYMONTH=3
TZNAME:EDT
END:DAYLIGHT
BEGIN:STANDARD
DTSTART:20261101T010000
TZOFFSETFROM:-0400
TZOFFSETTO:-0500
RRULE:FREQ=YEARLY;BYDAY=1SU;BYMONTH=11
TZNAME:EST
END:STANDARD
END:VTIMEZONE
BEGIN:VEVENT
DTSTAMP:20260423T225953Z
UID:4d6da8cb-aff7-416a-a8b0-4dc2baa0732b
DTSTART;VALUE=DATE:20260423
DTEND;VALUE=DATE:20260424
DESCRIPTION:
LOCATION:
SUMMARY:Day 2
END:VEVENT
BEGIN:VEVENT
DTSTAMP:20260423T225953Z
UID:0d16b91f-3c10-4f3e-bc7c-85bb090512e3
DTSTART:20260423T170000
DTEND:20260423T180000
DESCRIPTION:
LOCATION:
SUMMARY:PTA Meeting in the Stump Library 
END:VEVENT
BEGIN:VEVENT
DTSTAMP:20260423T225953Z
UID:f6acdcfd-739b-46bc-8c15-5e6be8ee6431
DTSTART:20260423T183000
DTEND:20260423T193000
DESCRIPTION:
LOCATION:
SUMMARY:Kindergarten Music Performance and Art Show
END:VEVENT
BEGIN:VEVENT
DTSTAMP:20260423T225953Z
UID:8f1412a3-f10f-4dd5-9ef5-9fccafccd1d7
DTSTART;VALUE=DATE:20260424
DTEND;VALUE=DATE:20260425
DESCRIPTION:
LOCATION:
SUMMARY:Day 3
END:VEVENT
BEGIN:VEVENT
DTSTAMP:20260423T225953Z
UID:11ba2ac2-59d8-403d-bec7-991be7c361e6
DTSTART;VALUE=DATE:20260427
DTEND;VALUE=DATE:20260428
DESCRIPTION:
LOCATION:
SUMMARY:Day 4
END:VEVENT
BEGIN:VEVENT
DTSTAMP:20260423T225953Z
UID:45bc7c7f-09bc-4c89-968d-0c6e5eecf407
DTSTART;VALUE=DATE:20260428
DTEND;VALUE=DATE:20260429
DESCRIPTION:
LOCATION:
SUMMARY:Day 5
END:VEVENT
BEGIN:VEVENT
DTSTAMP:20260423T225953Z
UID:c29174ca-9c73-46ed-a3d6-9b4b9112518d
DTSTART;VALUE=DATE:20260429
DTEND;VALUE=DATE:20260430
DESCRIPTION:
LOCATION:
SUMMARY:Day 6
END:VEVENT
BEGIN:VEVENT
DTSTAMP:20260423T225953Z
UID:54599d1c-9061-4c48-be98-aaae38ebeebd
DTSTART;VALUE=DATE:20260430
DTEND;VALUE=DATE:20260501
DESCRIPTION:
LOCATION:
SUMMARY:Day 1
END:VEVENT
BEGIN:VEVENT
DTSTAMP:20260423T225953Z
UID:e9537815-74ce-4ff2-8072-7cedfe49d65d
DTSTART;VALUE=DATE:20260501
DTEND;VALUE=DATE:20260502
DESCRIPTION:
LOCATION:
SUMMARY:Day 2
END:VEVENT
BEGIN:VEVENT
DTSTAMP:20260423T225953Z
UID:40c9d44a-696c-4345-a4e1-a7e95b39b8fc
DTSTART;VALUE=DATE:20260504
DTEND;VALUE=DATE:20260505
DESCRIPTION:
LOCATION:
SUMMARY:Day 3
END:VEVENT
BEGIN:VEVENT
DTSTAMP:20260423T225953Z
UID:99e91a12-7903-4c5b-9aed-24a50bfd2094
DTSTART;VALUE=DATE:20260504
DTEND;VALUE=DATE:20260505
DESCRIPTION:
LOCATION:
SUMMARY:NO PRESCHOOL
END:VEVENT
BEGIN:VEVENT
DTSTAMP:20260423T225953Z
UID:a775bd41-f13c-4c12-bc6c-599b12c23cd7
DTSTART;VALUE=DATE:20260505
DTEND;VALUE=DATE:20260506
DESCRIPTION:
LOCATION:
SUMMARY:Day 4
END:VEVENT
BEGIN:VEVENT
DTSTAMP:20260423T225953Z
UID:5578a87a-9d32-48a5-b2f9-c50fbd6dbfac
DTSTART:20260505T160000
DTEND:20260505T183000
DESCRIPTION:Drop in for 3 free books and free pizza at the Augusta County L
 ibrary in Stuarts Draft!!
LOCATION:Stuarts Draft Library Station\, 2857 Stuarts Draft Hwy #107\, Stua
 rts Draft\, VA 24477\, USA
SUMMARY:SDES/SES Drop in at the Library Night
END:VEVENT
BEGIN:VEVENT
DTSTAMP:20260423T225953Z
UID:bda6b84f-d44a-4fda-97f0-22a285288715
DTSTART;VALUE=DATE:20260506
DTEND;VALUE=DATE:20260507
DESCRIPTION:
LOCATION:
SUMMARY:Day 5
END:VEVENT
BEGIN:VEVENT
DTSTAMP:20260423T225953Z
UID:a7fccb08-a465-4c83-9d0b-762e0b01714e
DTSTART;VALUE=DATE:20260507
DTEND;VALUE=DATE:20260508
DESCRIPTION:
LOCATION:
SUMMARY:Day 6
END:VEVENT
BEGIN:VEVENT
DTSTAMP:20260423T225953Z
UID:bd7eb46d-4d87-45a0-979d-88454424cfce
DTSTART;VALUE=DATE:20260508
DTEND;VALUE=DATE:20260509
DESCRIPTION:
LOCATION:
SUMMARY:Day 1
END:VEVENT
BEGIN:VEVENT
DTSTAMP:20260423T225953Z
UID:0838d6a1-6177-4bcc-a313-bb83d706a8f3
DTSTART;VALUE=DATE:20260511
DTEND;VALUE=DATE:20260512
DESCRIPTION:
LOCATION:
SUMMARY:Day 2
END:VEVENT
BEGIN:VEVENT
DTSTAMP:20260423T225953Z
UID:196b6b3b-06b8-45dd-a667-bcd48d2d99bf
DTSTART;VALUE=DATE:20260511
DTEND;VALUE=DATE:20260512
DESCRIPTION:
LOCATION:
SUMMARY:NO PRESCHOOL
END:VEVENT
BEGIN:VEVENT
DTSTAMP:20260423T225953Z
UID:6fd17836-ee01-462f-b50a-331d8fe72bdf
DTSTART;VALUE=DATE:20260512
DTEND;VALUE=DATE:20260513
DESCRIPTION:
LOCATION:
SUMMARY:Day 3
END:VEVENT
BEGIN:VEVENT
DTSTAMP:20260423T225953Z
UID:ac57762d-c4f7-4ae1-8887-ed26e97d442f
DTSTART;VALUE=DATE:20260513
DTEND;VALUE=DATE:20260514
DESCRIPTION:
LOCATION:
SUMMARY:Day 4
END:VEVENT
BEGIN:VEVENT
DTSTAMP:20260423T225953Z
UID:68172acc-21a5-4a7a-a5db-71a1cc84bfec
DTSTART;VALUE=DATE:20260514
DTEND;VALUE=DATE:20260515
DESCRIPTION:
LOCATION:
SUMMARY:Day 5
END:VEVENT
BEGIN:VEVENT
DTSTAMP:20260423T225953Z
UID:35b5045b-c4e9-48dd-a46a-40f3cb292c84
DTSTART;VALUE=DATE:20260515
DTEND;VALUE=DATE:20260516
DESCRIPTION:
LOCATION:
SUMMARY:Day 6
END:VEVENT
BEGIN:VEVENT
DTSTAMP:20260423T225953Z
UID:14d6a92c-d0f2-4547-8c14-865071d4a025
DTSTART;VALUE=DATE:20260518
DTEND;VALUE=DATE:20260519
DESCRIPTION:
LOCATION:
SUMMARY:Day 1
END:VEVENT
BEGIN:VEVENT
DTSTAMP:20260423T225953Z
UID:678f8387-c890-4f8f-9f45-e7c1ac4a4599
DTSTART;VALUE=DATE:20260519
DTEND;VALUE=DATE:20260520
DESCRIPTION:
LOCATION:
SUMMARY:Day 2
END:VEVENT
BEGIN:VEVENT
DTSTAMP:20260423T225953Z
UID:e66c5c5b-b5d1-4ac8-8a02-cdccff7eb6ee
DTSTART;VALUE=DATE:20260520
DTEND;VALUE=DATE:20260521
DESCRIPTION:
LOCATION:
SUMMARY:Day 3
END:VEVENT
BEGIN:VEVENT
DTSTAMP:20260423T225953Z
UID:493b8f51-4a15-45ac-aef7-26c03722ad3b
DTSTART;VALUE=DATE:20260521
DTEND;VALUE=DATE:20260522
DESCRIPTION:
LOCATION:
SUMMARY:Last Day of School- 1:00 PM Dismissal
END:VEVENT
BEGIN:VEVENT
DTSTAMP:20260423T225953Z
UID:3edcb5ae-1c9e-4654-89cc-6f4fee865a2a
DTSTART;VALUE=DATE:20260525
DTEND;VALUE=DATE:20260526
DESCRIPTION:
LOCATION:
SUMMARY:Holiday for All Employees- School offices closed
END:VEVENT
BEGIN:VEVENT
DTSTAMP:20260423T225953Z
UID:ef86c6d7-2b72-4867-aebd-cb2101e84028
DTSTART;VALUE=DATE:20260619
DTEND;VALUE=DATE:20260620
DESCRIPTION:
LOCATION:
SUMMARY:Holiday for All Employees-school offices closed
END:VEVENT
BEGIN:VEVENT
DTSTAMP:20260423T225953Z
UID:9cb64906-0e59-4c72-9736-acf98e9c6ed7
DTSTART;VALUE=DATE:20260703
DTEND;VALUE=DATE:20260704
DESCRIPTION:
LOCATION:
SUMMARY:Holiday for all employees- School offices closed
END:VEVENT
END:VCALENDAR
