BEGIN:VCALENDAR
VERSION:2.0
PRODID:icalendar-ruby
CALSCALE:GREGORIAN
BEGIN:VTIMEZONE
TZID:America/New_York
BEGIN:DAYLIGHT
DTSTART:20260308T030000
TZOFFSETFROM:-0500
TZOFFSETTO:-0400
RRULE:FREQ=YEARLY;BYDAY=2SU;BYMONTH=3
TZNAME:EDT
END:DAYLIGHT
BEGIN:STANDARD
DTSTART:20261101T010000
TZOFFSETFROM:-0400
TZOFFSETTO:-0500
RRULE:FREQ=YEARLY;BYDAY=1SU;BYMONTH=11
TZNAME:EST
END:STANDARD
END:VTIMEZONE
BEGIN:VEVENT
DTSTAMP:20260423T112142Z
UID:483862d9-96d6-477e-b974-728fcf930140
DTSTART:20260501T083000
DTEND:20260501T120000
DESCRIPTION:<p>Meeting will be in the Auditorium. </p><p>Bring your Chromeb
 ook/Device</p><p>Bring your Cap &amp\; Gown</p>
LOCATION:
SUMMARY:MANDATORY SENIOR GRADUATION MEETING
END:VEVENT
BEGIN:VEVENT
DTSTAMP:20260423T112142Z
UID:5e3a127a-a6e5-4bf7-8b8c-e793b7e2f8be
DTSTART:20260502T200000
DTEND:20260502T233000
DESCRIPTION:<p>Prom will be held at the Blackburn Inn.  </p><p>Senior Walk 
 is at 8:30pm</p>
LOCATION:301 Greenville Ave\, Staunton\, VA 24401\, USA
SUMMARY:PROM
END:VEVENT
BEGIN:VEVENT
DTSTAMP:20260423T112142Z
UID:395d3cc9-9b29-4bbd-99f6-22e22025f2e1
DTSTART:20260505T190000
DTEND:20260505T210000
DESCRIPTION:
LOCATION:
SUMMARY:Choir\, Guitar\, Piano Spring Concert 
END:VEVENT
BEGIN:VEVENT
DTSTAMP:20260423T112142Z
UID:7adffbd2-7848-4cf4-8a74-5215f727534f
DTSTART:20260507T190000
DTEND:20260507T210000
DESCRIPTION:
LOCATION:
SUMMARY:Band Spring Concert 
END:VEVENT
BEGIN:VEVENT
DTSTAMP:20260423T112142Z
UID:b36277e0-fa01-4a5a-b251-126e642d0f84
DTSTART:20260513T180000
DTEND:20260513T193000
DESCRIPTION:
LOCATION:
SUMMARY:Senior Awards Ceremony
END:VEVENT
BEGIN:VEVENT
DTSTAMP:20260423T112142Z
UID:8be9677a-7781-4801-87a3-aee9cb1e40d3
DTSTART:20260514T081500
DTEND:20260514T151000
DESCRIPTION:
LOCATION:
SUMMARY:Senior Final Exams - 1st and 3rd Blocks
END:VEVENT
BEGIN:VEVENT
DTSTAMP:20260423T112142Z
UID:0915e155-8725-4f3a-8fbe-c67bbd352d62
DTSTART:20260515T081500
DTEND:20260515T151000
DESCRIPTION:
LOCATION:
SUMMARY:Senior Final Exams - 2nd and 4th Blocks
END:VEVENT
BEGIN:VEVENT
DTSTAMP:20260423T112142Z
UID:86dc9ef2-dd89-4cc1-b9cf-535632f5e756
DTSTART:20260518T083000
DTEND:20260518T130000
DESCRIPTION:<p>**YOU MUST RIDE THE BUS FROM FDHS</p>
LOCATION:
SUMMARY:MANDATORY SENIOR GRADUATION PRACTICE
END:VEVENT
BEGIN:VEVENT
DTSTAMP:20260423T112142Z
UID:a796eba0-ada3-4dcc-bce8-a3000e88aaf5
DTSTART:20260518T190000
DTEND:20260518T200000
DESCRIPTION:<p>SENIORS ARRIVE BY 5:45PM</p><p>DOORS OPEN AT 6:00PM</p><p></
 p>
LOCATION:
SUMMARY:GRADUATION  @ Atlantic Union Bank Center
END:VEVENT
BEGIN:VEVENT
DTSTAMP:20260423T112142Z
UID:77fac65e-320f-4147-9319-ad998bf5df75
DTSTART:20260519T081500
DTEND:20260519T151000
DESCRIPTION:
LOCATION:
SUMMARY:Underclassman Final Exams 1st & 3rd Blocks
END:VEVENT
BEGIN:VEVENT
DTSTAMP:20260423T112142Z
UID:a327736d-6def-4816-8004-d38de4d7aaea
DTSTART:20260520T081500
DTEND:20260520T151000
DESCRIPTION:
LOCATION:
SUMMARY:Underclassman Final Exams 2nd & 4th Blocks
END:VEVENT
BEGIN:VEVENT
DTSTAMP:20260423T112142Z
UID:d363fff4-cdda-480b-926c-16ec0a2661d9
DTSTART;VALUE=DATE:20260521
DTEND;VALUE=DATE:20260522
DESCRIPTION:
LOCATION:
SUMMARY:LAST DAY OF SCHOOL - 1:00PM DISMISSAL
END:VEVENT
BEGIN:VEVENT
DTSTAMP:20260423T112142Z
UID:abd9d026-06da-4ec6-9f31-35cb49b8ef1d
DTSTART;VALUE=DATE:20260525
DTEND;VALUE=DATE:20260526
DESCRIPTION:
LOCATION:
SUMMARY:HOLIDAY FOR ALL EMPLOYEES
END:VEVENT
BEGIN:VEVENT
DTSTAMP:20260423T112142Z
UID:7c27b6e5-604f-4622-9960-cbc147cdf14b
DTSTART;VALUE=DATE:20260619
DTEND;VALUE=DATE:20260620
DESCRIPTION:
LOCATION:
SUMMARY:HOLIDAY FOR ALL EMPLOYEES
END:VEVENT
END:VCALENDAR
